{"text_format":"1","workbook":"xlsx","n_sheets":9,"sheets":["Sheet2","Summary","Raw","Step 1 - Full Search","Filter - Duplicate & Expiring","Filter - non relevant ","Step 2 - Filtered (Long List)","Qualify","Step 3 - Qualified"],"not_rendered":{"charts":0,"images":0,"macros":1,"external_links":0,"defined_names":14,"comments":0,"pivot_tables":0},"unopened":[],"bounds":{"document_bytes":16777216,"sheet_cells":100000,"rows_first":2000,"rows_last":500,"rows_between":2000,"halvings":0,"cell_chars":16384,"cell_head_chars":4096},"cells_cut":0,"cells_raw":0,"read":"whole","date_system":"1900"}

{"sheet":"Sheet2","index":0,"n_rows":0,"n_cols":0,"rows_kept":0,"cut":false,"hidden":true,"merged":[]}

{"sheet":"Summary","index":1,"n_rows":22,"n_cols":3,"rows_kept":22,"cut":false,"hidden":false,"merged":[[13,4,13,6],[14,4,18,6]]}
["Search & Selection Summary"]
["Requirement Owner","Stuart Hetherington "]
["Commercial Lead","Cheryl Davies"]
["Latest Cloud Version","G-Cloud 9"]
["USE LATEST PUBLISHED CLOUD VERSION ONLY?","YES"]
["Date Searches Took Place","2018-05-23"]
["Service Title e.g. \"Training Environment\"","Data Centre Management"]
[]
[null,"Searches","Suppliers"]
["Step 1 - Full Search",{"$f":"'Step 1 - Full Search'!I3","v":1},{"$f":"'Step 1 - Full Search'!I2","v":1}]
["MINUS - EXPIRING",{"$f":"'Filter - Duplicate & Expiring'!J2","v":1}]
["MINUS - DUPLICATES",{"$f":"'Filter - Duplicate & Expiring'!J1","v":0}]
["TOTAL Unique",{"$f":"'Filter - Duplicate & Expiring'!L1","v":0},{"$f":"'Filter - non relevant '!H3","v":0}]
["MINUS - Non- Relevant",{"$f":"'Filter - non relevant '!H1","v":0}]
["TOTAL REMAINING",{"$f":"'Filter - non relevant '!J1","v":0},{"$f":"'Step 2 - Filtered (Long List)'!F3","v":1}]
["Step 2 - Filtered"]
["Withdrawn",{"$f":"COUNTIF(Qualify!G6:G31,\"NO\")","v":0}]
["Qualify",{"$f":"COUNTIF(Qualify!F6:F31,\"YES\")","v":1}]
["Step 3 - Qualified",{"$f":"COUNTA('Step 3 - Qualified'!B6:B31)","v":1},{"$f":"'Step 3 - Qualified'!F3","v":1}]
[]
[]
["Any queries please click here"]

{"sheet":"Raw","index":2,"n_rows":19,"n_cols":1,"rows_kept":19,"cut":false,"hidden":false,"merged":[]}
[]
[]
[]
[]
[]
[]
[]
[]
[]
[]
[]
[]
[]
[]
[]
[]
[]
[]
[" PASTE INTO A20"]

{"sheet":"Step 1 - Full Search","index":3,"n_rows":7,"n_cols":11,"rows_kept":7,"cut":false,"hidden":false,"merged":[[3,0,3,1],[3,2,3,3]]}
[null,1,1,1]
[null,"Raw List",{"$f":"Summary!B7","v":"Data Centre Management"},{"$f":"Summary!B6","v":"2018-05-23"},null,null,null,"Total Suppliers",{"$f":"SUM(IF(FREQUENCY(IF(LEN(D7:D7136)>0,MATCH(D7:D7136,D7:D7136,0),\"\"), IF(LEN(D7:D7136)>0,MATCH(D7:D7136,D7:D7136,0),\"\"))>0,1))","v":1},"Total Services",{"$f":"SUM(IF(FREQUENCY(IF(LEN(C7:C7136)>0,MATCH(C7:C7136,C7:C7136,0),\"\"), IF(LEN(C7:C7136)>0,MATCH(C7:C7136,C7:C7136,0),\"\"))>0,1))","v":1}]
["Step 1 - Search",1,1,1,null,null,null,"Total Results",{"$f":"COUNTA(A7:A97135)","v":1}]
["The DMP was searched for all service offerings that included the following keywords/phrases",null,{"$f":"TRIM(ConcatUniq(A7:A7135, \" \"))","v":"Azure, Amazon Web Services, \"Managed Cloud Infrastructure\""}]
[1,1,1,1]
["Search Term","Cloud","Service Title","Supplier","Service ID"]
["Azure, Amazon Web Services, \"Managed Cloud Infrastructure\"",9,"Managed Cloud Infrastructure","Vysiion",913495630981500]

{"sheet":"Filter - Duplicate & Expiring","index":4,"n_rows":1401,"n_cols":12,"rows_kept":1401,"cut":false,"hidden":false,"merged":[[2,1,2,4]]}
[{"$f":"Summary!B4","v":"G-Cloud 9"},null,{"$f":"Summary!B7","v":"Data Centre Management"},null,{"$f":"Summary!B6","v":"2018-05-23"},null,1,null,"Duplicate",{"$f":"COUNTIF(G6:G6856,\"YES\")","v":0},"G5/Unique",{"$f":"COUNTIF(I6:I6856,\"NO\")","v":0}]
[{"$f":"Summary!B5","v":"YES"},null,null,null,null,null,1,null,"G4",{"$f":"COUNTIF(H6:H6856,\"EXPIRING\")","v":1}]
["Step 1 - Search","The DMP Service Titles were reviewed to remove expiring G-Cloud Framework and duplicate services]   [NB: Maximum contract length - 24mths]",null,null,null,null,1,null,null,null,{"$f":"Summary!B5","v":"YES"}]
[1,1,1,null,1,null,1,null,null,1]
["Search Term","Cloud","Service Title","Supplier","Service ID",null,"Duplicate?","Current Cloud?","FILTERED?"]
["Azure, Amazon Web Services, \"Managed Cloud Infrastructure\"",9,"Managed Cloud Infrastructure","Vysiion",913495630981500,null,"N",{"$f":"IF(B6=\"\",\"\", IF(VALUE(LEFT(B6,1))=A$1,\"\",IF(AND(A$2=\"Yes\",VALUE(LEFT(B6))<A$1),\"Expiring\",\"\")))","v":"Expiring"},{"$f":"IF(B6=\"\",\"\",IF(OR(G6=\"YES\",H6=\"EXPIRING\"),\"YES\",\"NO\"))","v":"YES"}]
[null,null,null,null,null,null,{"$f":"IF(E7=\"\",\"\",IF(COUNTIF(E:E,E7)>1,IF(COUNTIF(E$6:E7,E7)=1,\"\",\"YES\"),\"\"))","v":""},"",""]
[null,null,null,null,null,null,{"$f":"IF(E8=\"\",\"\",IF(COUNTIF(E:E,E8)>1,IF(COUNTIF(E$6:E8,E8)=1,\"\",\"YES\"),\"\"))","v":""},"",""]
[null,null,null,null,null,null,{"$f":"IF(E9=\"\",\"\",IF(COUNTIF(E:E,E9)>1,IF(COUNTIF(E$6:E9,E9)=1,\"\",\"YES\"),\"\"))","v":""},"",""]
[null,null,null,null,null,null,{"$f":"IF(E10=\"\",\"\",IF(COUNTIF(E:E,E10)>1,IF(COUNTIF(E$6:E10,E10)=1,\"\",\"YES\"),\"\"))","v":""},"",""]
[null,null,null,null,null,null,{"$f":"IF(E11=\"\",\"\",IF(COUNTIF(E:E,E11)>1,IF(COUNTIF(E$6:E11,E11)=1,\"\",\"YES\"),\"\"))","v":""},"",""]
[null,null,null,null,null,null,{"$f":"IF(E12=\"\",\"\",IF(COUNTIF(E:E,E12)>1,IF(COUNTIF(E$6:E12,E12)=1,\"\",\"YES\"),\"\"))","v":""},"",""]
[null,null,null,null,null,null,{"$f":"IF(E13=\"\",\"\",IF(COUNTIF(E:E,E13)>1,IF(COUNTIF(E$6:E13,E13)=1,\"\",\"YES\"),\"\"))","v":""},"",""]
[null,null,null,null,null,null,{"$f":"IF(E14=\"\",\"\",IF(COUNTIF(E:E,E14)>1,IF(COUNTIF(E$6:E14,E14)=1,\"\",\"YES\"),\"\"))","v":""},"",""]
[null,null,null,null,null,null,{"$f":"IF(E15=\"\",\"\",IF(COUNTIF(E:E,E15)>1,IF(COUNTIF(E$6:E15,E15)=1,\"\",\"YES\"),\"\"))","v":""},"",""]
[null,null,null,null,null,null,{"$f":"IF(E16=\"\",\"\",IF(COUNTIF(E:E,E16)>1,IF(COUNTIF(E$6:E16,E16)=1,\"\",\"YES\"),\"\"))","v":""},"",""]
[null,null,null,null,null,null,{"$f":"IF(E17=\"\",\"\",IF(COUNTIF(E:E,E17)>1,IF(COUNTIF(E$6:E17,E17)=1,\"\",\"YES\"),\"\"))","v":""},"",""]
[null,null,null,null,null,null,{"$f":"IF(E18=\"\",\"\",IF(COUNTIF(E:E,E18)>1,IF(COUNTIF(E$6:E18,E18)=1,\"\",\"YES\"),\"\"))","v":""},"",""]
[null,null,null,null,null,null,{"$f":"IF(E19=\"\",\"\",IF(COUNTIF(E:E,E19)>1,IF(COUNTIF(E$6:E19,E19)=1,\"\",\"YES\"),\"\"))","v":""},"",""]
[null,null,null,null,null,null,{"$f":"IF(E20=\"\",\"\",IF(COUNTIF(E:E,E20)>1,IF(COUNTIF(E$6:E20,E20)=1,\"\",\"YES\"),\"\"))","v":""},"",""]
[null,null,null,null,null,null,{"$f":"IF(E21=\"\",\"\",IF(COUNTIF(E:E,E21)>1,IF(COUNTIF(E$6:E21,E21)=1,\"\",\"YES\"),\"\"))","v":""},"",""]
[null,null,null,null,null,null,{"$f":"IF(E22=\"\",\"\",IF(COUNTIF(E:E,E22)>1,IF(COUNTIF(E$6:E22,E22)=1,\"\",\"YES\"),\"\"))","v":""},"",""]
[null,null,null,null,null,null,{"$f":"IF(E23=\"\",\"\",IF(COUNTIF(E:E,E23)>1,IF(COUNTIF(E$6:E23,E23)=1,\"\",\"YES\"),\"\"))","v":""},"",""]
[null,null,null,null,null,null,{"$f":"IF(E24=\"\",\"\",IF(COUNTIF(E:E,E24)>1,IF(COUNTIF(E$6:E24,E24)=1,\"\",\"YES\"),\"\"))","v":""},"",""]
[null,null,null,null,null,null,{"$f":"IF(E25=\"\",\"\",IF(COUNTIF(E:E,E25)>1,IF(COUNTIF(E$6:E25,E25)=1,\"\",\"YES\"),\"\"))","v":""},"",""]
[null,null,null,null,null,null,{"$f":"IF(E26=\"\",\"\",IF(COUNTIF(E:E,E26)>1,IF(COUNTIF(E$6:E26,E26)=1,\"\",\"YES\"),\"\"))","v":""},"",""]
[null,null,null,null,null,null,{"$f":"IF(E27=\"\",\"\",IF(COUNTIF(E:E,E27)>1,IF(COUNTIF(E$6:E27,E27)=1,\"\",\"YES\"),\"\"))","v":""},"",""]
[null,null,null,null,null,null,{"$f":"IF(E28=\"\",\"\",IF(COUNTIF(E:E,E28)>1,IF(COUNTIF(E$6:E28,E28)=1,\"\",\"YES\"),\"\"))","v":""},"",""]
[null,null,null,null,null,null,{"$f":"IF(E29=\"\",\"\",IF(COUNTIF(E:E,E29)>1,IF(COUNTIF(E$6:E29,E29)=1,\"\",\"YES\"),\"\"))","v":""},{"$f":"IF(B29=\"\",\"\", IF(VALUE(LEFT(B29,1))=A$1,\"\",IF(AND(A$2=\"Yes\",VALUE(LEFT(B29))<A$1),\"Expiring\",\"\")))","v":""},{"$f":"IF(B29=\"\",\"\",IF(OR(G29=\"YES\",H29=\"EXPIRING\"),\"YES\",\"NO\"))","v":""}]
[null,null,null,null,null,null,{"$f":"IF(E30=\"\",\"\",IF(COUNTIF(E:E,E30)>1,IF(COUNTIF(E$6:E30,E30)=1,\"\",\"YES\"),\"\"))","v":""},"",""]
[null,null,null,null,null,null,{"$f":"IF(E31=\"\",\"\",IF(COUNTIF(E:E,E31)>1,IF(COUNTIF(E$6:E31,E31)=1,\"\",\"YES\"),\"\"))","v":""},"",""]
[null,null,null,null,null,null,{"$f":"IF(E32=\"\",\"\",IF(COUNTIF(E:E,E32)>1,IF(COUNTIF(E$6:E32,E32)=1,\"\",\"YES\"),\"\"))","v":""},"",""]
[null,null,null,null,null,null,{"$f":"IF(E33=\"\",\"\",IF(COUNTIF(E:E,E33)>1,IF(COUNTIF(E$6:E33,E33)=1,\"\",\"YES\"),\"\"))","v":""},"",""]
[null,null,null,null,null,null,{"$f":"IF(E34=\"\",\"\",IF(COUNTIF(E:E,E34)>1,IF(COUNTIF(E$6:E34,E34)=1,\"\",\"YES\"),\"\"))","v":""},"",""]
[null,null,null,null,null,null,{"$f":"IF(E35=\"\",\"\",IF(COUNTIF(E:E,E35)>1,IF(COUNTIF(E$6:E35,E35)=1,\"\",\"YES\"),\"\"))","v":""},"",""]
[null,null,null,null,null,null,{"$f":"IF(E36=\"\",\"\",IF(COUNTIF(E:E,E36)>1,IF(COUNTIF(E$6:E36,E36)=1,\"\",\"YES\"),\"\"))","v":""},"",""]
[null,null,null,null,null,null,{"$f":"IF(E37=\"\",\"\",IF(COUNTIF(E:E,E37)>1,IF(COUNTIF(E$6:E37,E37)=1,\"\",\"YES\"),\"\"))","v":""},"",""]
[null,null,null,null,null,null,{"$f":"IF(E38=\"\",\"\",IF(COUNTIF(E:E,E38)>1,IF(COUNTIF(E$6:E38,E38)=1,\"\",\"YES\"),\"\"))","v":""},"",""]
[null,null,null,null,null,null,{"$f":"IF(E39=\"\",\"\",IF(COUNTIF(E:E,E39)>1,IF(COUNTIF(E$6:E39,E39)=1,\"\",\"YES\"),\"\"))","v":""},"",""]
[null,null,null,null,null,null,{"$f":"IF(E40=\"\",\"\",IF(COUNTIF(E:E,E40)>1,IF(COUNTIF(E$6:E40,E40)=1,\"\",\"YES\"),\"\"))","v":""},"",""]
[null,null,null,null,null,null,{"$f":"IF(E41=\"\",\"\",IF(COUNTIF(E:E,E41)>1,IF(COUNTIF(E$6:E41,E41)=1,\"\",\"YES\"),\"\"))","v":""},"",""]
[null,null,null,null,null,null,{"$f":"IF(E42=\"\",\"\",IF(COUNTIF(E:E,E42)>1,IF(COUNTIF(E$6:E42,E42)=1,\"\",\"YES\"),\"\"))","v":""},"",""]
[null,null,null,null,null,null,{"$f":"IF(E43=\"\",\"\",IF(COUNTIF(E:E,E43)>1,IF(COUNTIF(E$6:E43,E43)=1,\"\",\"YES\"),\"\"))","v":""},"",""]
[null,null,null,null,null,null,{"$f":"IF(E44=\"\",\"\",IF(COUNTIF(E:E,E44)>1,IF(COUNTIF(E$6:E44,E44)=1,\"\",\"YES\"),\"\"))","v":""},"",""]
[null,null,null,null,null,null,{"$f":"IF(E45=\"\",\"\",IF(COUNTIF(E:E,E45)>1,IF(COUNTIF(E$6:E45,E45)=1,\"\",\"YES\"),\"\"))","v":""},"",""]
[null,null,null,null,null,null,{"$f":"IF(E46=\"\",\"\",IF(COUNTIF(E:E,E46)>1,IF(COUNTIF(E$6:E46,E46)=1,\"\",\"YES\"),\"\"))","v":""},"",""]
[null,null,null,null,null,null,{"$f":"IF(E47=\"\",\"\",IF(COUNTIF(E:E,E47)>1,IF(COUNTIF(E$6:E47,E47)=1,\"\",\"YES\"),\"\"))","v":""},"",""]
[null,null,null,null,null,null,{"$f":"IF(E48=\"\",\"\",IF(COUNTIF(E:E,E48)>1,IF(COUNTIF(E$6:E48,E48)=1,\"\",\"YES\"),\"\"))","v":""},"",""]
[null,null,null,null,null,null,{"$f":"IF(E49=\"\",\"\",IF(COUNTIF(E:E,E49)>1,IF(COUNTIF(E$6:E49,E49)=1,\"\",\"YES\"),\"\"))","v":""},"",""]
[null,null,null,null,null,null,{"$f":"IF(E50=\"\",\"\",IF(COUNTIF(E:E,E50)>1,IF(COUNTIF(E$6:E50,E50)=1,\"\",\"YES\"),\"\"))","v":""},"",""]
[null,null,null,null,null,null,{"$f":"IF(E51=\"\",\"\",IF(COUNTIF(E:E,E51)>1,IF(COUNTIF(E$6:E51,E51)=1,\"\",\"YES\"),\"\"))","v":""},"",""]
[null,null,null,null,null,null,{"$f":"IF(E52=\"\",\"\",IF(COUNTIF(E:E,E52)>1,IF(COUNTIF(E$6:E52,E52)=1,\"\",\"YES\"),\"\"))","v":""},"",""]
[null,null,null,null,null,null,{"$f":"IF(E53=\"\",\"\",IF(COUNTIF(E:E,E53)>1,IF(COUNTIF(E$6:E53,E53)=1,\"\",\"YES\"),\"\"))","v":""},"",""]
[null,null,null,null,null,null,{"$f":"IF(E54=\"\",\"\",IF(COUNTIF(E:E,E54)>1,IF(COUNTIF(E$6:E54,E54)=1,\"\",\"YES\"),\"\"))","v":""},"",""]
[null,null,null,null,null,null,{"$f":"IF(E55=\"\",\"\",IF(COUNTIF(E:E,E55)>1,IF(COUNTIF(E$6:E55,E55)=1,\"\",\"YES\"),\"\"))","v":""},"",""]
[null,null,null,null,null,null,{"$f":"IF(E56=\"\",\"\",IF(COUNTIF(E:E,E56)>1,IF(COUNTIF(E$6:E56,E56)=1,\"\",\"YES\"),\"\"))","v":""},"",""]
[null,null,null,null,null,null,{"$f":"IF(E57=\"\",\"\",IF(COUNTIF(E:E,E57)>1,IF(COUNTIF(E$6:E57,E57)=1,\"\",\"YES\"),\"\"))","v":""},"",""]
[null,null,null,null,null,null,{"$f":"IF(E58=\"\",\"\",IF(COUNTIF(E:E,E58)>1,IF(COUNTIF(E$6:E58,E58)=1,\"\",\"YES\"),\"\"))","v":""},"",""]
[null,null,null,null,null,null,{"$f":"IF(E59=\"\",\"\",IF(COUNTIF(E:E,E59)>1,IF(COUNTIF(E$6:E59,E59)=1,\"\",\"YES\"),\"\"))","v":""},"",""]
[null,null,null,null,null,null,{"$f":"IF(E60=\"\",\"\",IF(COUNTIF(E:E,E60)>1,IF(COUNTIF(E$6:E60,E60)=1,\"\",\"YES\"),\"\"))","v":""},"",""]
[null,null,null,null,null,null,{"$f":"IF(E61=\"\",\"\",IF(COUNTIF(E:E,E61)>1,IF(COUNTIF(E$6:E61,E61)=1,\"\",\"YES\"),\"\"))","v":""},{"$f":"IF(B61=\"\",\"\", IF(VALUE(LEFT(B61,1))=A$1,\"\",IF(AND(A$2=\"Yes\",VALUE(LEFT(B61))<A$1),\"Expiring\",\"\")))","v":""},{"$f":"IF(B61=\"\",\"\",IF(OR(G61=\"YES\",H61=\"EXPIRING\"),\"YES\",\"NO\"))","v":""}]
[null,null,null,null,null,null,{"$f":"IF(E62=\"\",\"\",IF(COUNTIF(E:E,E62)>1,IF(COUNTIF(E$6:E62,E62)=1,\"\",\"YES\"),\"\"))","v":""},"",""]
[null,null,null,null,null,null,{"$f":"IF(E63=\"\",\"\",IF(COUNTIF(E:E,E63)>1,IF(COUNTIF(E$6:E63,E63)=1,\"\",\"YES\"),\"\"))","v":""},"",""]
[null,null,null,null,null,null,{"$f":"IF(E64=\"\",\"\",IF(COUNTIF(E:E,E64)>1,IF(COUNTIF(E$6:E64,E64)=1,\"\",\"YES\"),\"\"))","v":""},"",""]
[null,null,null,null,null,null,{"$f":"IF(E65=\"\",\"\",IF(COUNTIF(E:E,E65)>1,IF(COUNTIF(E$6:E65,E65)=1,\"\",\"YES\"),\"\"))","v":""},"",""]
[null,null,null,null,null,null,{"$f":"IF(E66=\"\",\"\",IF(COUNTIF(E:E,E66)>1,IF(COUNTIF(E$6:E66,E66)=1,\"\",\"YES\"),\"\"))","v":""},"",""]
[null,null,null,null,null,null,{"$f":"IF(E67=\"\",\"\",IF(COUNTIF(E:E,E67)>1,IF(COUNTIF(E$6:E67,E67)=1,\"\",\"YES\"),\"\"))","v":""},"",""]
[null,null,null,null,null,null,{"$f":"IF(E68=\"\",\"\",IF(COUNTIF(E:E,E68)>1,IF(COUNTIF(E$6:E68,E68)=1,\"\",\"YES\"),\"\"))","v":""},"",""]
[null,null,null,null,null,null,{"$f":"IF(E69=\"\",\"\",IF(COUNTIF(E:E,E69)>1,IF(COUNTIF(E$6:E69,E69)=1,\"\",\"YES\"),\"\"))","v":""},"",""]
[null,null,null,null,null,null,{"$f":"IF(E70=\"\",\"\",IF(COUNTIF(E:E,E70)>1,IF(COUNTIF(E$6:E70,E70)=1,\"\",\"YES\"),\"\"))","v":""},"",""]
[null,null,null,null,null,null,{"$f":"IF(E71=\"\",\"\",IF(COUNTIF(E:E,E71)>1,IF(COUNTIF(E$6:E71,E71)=1,\"\",\"YES\"),\"\"))","v":""},"",""]
[null,null,null,null,null,null,{"$f":"IF(E72=\"\",\"\",IF(COUNTIF(E:E,E72)>1,IF(COUNTIF(E$6:E72,E72)=1,\"\",\"YES\"),\"\"))","v":""},"",""]
[null,null,null,null,null,null,{"$f":"IF(E73=\"\",\"\",IF(COUNTIF(E:E,E73)>1,IF(COUNTIF(E$6:E73,E73)=1,\"\",\"YES\"),\"\"))","v":""},"",""]
[null,null,null,null,null,null,{"$f":"IF(E74=\"\",\"\",IF(COUNTIF(E:E,E74)>1,IF(COUNTIF(E$6:E74,E74)=1,\"\",\"YES\"),\"\"))","v":""},"",""]
[null,null,null,null,null,null,{"$f":"IF(E75=\"\",\"\",IF(COUNTIF(E:E,E75)>1,IF(COUNTIF(E$6:E75,E75)=1,\"\",\"YES\"),\"\"))","v":""},"",""]
[null,null,null,null,null,null,{"$f":"IF(E76=\"\",\"\",IF(COUNTIF(E:E,E76)>1,IF(COUNTIF(E$6:E76,E76)=1,\"\",\"YES\"),\"\"))","v":""},"",""]
[null,null,null,null,null,null,{"$f":"IF(E77=\"\",\"\",IF(COUNTIF(E:E,E77)>1,IF(COUNTIF(E$6:E77,E77)=1,\"\",\"YES\"),\"\"))","v":""},"",""]
[null,null,null,null,null,null,{"$f":"IF(E78=\"\",\"\",IF(COUNTIF(E:E,E78)>1,IF(COUNTIF(E$6:E78,E78)=1,\"\",\"YES\"),\"\"))","v":""},"",""]
[null,null,null,null,null,null,{"$f":"IF(E79=\"\",\"\",IF(COUNTIF(E:E,E79)>1,IF(COUNTIF(E$6:E79,E79)=1,\"\",\"YES\"),\"\"))","v":""},"",""]
[null,null,null,null,null,null,{"$f":"IF(E80=\"\",\"\",IF(COUNTIF(E:E,E80)>1,IF(COUNTIF(E$6:E80,E80)=1,\"\",\"YES\"),\"\"))","v":""},"",""]
[null,null,null,null,null,null,{"$f":"IF(E81=\"\",\"\",IF(COUNTIF(E:E,E81)>1,IF(COUNTIF(E$6:E81,E81)=1,\"\",\"YES\"),\"\"))","v":""},"",""]
[null,null,null,null,null,null,{"$f":"IF(E82=\"\",\"\",IF(COUNTIF(E:E,E82)>1,IF(COUNTIF(E$6:E82,E82)=1,\"\",\"YES\"),\"\"))","v":""},"",""]
[null,null,null,null,null,null,{"$f":"IF(E83=\"\",\"\",IF(COUNTIF(E:E,E83)>1,IF(COUNTIF(E$6:E83,E83)=1,\"\",\"YES\"),\"\"))","v":""},"",""]
[null,null,null,null,null,null,{"$f":"IF(E84=\"\",\"\",IF(COUNTIF(E:E,E84)>1,IF(COUNTIF(E$6:E84,E84)=1,\"\",\"YES\"),\"\"))","v":""},"",""]
[null,null,null,null,null,null,{"$f":"IF(E85=\"\",\"\",IF(COUNTIF(E:E,E85)>1,IF(COUNTIF(E$6:E85,E85)=1,\"\",\"YES\"),\"\"))","v":""},"",""]
[null,null,null,null,null,null,{"$f":"IF(E86=\"\",\"\",IF(COUNTIF(E:E,E86)>1,IF(COUNTIF(E$6:E86,E86)=1,\"\",\"YES\"),\"\"))","v":""},"",""]
[null,null,null,null,null,null,{"$f":"IF(E87=\"\",\"\",IF(COUNTIF(E:E,E87)>1,IF(COUNTIF(E$6:E87,E87)=1,\"\",\"YES\"),\"\"))","v":""},"",""]
[null,null,null,null,null,null,{"$f":"IF(E88=\"\",\"\",IF(COUNTIF(E:E,E88)>1,IF(COUNTIF(E$6:E88,E88)=1,\"\",\"YES\"),\"\"))","v":""},"",""]
[null,null,null,null,null,null,{"$f":"IF(E89=\"\",\"\",IF(COUNTIF(E:E,E89)>1,IF(COUNTIF(E$6:E89,E89)=1,\"\",\"YES\"),\"\"))","v":""},"",""]
[null,null,null,null,null,null,{"$f":"IF(E90=\"\",\"\",IF(COUNTIF(E:E,E90)>1,IF(COUNTIF(E$6:E90,E90)=1,\"\",\"YES\"),\"\"))","v":""},"",""]
[null,null,null,null,null,null,{"$f":"IF(E91=\"\",\"\",IF(COUNTIF(E:E,E91)>1,IF(COUNTIF(E$6:E91,E91)=1,\"\",\"YES\"),\"\"))","v":""},"",""]
[null,null,null,null,null,null,{"$f":"IF(E92=\"\",\"\",IF(COUNTIF(E:E,E92)>1,IF(COUNTIF(E$6:E92,E92)=1,\"\",\"YES\"),\"\"))","v":""},"",""]
[null,null,null,null,null,null,{"$f":"IF(E93=\"\",\"\",IF(COUNTIF(E:E,E93)>1,IF(COUNTIF(E$6:E93,E93)=1,\"\",\"YES\"),\"\"))","v":""},{"$f":"IF(B93=\"\",\"\", IF(VALUE(LEFT(B93,1))=A$1,\"\",IF(AND(A$2=\"Yes\",VALUE(LEFT(B93))<A$1),\"Expiring\",\"\")))","v":""},{"$f":"IF(B93=\"\",\"\",IF(OR(G93=\"YES\",H93=\"EXPIRING\"),\"YES\",\"NO\"))","v":""}]
[null,null,null,null,null,null,{"$f":"IF(E94=\"\",\"\",IF(COUNTIF(E:E,E94)>1,IF(COUNTIF(E$6:E94,E94)=1,\"\",\"YES\"),\"\"))","v":""},"",""]
[null,null,null,null,null,null,{"$f":"IF(E95=\"\",\"\",IF(COUNTIF(E:E,E95)>1,IF(COUNTIF(E$6:E95,E95)=1,\"\",\"YES\"),\"\"))","v":""},"",""]
[null,null,null,null,null,null,{"$f":"IF(E96=\"\",\"\",IF(COUNTIF(E:E,E96)>1,IF(COUNTIF(E$6:E96,E96)=1,\"\",\"YES\"),\"\"))","v":""},"",""]
[null,null,null,null,null,null,{"$f":"IF(E97=\"\",\"\",IF(COUNTIF(E:E,E97)>1,IF(COUNTIF(E$6:E97,E97)=1,\"\",\"YES\"),\"\"))","v":""},"",""]
[null,null,null,null,null,null,{"$f":"IF(E98=\"\",\"\",IF(COUNTIF(E:E,E98)>1,IF(COUNTIF(E$6:E98,E98)=1,\"\",\"YES\"),\"\"))","v":""},"",""]
[null,null,null,null,null,null,{"$f":"IF(E99=\"\",\"\",IF(COUNTIF(E:E,E99)>1,IF(COUNTIF(E$6:E99,E99)=1,\"\",\"YES\"),\"\"))","v":""},"",""]
[null,null,null,null,null,null,{"$f":"IF(E100=\"\",\"\",IF(COUNTIF(E:E,E100)>1,IF(COUNTIF(E$6:E100,E100)=1,\"\",\"YES\"),\"\"))","v":""},"",""]
[null,null,null,null,null,null,{"$f":"IF(E101=\"\",\"\",IF(COUNTIF(E:E,E101)>1,IF(COUNTIF(E$6:E101,E101)=1,\"\",\"YES\"),\"\"))","v":""},"",""]
[null,null,null,null,null,null,{"$f":"IF(E102=\"\",\"\",IF(COUNTIF(E:E,E102)>1,IF(COUNTIF(E$6:E102,E102)=1,\"\",\"YES\"),\"\"))","v":""},"",""]
[null,null,null,null,null,null,{"$f":"IF(E103=\"\",\"\",IF(COUNTIF(E:E,E103)>1,IF(COUNTIF(E$6:E103,E103)=1,\"\",\"YES\"),\"\"))","v":""},"",""]
[null,null,null,null,null,null,{"$f":"IF(E104=\"\",\"\",IF(COUNTIF(E:E,E104)>1,IF(COUNTIF(E$6:E104,E104)=1,\"\",\"YES\"),\"\"))","v":""},"",""]
[null,null,null,null,null,null,{"$f":"IF(E105=\"\",\"\",IF(COUNTIF(E:E,E105)>1,IF(COUNTIF(E$6:E105,E105)=1,\"\",\"YES\"),\"\"))","v":""},"",""]
[null,null,null,null,null,null,{"$f":"IF(E106=\"\",\"\",IF(COUNTIF(E:E,E106)>1,IF(COUNTIF(E$6:E106,E106)=1,\"\",\"YES\"),\"\"))","v":""},"",""]
[null,null,null,null,null,null,{"$f":"IF(E107=\"\",\"\",IF(COUNTIF(E:E,E107)>1,IF(COUNTIF(E$6:E107,E107)=1,\"\",\"YES\"),\"\"))","v":""},"",""]
[null,null,null,null,null,null,{"$f":"IF(E108=\"\",\"\",IF(COUNTIF(E:E,E108)>1,IF(COUNTIF(E$6:E108,E108)=1,\"\",\"YES\"),\"\"))","v":""},"",""]
[null,null,null,null,null,null,{"$f":"IF(E109=\"\",\"\",IF(COUNTIF(E:E,E109)>1,IF(COUNTIF(E$6:E109,E109)=1,\"\",\"YES\"),\"\"))","v":""},"",""]
[null,null,null,null,null,null,{"$f":"IF(E110=\"\",\"\",IF(COUNTIF(E:E,E110)>1,IF(COUNTIF(E$6:E110,E110)=1,\"\",\"YES\"),\"\"))","v":""},"",""]
[null,null,null,null,null,null,{"$f":"IF(E111=\"\",\"\",IF(COUNTIF(E:E,E111)>1,IF(COUNTIF(E$6:E111,E111)=1,\"\",\"YES\"),\"\"))","v":""},"",""]
[null,null,null,null,null,null,{"$f":"IF(E112=\"\",\"\",IF(COUNTIF(E:E,E112)>1,IF(COUNTIF(E$6:E112,E112)=1,\"\",\"YES\"),\"\"))","v":""},"",""]
[null,null,null,null,null,null,{"$f":"IF(E113=\"\",\"\",IF(COUNTIF(E:E,E113)>1,IF(COUNTIF(E$6:E113,E113)=1,\"\",\"YES\"),\"\"))","v":""},"",""]
[null,null,null,null,null,null,{"$f":"IF(E114=\"\",\"\",IF(COUNTIF(E:E,E114)>1,IF(COUNTIF(E$6:E114,E114)=1,\"\",\"YES\"),\"\"))","v":""},"",""]
[null,null,null,null,null,null,{"$f":"IF(E115=\"\",\"\",IF(COUNTIF(E:E,E115)>1,IF(COUNTIF(E$6:E115,E115)=1,\"\",\"YES\"),\"\"))","v":""},"",""]
[null,null,null,null,null,null,{"$f":"IF(E116=\"\",\"\",IF(COUNTIF(E:E,E116)>1,IF(COUNTIF(E$6:E116,E116)=1,\"\",\"YES\"),\"\"))","v":""},"",""]
[null,null,null,null,null,null,{"$f":"IF(E117=\"\",\"\",IF(COUNTIF(E:E,E117)>1,IF(COUNTIF(E$6:E117,E117)=1,\"\",\"YES\"),\"\"))","v":""},"",""]
[null,null,null,null,null,null,{"$f":"IF(E118=\"\",\"\",IF(COUNTIF(E:E,E118)>1,IF(COUNTIF(E$6:E118,E118)=1,\"\",\"YES\"),\"\"))","v":""},"",""]
[null,null,null,null,null,null,{"$f":"IF(E119=\"\",\"\",IF(COUNTIF(E:E,E119)>1,IF(COUNTIF(E$6:E119,E119)=1,\"\",\"YES\"),\"\"))","v":""},"",""]
[null,null,null,null,null,null,{"$f":"IF(E120=\"\",\"\",IF(COUNTIF(E:E,E120)>1,IF(COUNTIF(E$6:E120,E120)=1,\"\",\"YES\"),\"\"))","v":""},"",""]
[null,null,null,null,null,null,{"$f":"IF(E121=\"\",\"\",IF(COUNTIF(E:E,E121)>1,IF(COUNTIF(E$6:E121,E121)=1,\"\",\"YES\"),\"\"))","v":""},"",""]
[null,null,null,null,null,null,{"$f":"IF(E122=\"\",\"\",IF(COUNTIF(E:E,E122)>1,IF(COUNTIF(E$6:E122,E122)=1,\"\",\"YES\"),\"\"))","v":""},"",""]
[null,null,null,null,null,null,{"$f":"IF(E123=\"\",\"\",IF(COUNTIF(E:E,E123)>1,IF(COUNTIF(E$6:E123,E123)=1,\"\",\"YES\"),\"\"))","v":""},"",""]
[null,null,null,null,null,null,{"$f":"IF(E124=\"\",\"\",IF(COUNTIF(E:E,E124)>1,IF(COUNTIF(E$6:E124,E124)=1,\"\",\"YES\"),\"\"))","v":""},"",""]
[null,null,null,null,null,null,{"$f":"IF(E125=\"\",\"\",IF(COUNTIF(E:E,E125)>1,IF(COUNTIF(E$6:E125,E125)=1,\"\",\"YES\"),\"\"))","v":""},{"$f":"IF(B125=\"\",\"\", IF(VALUE(LEFT(B125,1))=A$1,\"\",IF(AND(A$2=\"Yes\",VALUE(LEFT(B125))<A$1),\"Expiring\",\"\")))","v":""},{"$f":"IF(B125=\"\",\"\",IF(OR(G125=\"YES\",H125=\"EXPIRING\"),\"YES\",\"NO\"))","v":""}]
[null,null,null,null,null,null,{"$f":"IF(E126=\"\",\"\",IF(COUNTIF(E:E,E126)>1,IF(COUNTIF(E$6:E126,E126)=1,\"\",\"YES\"),\"\"))","v":""},"",""]
[null,null,null,null,null,null,{"$f":"IF(E127=\"\",\"\",IF(COUNTIF(E:E,E127)>1,IF(COUNTIF(E$6:E127,E127)=1,\"\",\"YES\"),\"\"))","v":""},"",""]
[null,null,null,null,null,null,{"$f":"IF(E128=\"\",\"\",IF(COUNTIF(E:E,E128)>1,IF(COUNTIF(E$6:E128,E128)=1,\"\",\"YES\"),\"\"))","v":""},"",""]
[null,null,null,null,null,null,{"$f":"IF(E129=\"\",\"\",IF(COUNTIF(E:E,E129)>1,IF(COUNTIF(E$6:E129,E129)=1,\"\",\"YES\"),\"\"))","v":""},"",""]
[null,null,null,null,null,null,{"$f":"IF(E130=\"\",\"\",IF(COUNTIF(E:E,E130)>1,IF(COUNTIF(E$6:E130,E130)=1,\"\",\"YES\"),\"\"))","v":""},"",""]
[null,null,null,null,null,null,{"$f":"IF(E131=\"\",\"\",IF(COUNTIF(E:E,E131)>1,IF(COUNTIF(E$6:E131,E131)=1,\"\",\"YES\"),\"\"))","v":""},"",""]
[null,null,null,null,null,null,{"$f":"IF(E132=\"\",\"\",IF(COUNTIF(E:E,E132)>1,IF(COUNTIF(E$6:E132,E132)=1,\"\",\"YES\"),\"\"))","v":""},"",""]
[null,null,null,null,null,null,{"$f":"IF(E133=\"\",\"\",IF(COUNTIF(E:E,E133)>1,IF(COUNTIF(E$6:E133,E133)=1,\"\",\"YES\"),\"\"))","v":""},"",""]
[null,null,null,null,null,null,{"$f":"IF(E134=\"\",\"\",IF(COUNTIF(E:E,E134)>1,IF(COUNTIF(E$6:E134,E134)=1,\"\",\"YES\"),\"\"))","v":""},"",""]
[null,null,null,null,null,null,{"$f":"IF(E135=\"\",\"\",IF(COUNTIF(E:E,E135)>1,IF(COUNTIF(E$6:E135,E135)=1,\"\",\"YES\"),\"\"))","v":""},"",""]
[null,null,null,null,null,null,{"$f":"IF(E136=\"\",\"\",IF(COUNTIF(E:E,E136)>1,IF(COUNTIF(E$6:E136,E136)=1,\"\",\"YES\"),\"\"))","v":""},"",""]
[null,null,null,null,null,null,{"$f":"IF(E137=\"\",\"\",IF(COUNTIF(E:E,E137)>1,IF(COUNTIF(E$6:E137,E137)=1,\"\",\"YES\"),\"\"))","v":""},"",""]
[null,null,null,null,null,null,{"$f":"IF(E138=\"\",\"\",IF(COUNTIF(E:E,E138)>1,IF(COUNTIF(E$6:E138,E138)=1,\"\",\"YES\"),\"\"))","v":""},"",""]
[null,null,null,null,null,null,{"$f":"IF(E139=\"\",\"\",IF(COUNTIF(E:E,E139)>1,IF(COUNTIF(E$6:E139,E139)=1,\"\",\"YES\"),\"\"))","v":""},"",""]
[null,null,null,null,null,null,{"$f":"IF(E140=\"\",\"\",IF(COUNTIF(E:E,E140)>1,IF(COUNTIF(E$6:E140,E140)=1,\"\",\"YES\"),\"\"))","v":""},"",""]
[null,null,null,null,null,null,{"$f":"IF(E141=\"\",\"\",IF(COUNTIF(E:E,E141)>1,IF(COUNTIF(E$6:E141,E141)=1,\"\",\"YES\"),\"\"))","v":""},"",""]
[null,null,null,null,null,null,{"$f":"IF(E142=\"\",\"\",IF(COUNTIF(E:E,E142)>1,IF(COUNTIF(E$6:E142,E142)=1,\"\",\"YES\"),\"\"))","v":""},"",""]
[null,null,null,null,null,null,{"$f":"IF(E143=\"\",\"\",IF(COUNTIF(E:E,E143)>1,IF(COUNTIF(E$6:E143,E143)=1,\"\",\"YES\"),\"\"))","v":""},"",""]
[null,null,null,null,null,null,{"$f":"IF(E144=\"\",\"\",IF(COUNTIF(E:E,E144)>1,IF(COUNTIF(E$6:E144,E144)=1,\"\",\"YES\"),\"\"))","v":""},"",""]
[null,null,null,null,null,null,{"$f":"IF(E145=\"\",\"\",IF(COUNTIF(E:E,E145)>1,IF(COUNTIF(E$6:E145,E145)=1,\"\",\"YES\"),\"\"))","v":""},"",""]
[null,null,null,null,null,null,{"$f":"IF(E146=\"\",\"\",IF(COUNTIF(E:E,E146)>1,IF(COUNTIF(E$6:E146,E146)=1,\"\",\"YES\"),\"\"))","v":""},"",""]
[null,null,null,null,null,null,{"$f":"IF(E147=\"\",\"\",IF(COUNTIF(E:E,E147)>1,IF(COUNTIF(E$6:E147,E147)=1,\"\",\"YES\"),\"\"))","v":""},"",""]
[null,null,null,null,null,null,{"$f":"IF(E148=\"\",\"\",IF(COUNTIF(E:E,E148)>1,IF(COUNTIF(E$6:E148,E148)=1,\"\",\"YES\"),\"\"))","v":""},"",""]
[null,null,null,null,null,null,{"$f":"IF(E149=\"\",\"\",IF(COUNTIF(E:E,E149)>1,IF(COUNTIF(E$6:E149,E149)=1,\"\",\"YES\"),\"\"))","v":""},"",""]
[null,null,null,null,null,null,{"$f":"IF(E150=\"\",\"\",IF(COUNTIF(E:E,E150)>1,IF(COUNTIF(E$6:E150,E150)=1,\"\",\"YES\"),\"\"))","v":""},"",""]
[null,null,null,null,null,null,{"$f":"IF(E151=\"\",\"\",IF(COUNTIF(E:E,E151)>1,IF(COUNTIF(E$6:E151,E151)=1,\"\",\"YES\"),\"\"))","v":""},"",""]
[null,null,null,null,null,null,{"$f":"IF(E152=\"\",\"\",IF(COUNTIF(E:E,E152)>1,IF(COUNTIF(E$6:E152,E152)=1,\"\",\"YES\"),\"\"))","v":""},"",""]
[null,null,null,null,null,null,{"$f":"IF(E153=\"\",\"\",IF(COUNTIF(E:E,E153)>1,IF(COUNTIF(E$6:E153,E153)=1,\"\",\"YES\"),\"\"))","v":""},"",""]
[null,null,null,null,null,null,{"$f":"IF(E154=\"\",\"\",IF(COUNTIF(E:E,E154)>1,IF(COUNTIF(E$6:E154,E154)=1,\"\",\"YES\"),\"\"))","v":""},"",""]
[null,null,null,null,null,null,{"$f":"IF(E155=\"\",\"\",IF(COUNTIF(E:E,E155)>1,IF(COUNTIF(E$6:E155,E155)=1,\"\",\"YES\"),\"\"))","v":""},"",""]
[null,null,null,null,null,null,{"$f":"IF(E156=\"\",\"\",IF(COUNTIF(E:E,E156)>1,IF(COUNTIF(E$6:E156,E156)=1,\"\",\"YES\"),\"\"))","v":""},"",""]
[null,null,null,null,null,null,{"$f":"IF(E157=\"\",\"\",IF(COUNTIF(E:E,E157)>1,IF(COUNTIF(E$6:E157,E157)=1,\"\",\"YES\"),\"\"))","v":""},{"$f":"IF(B157=\"\",\"\", IF(VALUE(LEFT(B157,1))=A$1,\"\",IF(AND(A$2=\"Yes\",VALUE(LEFT(B157))<A$1),\"Expiring\",\"\")))","v":""},{"$f":"IF(B157=\"\",\"\",IF(OR(G157=\"YES\",H157=\"EXPIRING\"),\"YES\",\"NO\"))","v":""}]
[null,null,null,null,null,null,{"$f":"IF(E158=\"\",\"\",IF(COUNTIF(E:E,E158)>1,IF(COUNTIF(E$6:E158,E158)=1,\"\",\"YES\"),\"\"))","v":""},"",""]
[null,null,null,null,null,null,{"$f":"IF(E159=\"\",\"\",IF(COUNTIF(E:E,E159)>1,IF(COUNTIF(E$6:E159,E159)=1,\"\",\"YES\"),\"\"))","v":""},"",""]
[null,null,null,null,null,null,{"$f":"IF(E160=\"\",\"\",IF(COUNTIF(E:E,E160)>1,IF(COUNTIF(E$6:E160,E160)=1,\"\",\"YES\"),\"\"))","v":""},"",""]
[null,null,null,null,null,null,{"$f":"IF(E161=\"\",\"\",IF(COUNTIF(E:E,E161)>1,IF(COUNTIF(E$6:E161,E161)=1,\"\",\"YES\"),\"\"))","v":""},"",""]
[null,null,null,null,null,null,{"$f":"IF(E162=\"\",\"\",IF(COUNTIF(E:E,E162)>1,IF(COUNTIF(E$6:E162,E162)=1,\"\",\"YES\"),\"\"))","v":""},"",""]
[null,null,null,null,null,null,{"$f":"IF(E163=\"\",\"\",IF(COUNTIF(E:E,E163)>1,IF(COUNTIF(E$6:E163,E163)=1,\"\",\"YES\"),\"\"))","v":""},"",""]
[null,null,null,null,null,null,{"$f":"IF(E164=\"\",\"\",IF(COUNTIF(E:E,E164)>1,IF(COUNTIF(E$6:E164,E164)=1,\"\",\"YES\"),\"\"))","v":""},"",""]
[null,null,null,null,null,null,{"$f":"IF(E165=\"\",\"\",IF(COUNTIF(E:E,E165)>1,IF(COUNTIF(E$6:E165,E165)=1,\"\",\"YES\"),\"\"))","v":""},"",""]
[null,null,null,null,null,null,{"$f":"IF(E166=\"\",\"\",IF(COUNTIF(E:E,E166)>1,IF(COUNTIF(E$6:E166,E166)=1,\"\",\"YES\"),\"\"))","v":""},"",""]
[null,null,null,null,null,null,{"$f":"IF(E167=\"\",\"\",IF(COUNTIF(E:E,E167)>1,IF(COUNTIF(E$6:E167,E167)=1,\"\",\"YES\"),\"\"))","v":""},"",""]
[null,null,null,null,null,null,{"$f":"IF(E168=\"\",\"\",IF(COUNTIF(E:E,E168)>1,IF(COUNTIF(E$6:E168,E168)=1,\"\",\"YES\"),\"\"))","v":""},"",""]
[null,null,null,null,null,null,{"$f":"IF(E169=\"\",\"\",IF(COUNTIF(E:E,E169)>1,IF(COUNTIF(E$6:E169,E169)=1,\"\",\"YES\"),\"\"))","v":""},"",""]
[null,null,null,null,null,null,{"$f":"IF(E170=\"\",\"\",IF(COUNTIF(E:E,E170)>1,IF(COUNTIF(E$6:E170,E170)=1,\"\",\"YES\"),\"\"))","v":""},"",""]
[null,null,null,null,null,null,{"$f":"IF(E171=\"\",\"\",IF(COUNTIF(E:E,E171)>1,IF(COUNTIF(E$6:E171,E171)=1,\"\",\"YES\"),\"\"))","v":""},"",""]
[null,null,null,null,null,null,{"$f":"IF(E172=\"\",\"\",IF(COUNTIF(E:E,E172)>1,IF(COUNTIF(E$6:E172,E172)=1,\"\",\"YES\"),\"\"))","v":""},"",""]
[null,null,null,null,null,null,{"$f":"IF(E173=\"\",\"\",IF(COUNTIF(E:E,E173)>1,IF(COUNTIF(E$6:E173,E173)=1,\"\",\"YES\"),\"\"))","v":""},"",""]
[null,null,null,null,null,null,{"$f":"IF(E174=\"\",\"\",IF(COUNTIF(E:E,E174)>1,IF(COUNTIF(E$6:E174,E174)=1,\"\",\"YES\"),\"\"))","v":""},"",""]
[null,null,null,null,null,null,{"$f":"IF(E175=\"\",\"\",IF(COUNTIF(E:E,E175)>1,IF(COUNTIF(E$6:E175,E175)=1,\"\",\"YES\"),\"\"))","v":""},"",""]
[null,null,null,null,null,null,{"$f":"IF(E176=\"\",\"\",IF(COUNTIF(E:E,E176)>1,IF(COUNTIF(E$6:E176,E176)=1,\"\",\"YES\"),\"\"))","v":""},"",""]
[null,null,null,null,null,null,{"$f":"IF(E177=\"\",\"\",IF(COUNTIF(E:E,E177)>1,IF(COUNTIF(E$6:E177,E177)=1,\"\",\"YES\"),\"\"))","v":""},"",""]
[null,null,null,null,null,null,{"$f":"IF(E178=\"\",\"\",IF(COUNTIF(E:E,E178)>1,IF(COUNTIF(E$6:E178,E178)=1,\"\",\"YES\"),\"\"))","v":""},"",""]
[null,null,null,null,null,null,{"$f":"IF(E179=\"\",\"\",IF(COUNTIF(E:E,E179)>1,IF(COUNTIF(E$6:E179,E179)=1,\"\",\"YES\"),\"\"))","v":""},"",""]
[null,null,null,null,null,null,{"$f":"IF(E180=\"\",\"\",IF(COUNTIF(E:E,E180)>1,IF(COUNTIF(E$6:E180,E180)=1,\"\",\"YES\"),\"\"))","v":""},"",""]
[null,null,null,null,null,null,{"$f":"IF(E181=\"\",\"\",IF(COUNTIF(E:E,E181)>1,IF(COUNTIF(E$6:E181,E181)=1,\"\",\"YES\"),\"\"))","v":""},"",""]
[null,null,null,null,null,null,{"$f":"IF(E182=\"\",\"\",IF(COUNTIF(E:E,E182)>1,IF(COUNTIF(E$6:E182,E182)=1,\"\",\"YES\"),\"\"))","v":""},"",""]
[null,null,null,null,null,null,{"$f":"IF(E183=\"\",\"\",IF(COUNTIF(E:E,E183)>1,IF(COUNTIF(E$6:E183,E183)=1,\"\",\"YES\"),\"\"))","v":""},"",""]
[null,null,null,null,null,null,{"$f":"IF(E184=\"\",\"\",IF(COUNTIF(E:E,E184)>1,IF(COUNTIF(E$6:E184,E184)=1,\"\",\"YES\"),\"\"))","v":""},"",""]
[null,null,null,null,null,null,{"$f":"IF(E185=\"\",\"\",IF(COUNTIF(E:E,E185)>1,IF(COUNTIF(E$6:E185,E185)=1,\"\",\"YES\"),\"\"))","v":""},"",""]
[null,null,null,null,null,null,{"$f":"IF(E186=\"\",\"\",IF(COUNTIF(E:E,E186)>1,IF(COUNTIF(E$6:E186,E186)=1,\"\",\"YES\"),\"\"))","v":""},"",""]
[null,null,null,null,null,null,{"$f":"IF(E187=\"\",\"\",IF(COUNTIF(E:E,E187)>1,IF(COUNTIF(E$6:E187,E187)=1,\"\",\"YES\"),\"\"))","v":""},"",""]
[null,null,null,null,null,null,{"$f":"IF(E188=\"\",\"\",IF(COUNTIF(E:E,E188)>1,IF(COUNTIF(E$6:E188,E188)=1,\"\",\"YES\"),\"\"))","v":""},"",""]
[null,null,null,null,null,null,{"$f":"IF(E189=\"\",\"\",IF(COUNTIF(E:E,E189)>1,IF(COUNTIF(E$6:E189,E189)=1,\"\",\"YES\"),\"\"))","v":""},"",{"$f":"IF(B189=\"\",\"\",IF(OR(G189=\"YES\",H189=\"EXPIRING\"),\"YES\",\"NO\"))","v":""}]
[null,null,null,null,null,null,{"$f":"IF(E190=\"\",\"\",IF(COUNTIF(E:E,E190)>1,IF(COUNTIF(E$6:E190,E190)=1,\"\",\"YES\"),\"\"))","v":""},"",""]
[null,null,null,null,null,null,{"$f":"IF(E191=\"\",\"\",IF(COUNTIF(E:E,E191)>1,IF(COUNTIF(E$6:E191,E191)=1,\"\",\"YES\"),\"\"))","v":""},"",""]
[null,null,null,null,null,null,{"$f":"IF(E192=\"\",\"\",IF(COUNTIF(E:E,E192)>1,IF(COUNTIF(E$6:E192,E192)=1,\"\",\"YES\"),\"\"))","v":""},"",""]
[null,null,null,null,null,null,{"$f":"IF(E193=\"\",\"\",IF(COUNTIF(E:E,E193)>1,IF(COUNTIF(E$6:E193,E193)=1,\"\",\"YES\"),\"\"))","v":""},"",""]
[null,null,null,null,null,null,{"$f":"IF(E194=\"\",\"\",IF(COUNTIF(E:E,E194)>1,IF(COUNTIF(E$6:E194,E194)=1,\"\",\"YES\"),\"\"))","v":""},"",""]
[null,null,null,null,null,null,{"$f":"IF(E195=\"\",\"\",IF(COUNTIF(E:E,E195)>1,IF(COUNTIF(E$6:E195,E195)=1,\"\",\"YES\"),\"\"))","v":""},"",""]
[null,null,null,null,null,null,{"$f":"IF(E196=\"\",\"\",IF(COUNTIF(E:E,E196)>1,IF(COUNTIF(E$6:E196,E196)=1,\"\",\"YES\"),\"\"))","v":""},"",""]
[null,null,null,null,null,null,{"$f":"IF(E197=\"\",\"\",IF(COUNTIF(E:E,E197)>1,IF(COUNTIF(E$6:E197,E197)=1,\"\",\"YES\"),\"\"))","v":""},"",""]
[null,null,null,null,null,null,{"$f":"IF(E198=\"\",\"\",IF(COUNTIF(E:E,E198)>1,IF(COUNTIF(E$6:E198,E198)=1,\"\",\"YES\"),\"\"))","v":""},"",""]
[null,null,null,null,null,null,{"$f":"IF(E199=\"\",\"\",IF(COUNTIF(E:E,E199)>1,IF(COUNTIF(E$6:E199,E199)=1,\"\",\"YES\"),\"\"))","v":""},"",""]
[null,null,null,null,null,null,{"$f":"IF(E200=\"\",\"\",IF(COUNTIF(E:E,E200)>1,IF(COUNTIF(E$6:E200,E200)=1,\"\",\"YES\"),\"\"))","v":""},"",""]
[null,null,null,null,null,null,{"$f":"IF(E201=\"\",\"\",IF(COUNTIF(E:E,E201)>1,IF(COUNTIF(E$6:E201,E201)=1,\"\",\"YES\"),\"\"))","v":""},"",""]
[null,null,null,null,null,null,{"$f":"IF(E202=\"\",\"\",IF(COUNTIF(E:E,E202)>1,IF(COUNTIF(E$6:E202,E202)=1,\"\",\"YES\"),\"\"))","v":""},"",""]
[null,null,null,null,null,null,{"$f":"IF(E203=\"\",\"\",IF(COUNTIF(E:E,E203)>1,IF(COUNTIF(E$6:E203,E203)=1,\"\",\"YES\"),\"\"))","v":""},"",""]
[null,null,null,null,null,null,{"$f":"IF(E204=\"\",\"\",IF(COUNTIF(E:E,E204)>1,IF(COUNTIF(E$6:E204,E204)=1,\"\",\"YES\"),\"\"))","v":""},"",""]
[null,null,null,null,null,null,{"$f":"IF(E205=\"\",\"\",IF(COUNTIF(E:E,E205)>1,IF(COUNTIF(E$6:E205,E205)=1,\"\",\"YES\"),\"\"))","v":""},"",""]
[null,null,null,null,null,null,{"$f":"IF(E206=\"\",\"\",IF(COUNTIF(E:E,E206)>1,IF(COUNTIF(E$6:E206,E206)=1,\"\",\"YES\"),\"\"))","v":""},"",""]
[null,null,null,null,null,null,{"$f":"IF(E207=\"\",\"\",IF(COUNTIF(E:E,E207)>1,IF(COUNTIF(E$6:E207,E207)=1,\"\",\"YES\"),\"\"))","v":""},"",""]
[null,null,null,null,null,null,{"$f":"IF(E208=\"\",\"\",IF(COUNTIF(E:E,E208)>1,IF(COUNTIF(E$6:E208,E208)=1,\"\",\"YES\"),\"\"))","v":""},"",""]
[null,null,null,null,null,null,{"$f":"IF(E209=\"\",\"\",IF(COUNTIF(E:E,E209)>1,IF(COUNTIF(E$6:E209,E209)=1,\"\",\"YES\"),\"\"))","v":""},"",""]
[null,null,null,null,null,null,{"$f":"IF(E210=\"\",\"\",IF(COUNTIF(E:E,E210)>1,IF(COUNTIF(E$6:E210,E210)=1,\"\",\"YES\"),\"\"))","v":""},"",""]
[null,null,null,null,null,null,{"$f":"IF(E211=\"\",\"\",IF(COUNTIF(E:E,E211)>1,IF(COUNTIF(E$6:E211,E211)=1,\"\",\"YES\"),\"\"))","v":""},"",""]
[null,null,null,null,null,null,{"$f":"IF(E212=\"\",\"\",IF(COUNTIF(E:E,E212)>1,IF(COUNTIF(E$6:E212,E212)=1,\"\",\"YES\"),\"\"))","v":""},"",""]
[null,null,null,null,null,null,{"$f":"IF(E213=\"\",\"\",IF(COUNTIF(E:E,E213)>1,IF(COUNTIF(E$6:E213,E213)=1,\"\",\"YES\"),\"\"))","v":""},"",""]
[null,null,null,null,null,null,{"$f":"IF(E214=\"\",\"\",IF(COUNTIF(E:E,E214)>1,IF(COUNTIF(E$6:E214,E214)=1,\"\",\"YES\"),\"\"))","v":""},"",""]
[null,null,null,null,null,null,{"$f":"IF(E215=\"\",\"\",IF(COUNTIF(E:E,E215)>1,IF(COUNTIF(E$6:E215,E215)=1,\"\",\"YES\"),\"\"))","v":""},"",""]
[null,null,null,null,null,null,{"$f":"IF(E216=\"\",\"\",IF(COUNTIF(E:E,E216)>1,IF(COUNTIF(E$6:E216,E216)=1,\"\",\"YES\"),\"\"))","v":""},"",""]
[null,null,null,null,null,null,{"$f":"IF(E217=\"\",\"\",IF(COUNTIF(E:E,E217)>1,IF(COUNTIF(E$6:E217,E217)=1,\"\",\"YES\"),\"\"))","v":""},"",""]
[null,null,null,null,null,null,{"$f":"IF(E218=\"\",\"\",IF(COUNTIF(E:E,E218)>1,IF(COUNTIF(E$6:E218,E218)=1,\"\",\"YES\"),\"\"))","v":""},"",""]
[null,null,null,null,null,null,{"$f":"IF(E219=\"\",\"\",IF(COUNTIF(E:E,E219)>1,IF(COUNTIF(E$6:E219,E219)=1,\"\",\"YES\"),\"\"))","v":""},"",""]
[null,null,null,null,null,null,{"$f":"IF(E220=\"\",\"\",IF(COUNTIF(E:E,E220)>1,IF(COUNTIF(E$6:E220,E220)=1,\"\",\"YES\"),\"\"))","v":""},"",""]
[null,null,null,null,null,null,{"$f":"IF(E221=\"\",\"\",IF(COUNTIF(E:E,E221)>1,IF(COUNTIF(E$6:E221,E221)=1,\"\",\"YES\"),\"\"))","v":""},{"$f":"IF(B221=\"\",\"\", IF(VALUE(LEFT(B221,1))=A$1,\"\",IF(AND(A$2=\"Yes\",VALUE(LEFT(B221))<A$1),\"Expiring\",\"\")))","v":""},""]
[null,null,null,null,null,null,{"$f":"IF(E222=\"\",\"\",IF(COUNTIF(E:E,E222)>1,IF(COUNTIF(E$6:E222,E222)=1,\"\",\"YES\"),\"\"))","v":""},"",""]
[null,null,null,null,null,null,{"$f":"IF(E223=\"\",\"\",IF(COUNTIF(E:E,E223)>1,IF(COUNTIF(E$6:E223,E223)=1,\"\",\"YES\"),\"\"))","v":""},"",""]
[null,null,null,null,null,null,{"$f":"IF(E224=\"\",\"\",IF(COUNTIF(E:E,E224)>1,IF(COUNTIF(E$6:E224,E224)=1,\"\",\"YES\"),\"\"))","v":""},"",""]
[null,null,null,null,null,null,{"$f":"IF(E225=\"\",\"\",IF(COUNTIF(E:E,E225)>1,IF(COUNTIF(E$6:E225,E225)=1,\"\",\"YES\"),\"\"))","v":""},"",""]
[null,null,null,null,null,null,{"$f":"IF(E226=\"\",\"\",IF(COUNTIF(E:E,E226)>1,IF(COUNTIF(E$6:E226,E226)=1,\"\",\"YES\"),\"\"))","v":""},"",""]
[null,null,null,null,null,null,{"$f":"IF(E227=\"\",\"\",IF(COUNTIF(E:E,E227)>1,IF(COUNTIF(E$6:E227,E227)=1,\"\",\"YES\"),\"\"))","v":""},"",""]
[null,null,null,null,null,null,{"$f":"IF(E228=\"\",\"\",IF(COUNTIF(E:E,E228)>1,IF(COUNTIF(E$6:E228,E228)=1,\"\",\"YES\"),\"\"))","v":""},"",""]
[null,null,null,null,null,null,{"$f":"IF(E229=\"\",\"\",IF(COUNTIF(E:E,E229)>1,IF(COUNTIF(E$6:E229,E229)=1,\"\",\"YES\"),\"\"))","v":""},"",""]
[null,null,null,null,null,null,{"$f":"IF(E230=\"\",\"\",IF(COUNTIF(E:E,E230)>1,IF(COUNTIF(E$6:E230,E230)=1,\"\",\"YES\"),\"\"))","v":""},"",""]
[null,null,null,null,null,null,{"$f":"IF(E231=\"\",\"\",IF(COUNTIF(E:E,E231)>1,IF(COUNTIF(E$6:E231,E231)=1,\"\",\"YES\"),\"\"))","v":""},"",""]
[null,null,null,null,null,null,{"$f":"IF(E232=\"\",\"\",IF(COUNTIF(E:E,E232)>1,IF(COUNTIF(E$6:E232,E232)=1,\"\",\"YES\"),\"\"))","v":""},"",""]
[null,null,null,null,null,null,{"$f":"IF(E233=\"\",\"\",IF(COUNTIF(E:E,E233)>1,IF(COUNTIF(E$6:E233,E233)=1,\"\",\"YES\"),\"\"))","v":""},"",""]
[null,null,null,null,null,null,{"$f":"IF(E234=\"\",\"\",IF(COUNTIF(E:E,E234)>1,IF(COUNTIF(E$6:E234,E234)=1,\"\",\"YES\"),\"\"))","v":""},"",""]
[null,null,null,null,null,null,{"$f":"IF(E235=\"\",\"\",IF(COUNTIF(E:E,E235)>1,IF(COUNTIF(E$6:E235,E235)=1,\"\",\"YES\"),\"\"))","v":""},"",""]
[null,null,null,null,null,null,{"$f":"IF(E236=\"\",\"\",IF(COUNTIF(E:E,E236)>1,IF(COUNTIF(E$6:E236,E236)=1,\"\",\"YES\"),\"\"))","v":""},"",""]
[null,null,null,null,null,null,{"$f":"IF(E237=\"\",\"\",IF(COUNTIF(E:E,E237)>1,IF(COUNTIF(E$6:E237,E237)=1,\"\",\"YES\"),\"\"))","v":""},"",""]
[null,null,null,null,null,null,{"$f":"IF(E238=\"\",\"\",IF(COUNTIF(E:E,E238)>1,IF(COUNTIF(E$6:E238,E238)=1,\"\",\"YES\"),\"\"))","v":""},"",""]
[null,null,null,null,null,null,{"$f":"IF(E239=\"\",\"\",IF(COUNTIF(E:E,E239)>1,IF(COUNTIF(E$6:E239,E239)=1,\"\",\"YES\"),\"\"))","v":""},"",""]
[null,null,null,null,null,null,{"$f":"IF(E240=\"\",\"\",IF(COUNTIF(E:E,E240)>1,IF(COUNTIF(E$6:E240,E240)=1,\"\",\"YES\"),\"\"))","v":""},"",""]
[null,null,null,null,null,null,{"$f":"IF(E241=\"\",\"\",IF(COUNTIF(E:E,E241)>1,IF(COUNTIF(E$6:E241,E241)=1,\"\",\"YES\"),\"\"))","v":""},"",""]
[null,null,null,null,null,null,{"$f":"IF(E242=\"\",\"\",IF(COUNTIF(E:E,E242)>1,IF(COUNTIF(E$6:E242,E242)=1,\"\",\"YES\"),\"\"))","v":""},"",""]
[null,null,null,null,null,null,{"$f":"IF(E243=\"\",\"\",IF(COUNTIF(E:E,E243)>1,IF(COUNTIF(E$6:E243,E243)=1,\"\",\"YES\"),\"\"))","v":""},"",""]
[null,null,null,null,null,null,{"$f":"IF(E244=\"\",\"\",IF(COUNTIF(E:E,E244)>1,IF(COUNTIF(E$6:E244,E244)=1,\"\",\"YES\"),\"\"))","v":""},"",""]
[null,null,null,null,null,null,{"$f":"IF(E245=\"\",\"\",IF(COUNTIF(E:E,E245)>1,IF(COUNTIF(E$6:E245,E245)=1,\"\",\"YES\"),\"\"))","v":""},"",""]
[null,null,null,null,null,null,{"$f":"IF(E246=\"\",\"\",IF(COUNTIF(E:E,E246)>1,IF(COUNTIF(E$6:E246,E246)=1,\"\",\"YES\"),\"\"))","v":""},"",""]
[null,null,null,null,null,null,{"$f":"IF(E247=\"\",\"\",IF(COUNTIF(E:E,E247)>1,IF(COUNTIF(E$6:E247,E247)=1,\"\",\"YES\"),\"\"))","v":""},"",""]
[null,null,null,null,null,null,{"$f":"IF(E248=\"\",\"\",IF(COUNTIF(E:E,E248)>1,IF(COUNTIF(E$6:E248,E248)=1,\"\",\"YES\"),\"\"))","v":""},"",""]
[null,null,null,null,null,null,{"$f":"IF(E249=\"\",\"\",IF(COUNTIF(E:E,E249)>1,IF(COUNTIF(E$6:E249,E249)=1,\"\",\"YES\"),\"\"))","v":""},"",""]
[null,null,null,null,null,null,{"$f":"IF(E250=\"\",\"\",IF(COUNTIF(E:E,E250)>1,IF(COUNTIF(E$6:E250,E250)=1,\"\",\"YES\"),\"\"))","v":""},"",""]
[null,null,null,null,null,null,{"$f":"IF(E251=\"\",\"\",IF(COUNTIF(E:E,E251)>1,IF(COUNTIF(E$6:E251,E251)=1,\"\",\"YES\"),\"\"))","v":""},"",""]
[null,null,null,null,null,null,{"$f":"IF(E252=\"\",\"\",IF(COUNTIF(E:E,E252)>1,IF(COUNTIF(E$6:E252,E252)=1,\"\",\"YES\"),\"\"))","v":""},"",""]
[null,null,null,null,null,null,{"$f":"IF(E253=\"\",\"\",IF(COUNTIF(E:E,E253)>1,IF(COUNTIF(E$6:E253,E253)=1,\"\",\"YES\"),\"\"))","v":""},"",{"$f":"IF(B253=\"\",\"\",IF(OR(G253=\"YES\",H253=\"EXPIRING\"),\"YES\",\"NO\"))","v":""}]
[null,null,null,null,null,null,{"$f":"IF(E254=\"\",\"\",IF(COUNTIF(E:E,E254)>1,IF(COUNTIF(E$6:E254,E254)=1,\"\",\"YES\"),\"\"))","v":""},"",""]
[null,null,null,null,null,null,{"$f":"IF(E255=\"\",\"\",IF(COUNTIF(E:E,E255)>1,IF(COUNTIF(E$6:E255,E255)=1,\"\",\"YES\"),\"\"))","v":""},"",""]
[null,null,null,null,null,null,{"$f":"IF(E256=\"\",\"\",IF(COUNTIF(E:E,E256)>1,IF(COUNTIF(E$6:E256,E256)=1,\"\",\"YES\"),\"\"))","v":""},"",""]
[null,null,null,null,null,null,{"$f":"IF(E257=\"\",\"\",IF(COUNTIF(E:E,E257)>1,IF(COUNTIF(E$6:E257,E257)=1,\"\",\"YES\"),\"\"))","v":""},"",""]
[null,null,null,null,null,null,{"$f":"IF(E258=\"\",\"\",IF(COUNTIF(E:E,E258)>1,IF(COUNTIF(E$6:E258,E258)=1,\"\",\"YES\"),\"\"))","v":""},"",""]
[null,null,null,null,null,null,{"$f":"IF(E259=\"\",\"\",IF(COUNTIF(E:E,E259)>1,IF(COUNTIF(E$6:E259,E259)=1,\"\",\"YES\"),\"\"))","v":""},"",""]
[null,null,null,null,null,null,{"$f":"IF(E260=\"\",\"\",IF(COUNTIF(E:E,E260)>1,IF(COUNTIF(E$6:E260,E260)=1,\"\",\"YES\"),\"\"))","v":""},"",""]
[null,null,null,null,null,null,{"$f":"IF(E261=\"\",\"\",IF(COUNTIF(E:E,E261)>1,IF(COUNTIF(E$6:E261,E261)=1,\"\",\"YES\"),\"\"))","v":""},"",""]
[null,null,null,null,null,null,{"$f":"IF(E262=\"\",\"\",IF(COUNTIF(E:E,E262)>1,IF(COUNTIF(E$6:E262,E262)=1,\"\",\"YES\"),\"\"))","v":""},"",""]
[null,null,null,null,null,null,{"$f":"IF(E263=\"\",\"\",IF(COUNTIF(E:E,E263)>1,IF(COUNTIF(E$6:E263,E263)=1,\"\",\"YES\"),\"\"))","v":""},"",""]
[null,null,null,null,null,null,{"$f":"IF(E264=\"\",\"\",IF(COUNTIF(E:E,E264)>1,IF(COUNTIF(E$6:E264,E264)=1,\"\",\"YES\"),\"\"))","v":""},"",""]
[null,null,null,null,null,null,{"$f":"IF(E265=\"\",\"\",IF(COUNTIF(E:E,E265)>1,IF(COUNTIF(E$6:E265,E265)=1,\"\",\"YES\"),\"\"))","v":""},"",""]
[null,null,null,null,null,null,{"$f":"IF(E266=\"\",\"\",IF(COUNTIF(E:E,E266)>1,IF(COUNTIF(E$6:E266,E266)=1,\"\",\"YES\"),\"\"))","v":""},"",""]
[null,null,null,null,null,null,{"$f":"IF(E267=\"\",\"\",IF(COUNTIF(E:E,E267)>1,IF(COUNTIF(E$6:E267,E267)=1,\"\",\"YES\"),\"\"))","v":""},"",""]
[null,null,null,null,null,null,{"$f":"IF(E268=\"\",\"\",IF(COUNTIF(E:E,E268)>1,IF(COUNTIF(E$6:E268,E268)=1,\"\",\"YES\"),\"\"))","v":""},"",""]
[null,null,null,null,null,null,{"$f":"IF(E269=\"\",\"\",IF(COUNTIF(E:E,E269)>1,IF(COUNTIF(E$6:E269,E269)=1,\"\",\"YES\"),\"\"))","v":""},"",""]
[null,null,null,null,null,null,{"$f":"IF(E270=\"\",\"\",IF(COUNTIF(E:E,E270)>1,IF(COUNTIF(E$6:E270,E270)=1,\"\",\"YES\"),\"\"))","v":""},"",""]
[null,null,null,null,null,null,{"$f":"IF(E271=\"\",\"\",IF(COUNTIF(E:E,E271)>1,IF(COUNTIF(E$6:E271,E271)=1,\"\",\"YES\"),\"\"))","v":""},"",""]
[null,null,null,null,null,null,{"$f":"IF(E272=\"\",\"\",IF(COUNTIF(E:E,E272)>1,IF(COUNTIF(E$6:E272,E272)=1,\"\",\"YES\"),\"\"))","v":""},"",""]
[null,null,null,null,null,null,{"$f":"IF(E273=\"\",\"\",IF(COUNTIF(E:E,E273)>1,IF(COUNTIF(E$6:E273,E273)=1,\"\",\"YES\"),\"\"))","v":""},"",""]
[null,null,null,null,null,null,{"$f":"IF(E274=\"\",\"\",IF(COUNTIF(E:E,E274)>1,IF(COUNTIF(E$6:E274,E274)=1,\"\",\"YES\"),\"\"))","v":""},"",""]
[null,null,null,null,null,null,{"$f":"IF(E275=\"\",\"\",IF(COUNTIF(E:E,E275)>1,IF(COUNTIF(E$6:E275,E275)=1,\"\",\"YES\"),\"\"))","v":""},"",""]
[null,null,null,null,null,null,{"$f":"IF(E276=\"\",\"\",IF(COUNTIF(E:E,E276)>1,IF(COUNTIF(E$6:E276,E276)=1,\"\",\"YES\"),\"\"))","v":""},"",""]
[null,null,null,null,null,null,{"$f":"IF(E277=\"\",\"\",IF(COUNTIF(E:E,E277)>1,IF(COUNTIF(E$6:E277,E277)=1,\"\",\"YES\"),\"\"))","v":""},"",""]
[null,null,null,null,null,null,{"$f":"IF(E278=\"\",\"\",IF(COUNTIF(E:E,E278)>1,IF(COUNTIF(E$6:E278,E278)=1,\"\",\"YES\"),\"\"))","v":""},"",""]
[null,null,null,null,null,null,{"$f":"IF(E279=\"\",\"\",IF(COUNTIF(E:E,E279)>1,IF(COUNTIF(E$6:E279,E279)=1,\"\",\"YES\"),\"\"))","v":""},"",""]
[null,null,null,null,null,null,{"$f":"IF(E280=\"\",\"\",IF(COUNTIF(E:E,E280)>1,IF(COUNTIF(E$6:E280,E280)=1,\"\",\"YES\"),\"\"))","v":""},"",""]
[null,null,null,null,null,null,{"$f":"IF(E281=\"\",\"\",IF(COUNTIF(E:E,E281)>1,IF(COUNTIF(E$6:E281,E281)=1,\"\",\"YES\"),\"\"))","v":""},"",""]
[null,null,null,null,null,null,{"$f":"IF(E282=\"\",\"\",IF(COUNTIF(E:E,E282)>1,IF(COUNTIF(E$6:E282,E282)=1,\"\",\"YES\"),\"\"))","v":""},"",""]
[null,null,null,null,null,null,{"$f":"IF(E283=\"\",\"\",IF(COUNTIF(E:E,E283)>1,IF(COUNTIF(E$6:E283,E283)=1,\"\",\"YES\"),\"\"))","v":""},"",""]
[null,null,null,null,null,null,{"$f":"IF(E284=\"\",\"\",IF(COUNTIF(E:E,E284)>1,IF(COUNTIF(E$6:E284,E284)=1,\"\",\"YES\"),\"\"))","v":""},"",""]
[null,null,null,null,null,null,{"$f":"IF(E285=\"\",\"\",IF(COUNTIF(E:E,E285)>1,IF(COUNTIF(E$6:E285,E285)=1,\"\",\"YES\"),\"\"))","v":""},{"$f":"IF(B285=\"\",\"\", IF(VALUE(LEFT(B285,1))=A$1,\"\",IF(AND(A$2=\"Yes\",VALUE(LEFT(B285))<A$1),\"Expiring\",\"\")))","v":""},""]
[null,null,null,null,null,null,{"$f":"IF(E286=\"\",\"\",IF(COUNTIF(E:E,E286)>1,IF(COUNTIF(E$6:E286,E286)=1,\"\",\"YES\"),\"\"))","v":""},"",""]
[null,null,null,null,null,null,{"$f":"IF(E287=\"\",\"\",IF(COUNTIF(E:E,E287)>1,IF(COUNTIF(E$6:E287,E287)=1,\"\",\"YES\"),\"\"))","v":""},"",""]
[null,null,null,null,null,null,{"$f":"IF(E288=\"\",\"\",IF(COUNTIF(E:E,E288)>1,IF(COUNTIF(E$6:E288,E288)=1,\"\",\"YES\"),\"\"))","v":""},"",""]
[null,null,null,null,null,null,{"$f":"IF(E289=\"\",\"\",IF(COUNTIF(E:E,E289)>1,IF(COUNTIF(E$6:E289,E289)=1,\"\",\"YES\"),\"\"))","v":""},"",""]
[null,null,null,null,null,null,{"$f":"IF(E290=\"\",\"\",IF(COUNTIF(E:E,E290)>1,IF(COUNTIF(E$6:E290,E290)=1,\"\",\"YES\"),\"\"))","v":""},"",""]
[null,null,null,null,null,null,{"$f":"IF(E291=\"\",\"\",IF(COUNTIF(E:E,E291)>1,IF(COUNTIF(E$6:E291,E291)=1,\"\",\"YES\"),\"\"))","v":""},"",""]
[null,null,null,null,null,null,{"$f":"IF(E292=\"\",\"\",IF(COUNTIF(E:E,E292)>1,IF(COUNTIF(E$6:E292,E292)=1,\"\",\"YES\"),\"\"))","v":""},"",""]
[null,null,null,null,null,null,{"$f":"IF(E293=\"\",\"\",IF(COUNTIF(E:E,E293)>1,IF(COUNTIF(E$6:E293,E293)=1,\"\",\"YES\"),\"\"))","v":""},"",""]
[null,null,null,null,null,null,{"$f":"IF(E294=\"\",\"\",IF(COUNTIF(E:E,E294)>1,IF(COUNTIF(E$6:E294,E294)=1,\"\",\"YES\"),\"\"))","v":""},"",""]
[null,null,null,null,null,null,{"$f":"IF(E295=\"\",\"\",IF(COUNTIF(E:E,E295)>1,IF(COUNTIF(E$6:E295,E295)=1,\"\",\"YES\"),\"\"))","v":""},"",""]
[null,null,null,null,null,null,{"$f":"IF(E296=\"\",\"\",IF(COUNTIF(E:E,E296)>1,IF(COUNTIF(E$6:E296,E296)=1,\"\",\"YES\"),\"\"))","v":""},"",""]
[null,null,null,null,null,null,{"$f":"IF(E297=\"\",\"\",IF(COUNTIF(E:E,E297)>1,IF(COUNTIF(E$6:E297,E297)=1,\"\",\"YES\"),\"\"))","v":""},"",""]
[null,null,null,null,null,null,{"$f":"IF(E298=\"\",\"\",IF(COUNTIF(E:E,E298)>1,IF(COUNTIF(E$6:E298,E298)=1,\"\",\"YES\"),\"\"))","v":""},"",""]
[null,null,null,null,null,null,{"$f":"IF(E299=\"\",\"\",IF(COUNTIF(E:E,E299)>1,IF(COUNTIF(E$6:E299,E299)=1,\"\",\"YES\"),\"\"))","v":""},"",""]
[null,null,null,null,null,null,{"$f":"IF(E300=\"\",\"\",IF(COUNTIF(E:E,E300)>1,IF(COUNTIF(E$6:E300,E300)=1,\"\",\"YES\"),\"\"))","v":""},"",""]
[null,null,null,null,null,null,{"$f":"IF(E301=\"\",\"\",IF(COUNTIF(E:E,E301)>1,IF(COUNTIF(E$6:E301,E301)=1,\"\",\"YES\"),\"\"))","v":""},"",""]
[null,null,null,null,null,null,{"$f":"IF(E302=\"\",\"\",IF(COUNTIF(E:E,E302)>1,IF(COUNTIF(E$6:E302,E302)=1,\"\",\"YES\"),\"\"))","v":""},"",""]
[null,null,null,null,null,null,{"$f":"IF(E303=\"\",\"\",IF(COUNTIF(E:E,E303)>1,IF(COUNTIF(E$6:E303,E303)=1,\"\",\"YES\"),\"\"))","v":""},"",""]
[null,null,null,null,null,null,{"$f":"IF(E304=\"\",\"\",IF(COUNTIF(E:E,E304)>1,IF(COUNTIF(E$6:E304,E304)=1,\"\",\"YES\"),\"\"))","v":""},"",""]
[null,null,null,null,null,null,{"$f":"IF(E305=\"\",\"\",IF(COUNTIF(E:E,E305)>1,IF(COUNTIF(E$6:E305,E305)=1,\"\",\"YES\"),\"\"))","v":""},"",""]
[null,null,null,null,null,null,{"$f":"IF(E306=\"\",\"\",IF(COUNTIF(E:E,E306)>1,IF(COUNTIF(E$6:E306,E306)=1,\"\",\"YES\"),\"\"))","v":""},"",""]
[null,null,null,null,null,null,{"$f":"IF(E307=\"\",\"\",IF(COUNTIF(E:E,E307)>1,IF(COUNTIF(E$6:E307,E307)=1,\"\",\"YES\"),\"\"))","v":""},"",""]
[null,null,null,null,null,null,{"$f":"IF(E308=\"\",\"\",IF(COUNTIF(E:E,E308)>1,IF(COUNTIF(E$6:E308,E308)=1,\"\",\"YES\"),\"\"))","v":""},"",""]
[null,null,null,null,null,null,{"$f":"IF(E309=\"\",\"\",IF(COUNTIF(E:E,E309)>1,IF(COUNTIF(E$6:E309,E309)=1,\"\",\"YES\"),\"\"))","v":""},"",""]
[null,null,null,null,null,null,{"$f":"IF(E310=\"\",\"\",IF(COUNTIF(E:E,E310)>1,IF(COUNTIF(E$6:E310,E310)=1,\"\",\"YES\"),\"\"))","v":""},"",""]
[null,null,null,null,null,null,{"$f":"IF(E311=\"\",\"\",IF(COUNTIF(E:E,E311)>1,IF(COUNTIF(E$6:E311,E311)=1,\"\",\"YES\"),\"\"))","v":""},"",""]
[null,null,null,null,null,null,{"$f":"IF(E312=\"\",\"\",IF(COUNTIF(E:E,E312)>1,IF(COUNTIF(E$6:E312,E312)=1,\"\",\"YES\"),\"\"))","v":""},"",""]
[null,null,null,null,null,null,{"$f":"IF(E313=\"\",\"\",IF(COUNTIF(E:E,E313)>1,IF(COUNTIF(E$6:E313,E313)=1,\"\",\"YES\"),\"\"))","v":""},"",""]
[null,null,null,null,null,null,{"$f":"IF(E314=\"\",\"\",IF(COUNTIF(E:E,E314)>1,IF(COUNTIF(E$6:E314,E314)=1,\"\",\"YES\"),\"\"))","v":""},"",""]
[null,null,null,null,null,null,{"$f":"IF(E315=\"\",\"\",IF(COUNTIF(E:E,E315)>1,IF(COUNTIF(E$6:E315,E315)=1,\"\",\"YES\"),\"\"))","v":""},"",""]
[null,null,null,null,null,null,{"$f":"IF(E316=\"\",\"\",IF(COUNTIF(E:E,E316)>1,IF(COUNTIF(E$6:E316,E316)=1,\"\",\"YES\"),\"\"))","v":""},"",""]
[null,null,null,null,null,null,{"$f":"IF(E317=\"\",\"\",IF(COUNTIF(E:E,E317)>1,IF(COUNTIF(E$6:E317,E317)=1,\"\",\"YES\"),\"\"))","v":""},"",{"$f":"IF(B317=\"\",\"\",IF(OR(G317=\"YES\",H317=\"EXPIRING\"),\"YES\",\"NO\"))","v":""}]
[null,null,null,null,null,null,{"$f":"IF(E318=\"\",\"\",IF(COUNTIF(E:E,E318)>1,IF(COUNTIF(E$6:E318,E318)=1,\"\",\"YES\"),\"\"))","v":""},"",""]
[null,null,null,null,null,null,{"$f":"IF(E319=\"\",\"\",IF(COUNTIF(E:E,E319)>1,IF(COUNTIF(E$6:E319,E319)=1,\"\",\"YES\"),\"\"))","v":""},"",""]
[null,null,null,null,null,null,{"$f":"IF(E320=\"\",\"\",IF(COUNTIF(E:E,E320)>1,IF(COUNTIF(E$6:E320,E320)=1,\"\",\"YES\"),\"\"))","v":""},"",""]
[null,null,null,null,null,null,{"$f":"IF(E321=\"\",\"\",IF(COUNTIF(E:E,E321)>1,IF(COUNTIF(E$6:E321,E321)=1,\"\",\"YES\"),\"\"))","v":""},"",""]
[null,null,null,null,null,null,{"$f":"IF(E322=\"\",\"\",IF(COUNTIF(E:E,E322)>1,IF(COUNTIF(E$6:E322,E322)=1,\"\",\"YES\"),\"\"))","v":""},"",""]
[null,null,null,null,null,null,{"$f":"IF(E323=\"\",\"\",IF(COUNTIF(E:E,E323)>1,IF(COUNTIF(E$6:E323,E323)=1,\"\",\"YES\"),\"\"))","v":""},"",""]
[null,null,null,null,null,null,{"$f":"IF(E324=\"\",\"\",IF(COUNTIF(E:E,E324)>1,IF(COUNTIF(E$6:E324,E324)=1,\"\",\"YES\"),\"\"))","v":""},"",""]
[null,null,null,null,null,null,{"$f":"IF(E325=\"\",\"\",IF(COUNTIF(E:E,E325)>1,IF(COUNTIF(E$6:E325,E325)=1,\"\",\"YES\"),\"\"))","v":""},"",""]
[null,null,null,null,null,null,{"$f":"IF(E326=\"\",\"\",IF(COUNTIF(E:E,E326)>1,IF(COUNTIF(E$6:E326,E326)=1,\"\",\"YES\"),\"\"))","v":""},"",""]
[null,null,null,null,null,null,{"$f":"IF(E327=\"\",\"\",IF(COUNTIF(E:E,E327)>1,IF(COUNTIF(E$6:E327,E327)=1,\"\",\"YES\"),\"\"))","v":""},"",""]
[null,null,null,null,null,null,{"$f":"IF(E328=\"\",\"\",IF(COUNTIF(E:E,E328)>1,IF(COUNTIF(E$6:E328,E328)=1,\"\",\"YES\"),\"\"))","v":""},"",""]
[null,null,null,null,null,null,{"$f":"IF(E329=\"\",\"\",IF(COUNTIF(E:E,E329)>1,IF(COUNTIF(E$6:E329,E329)=1,\"\",\"YES\"),\"\"))","v":""},"",""]
[null,null,null,null,null,null,{"$f":"IF(E330=\"\",\"\",IF(COUNTIF(E:E,E330)>1,IF(COUNTIF(E$6:E330,E330)=1,\"\",\"YES\"),\"\"))","v":""},"",""]
[null,null,null,null,null,null,{"$f":"IF(E331=\"\",\"\",IF(COUNTIF(E:E,E331)>1,IF(COUNTIF(E$6:E331,E331)=1,\"\",\"YES\"),\"\"))","v":""},"",""]
[null,null,null,null,null,null,{"$f":"IF(E332=\"\",\"\",IF(COUNTIF(E:E,E332)>1,IF(COUNTIF(E$6:E332,E332)=1,\"\",\"YES\"),\"\"))","v":""},"",""]
[null,null,null,null,null,null,{"$f":"IF(E333=\"\",\"\",IF(COUNTIF(E:E,E333)>1,IF(COUNTIF(E$6:E333,E333)=1,\"\",\"YES\"),\"\"))","v":""},"",""]
[null,null,null,null,null,null,{"$f":"IF(E334=\"\",\"\",IF(COUNTIF(E:E,E334)>1,IF(COUNTIF(E$6:E334,E334)=1,\"\",\"YES\"),\"\"))","v":""},"",""]
[null,null,null,null,null,null,{"$f":"IF(E335=\"\",\"\",IF(COUNTIF(E:E,E335)>1,IF(COUNTIF(E$6:E335,E335)=1,\"\",\"YES\"),\"\"))","v":""},"",""]
[null,null,null,null,null,null,{"$f":"IF(E336=\"\",\"\",IF(COUNTIF(E:E,E336)>1,IF(COUNTIF(E$6:E336,E336)=1,\"\",\"YES\"),\"\"))","v":""},"",""]
[null,null,null,null,null,null,{"$f":"IF(E337=\"\",\"\",IF(COUNTIF(E:E,E337)>1,IF(COUNTIF(E$6:E337,E337)=1,\"\",\"YES\"),\"\"))","v":""},"",""]
[null,null,null,null,null,null,{"$f":"IF(E338=\"\",\"\",IF(COUNTIF(E:E,E338)>1,IF(COUNTIF(E$6:E338,E338)=1,\"\",\"YES\"),\"\"))","v":""},"",""]
[null,null,null,null,null,null,{"$f":"IF(E339=\"\",\"\",IF(COUNTIF(E:E,E339)>1,IF(COUNTIF(E$6:E339,E339)=1,\"\",\"YES\"),\"\"))","v":""},"",""]
[null,null,null,null,null,null,{"$f":"IF(E340=\"\",\"\",IF(COUNTIF(E:E,E340)>1,IF(COUNTIF(E$6:E340,E340)=1,\"\",\"YES\"),\"\"))","v":""},"",""]
[null,null,null,null,null,null,{"$f":"IF(E341=\"\",\"\",IF(COUNTIF(E:E,E341)>1,IF(COUNTIF(E$6:E341,E341)=1,\"\",\"YES\"),\"\"))","v":""},"",""]
[null,null,null,null,null,null,{"$f":"IF(E342=\"\",\"\",IF(COUNTIF(E:E,E342)>1,IF(COUNTIF(E$6:E342,E342)=1,\"\",\"YES\"),\"\"))","v":""},"",""]
[null,null,null,null,null,null,{"$f":"IF(E343=\"\",\"\",IF(COUNTIF(E:E,E343)>1,IF(COUNTIF(E$6:E343,E343)=1,\"\",\"YES\"),\"\"))","v":""},"",""]
[null,null,null,null,null,null,{"$f":"IF(E344=\"\",\"\",IF(COUNTIF(E:E,E344)>1,IF(COUNTIF(E$6:E344,E344)=1,\"\",\"YES\"),\"\"))","v":""},"",""]
[null,null,null,null,null,null,{"$f":"IF(E345=\"\",\"\",IF(COUNTIF(E:E,E345)>1,IF(COUNTIF(E$6:E345,E345)=1,\"\",\"YES\"),\"\"))","v":""},"",""]
[null,null,null,null,null,null,{"$f":"IF(E346=\"\",\"\",IF(COUNTIF(E:E,E346)>1,IF(COUNTIF(E$6:E346,E346)=1,\"\",\"YES\"),\"\"))","v":""},"",""]
[null,null,null,null,null,null,{"$f":"IF(E347=\"\",\"\",IF(COUNTIF(E:E,E347)>1,IF(COUNTIF(E$6:E347,E347)=1,\"\",\"YES\"),\"\"))","v":""},"",""]
[null,null,null,null,null,null,{"$f":"IF(E348=\"\",\"\",IF(COUNTIF(E:E,E348)>1,IF(COUNTIF(E$6:E348,E348)=1,\"\",\"YES\"),\"\"))","v":""},"",""]
[null,null,null,null,null,null,{"$f":"IF(E349=\"\",\"\",IF(COUNTIF(E:E,E349)>1,IF(COUNTIF(E$6:E349,E349)=1,\"\",\"YES\"),\"\"))","v":""},{"$f":"IF(B349=\"\",\"\", IF(VALUE(LEFT(B349,1))=A$1,\"\",IF(AND(A$2=\"Yes\",VALUE(LEFT(B349))<A$1),\"Expiring\",\"\")))","v":""},""]
[null,null,null,null,null,null,{"$f":"IF(E350=\"\",\"\",IF(COUNTIF(E:E,E350)>1,IF(COUNTIF(E$6:E350,E350)=1,\"\",\"YES\"),\"\"))","v":""},"",""]
[null,null,null,null,null,null,{"$f":"IF(E351=\"\",\"\",IF(COUNTIF(E:E,E351)>1,IF(COUNTIF(E$6:E351,E351)=1,\"\",\"YES\"),\"\"))","v":""},"",""]
[null,null,null,null,null,null,{"$f":"IF(E352=\"\",\"\",IF(COUNTIF(E:E,E352)>1,IF(COUNTIF(E$6:E352,E352)=1,\"\",\"YES\"),\"\"))","v":""},"",""]
[null,null,null,null,null,null,{"$f":"IF(E353=\"\",\"\",IF(COUNTIF(E:E,E353)>1,IF(COUNTIF(E$6:E353,E353)=1,\"\",\"YES\"),\"\"))","v":""},"",""]
[null,null,null,null,null,null,{"$f":"IF(E354=\"\",\"\",IF(COUNTIF(E:E,E354)>1,IF(COUNTIF(E$6:E354,E354)=1,\"\",\"YES\"),\"\"))","v":""},"",""]
[null,null,null,null,null,null,{"$f":"IF(E355=\"\",\"\",IF(COUNTIF(E:E,E355)>1,IF(COUNTIF(E$6:E355,E355)=1,\"\",\"YES\"),\"\"))","v":""},"",""]
[null,null,null,null,null,null,{"$f":"IF(E356=\"\",\"\",IF(COUNTIF(E:E,E356)>1,IF(COUNTIF(E$6:E356,E356)=1,\"\",\"YES\"),\"\"))","v":""},"",""]
[null,null,null,null,null,null,{"$f":"IF(E357=\"\",\"\",IF(COUNTIF(E:E,E357)>1,IF(COUNTIF(E$6:E357,E357)=1,\"\",\"YES\"),\"\"))","v":""},"",""]
[null,null,null,null,null,null,{"$f":"IF(E358=\"\",\"\",IF(COUNTIF(E:E,E358)>1,IF(COUNTIF(E$6:E358,E358)=1,\"\",\"YES\"),\"\"))","v":""},"",""]
[null,null,null,null,null,null,{"$f":"IF(E359=\"\",\"\",IF(COUNTIF(E:E,E359)>1,IF(COUNTIF(E$6:E359,E359)=1,\"\",\"YES\"),\"\"))","v":""},"",""]
[null,null,null,null,null,null,{"$f":"IF(E360=\"\",\"\",IF(COUNTIF(E:E,E360)>1,IF(COUNTIF(E$6:E360,E360)=1,\"\",\"YES\"),\"\"))","v":""},"",""]
[null,null,null,null,null,null,{"$f":"IF(E361=\"\",\"\",IF(COUNTIF(E:E,E361)>1,IF(COUNTIF(E$6:E361,E361)=1,\"\",\"YES\"),\"\"))","v":""},"",""]
[null,null,null,null,null,null,{"$f":"IF(E362=\"\",\"\",IF(COUNTIF(E:E,E362)>1,IF(COUNTIF(E$6:E362,E362)=1,\"\",\"YES\"),\"\"))","v":""},"",""]
[null,null,null,null,null,null,{"$f":"IF(E363=\"\",\"\",IF(COUNTIF(E:E,E363)>1,IF(COUNTIF(E$6:E363,E363)=1,\"\",\"YES\"),\"\"))","v":""},"",""]
[null,null,null,null,null,null,{"$f":"IF(E364=\"\",\"\",IF(COUNTIF(E:E,E364)>1,IF(COUNTIF(E$6:E364,E364)=1,\"\",\"YES\"),\"\"))","v":""},"",""]
[null,null,null,null,null,null,{"$f":"IF(E365=\"\",\"\",IF(COUNTIF(E:E,E365)>1,IF(COUNTIF(E$6:E365,E365)=1,\"\",\"YES\"),\"\"))","v":""},"",""]
[null,null,null,null,null,null,{"$f":"IF(E366=\"\",\"\",IF(COUNTIF(E:E,E366)>1,IF(COUNTIF(E$6:E366,E366)=1,\"\",\"YES\"),\"\"))","v":""},"",""]
[null,null,null,null,null,null,{"$f":"IF(E367=\"\",\"\",IF(COUNTIF(E:E,E367)>1,IF(COUNTIF(E$6:E367,E367)=1,\"\",\"YES\"),\"\"))","v":""},"",""]
[null,null,null,null,null,null,{"$f":"IF(E368=\"\",\"\",IF(COUNTIF(E:E,E368)>1,IF(COUNTIF(E$6:E368,E368)=1,\"\",\"YES\"),\"\"))","v":""},"",""]
[null,null,null,null,null,null,{"$f":"IF(E369=\"\",\"\",IF(COUNTIF(E:E,E369)>1,IF(COUNTIF(E$6:E369,E369)=1,\"\",\"YES\"),\"\"))","v":""},"",""]
[null,null,null,null,null,null,{"$f":"IF(E370=\"\",\"\",IF(COUNTIF(E:E,E370)>1,IF(COUNTIF(E$6:E370,E370)=1,\"\",\"YES\"),\"\"))","v":""},"",""]
[null,null,null,null,null,null,{"$f":"IF(E371=\"\",\"\",IF(COUNTIF(E:E,E371)>1,IF(COUNTIF(E$6:E371,E371)=1,\"\",\"YES\"),\"\"))","v":""},"",""]
[null,null,null,null,null,null,{"$f":"IF(E372=\"\",\"\",IF(COUNTIF(E:E,E372)>1,IF(COUNTIF(E$6:E372,E372)=1,\"\",\"YES\"),\"\"))","v":""},"",""]
[null,null,null,null,null,null,{"$f":"IF(E373=\"\",\"\",IF(COUNTIF(E:E,E373)>1,IF(COUNTIF(E$6:E373,E373)=1,\"\",\"YES\"),\"\"))","v":""},"",""]
[null,null,null,null,null,null,{"$f":"IF(E374=\"\",\"\",IF(COUNTIF(E:E,E374)>1,IF(COUNTIF(E$6:E374,E374)=1,\"\",\"YES\"),\"\"))","v":""},"",""]
[null,null,null,null,null,null,{"$f":"IF(E375=\"\",\"\",IF(COUNTIF(E:E,E375)>1,IF(COUNTIF(E$6:E375,E375)=1,\"\",\"YES\"),\"\"))","v":""},"",""]
[null,null,null,null,null,null,{"$f":"IF(E376=\"\",\"\",IF(COUNTIF(E:E,E376)>1,IF(COUNTIF(E$6:E376,E376)=1,\"\",\"YES\"),\"\"))","v":""},"",""]
[null,null,null,null,null,null,{"$f":"IF(E377=\"\",\"\",IF(COUNTIF(E:E,E377)>1,IF(COUNTIF(E$6:E377,E377)=1,\"\",\"YES\"),\"\"))","v":""},"",""]
[null,null,null,null,null,null,{"$f":"IF(E378=\"\",\"\",IF(COUNTIF(E:E,E378)>1,IF(COUNTIF(E$6:E378,E378)=1,\"\",\"YES\"),\"\"))","v":""},"",""]
[null,null,null,null,null,null,{"$f":"IF(E379=\"\",\"\",IF(COUNTIF(E:E,E379)>1,IF(COUNTIF(E$6:E379,E379)=1,\"\",\"YES\"),\"\"))","v":""},"",""]
[null,null,null,null,null,null,{"$f":"IF(E380=\"\",\"\",IF(COUNTIF(E:E,E380)>1,IF(COUNTIF(E$6:E380,E380)=1,\"\",\"YES\"),\"\"))","v":""},"",""]
[null,null,null,null,null,null,{"$f":"IF(E381=\"\",\"\",IF(COUNTIF(E:E,E381)>1,IF(COUNTIF(E$6:E381,E381)=1,\"\",\"YES\"),\"\"))","v":""},"",{"$f":"IF(B381=\"\",\"\",IF(OR(G381=\"YES\",H381=\"EXPIRING\"),\"YES\",\"NO\"))","v":""}]
[null,null,null,null,null,null,{"$f":"IF(E382=\"\",\"\",IF(COUNTIF(E:E,E382)>1,IF(COUNTIF(E$6:E382,E382)=1,\"\",\"YES\"),\"\"))","v":""},"",""]
[null,null,null,null,null,null,{"$f":"IF(E383=\"\",\"\",IF(COUNTIF(E:E,E383)>1,IF(COUNTIF(E$6:E383,E383)=1,\"\",\"YES\"),\"\"))","v":""},"",""]
[null,null,null,null,null,null,{"$f":"IF(E384=\"\",\"\",IF(COUNTIF(E:E,E384)>1,IF(COUNTIF(E$6:E384,E384)=1,\"\",\"YES\"),\"\"))","v":""},"",""]
[null,null,null,null,null,null,{"$f":"IF(E385=\"\",\"\",IF(COUNTIF(E:E,E385)>1,IF(COUNTIF(E$6:E385,E385)=1,\"\",\"YES\"),\"\"))","v":""},"",""]
[null,null,null,null,null,null,{"$f":"IF(E386=\"\",\"\",IF(COUNTIF(E:E,E386)>1,IF(COUNTIF(E$6:E386,E386)=1,\"\",\"YES\"),\"\"))","v":""},"",""]
[null,null,null,null,null,null,{"$f":"IF(E387=\"\",\"\",IF(COUNTIF(E:E,E387)>1,IF(COUNTIF(E$6:E387,E387)=1,\"\",\"YES\"),\"\"))","v":""},"",""]
[null,null,null,null,null,null,{"$f":"IF(E388=\"\",\"\",IF(COUNTIF(E:E,E388)>1,IF(COUNTIF(E$6:E388,E388)=1,\"\",\"YES\"),\"\"))","v":""},"",""]
[null,null,null,null,null,null,{"$f":"IF(E389=\"\",\"\",IF(COUNTIF(E:E,E389)>1,IF(COUNTIF(E$6:E389,E389)=1,\"\",\"YES\"),\"\"))","v":""},"",""]
[null,null,null,null,null,null,{"$f":"IF(E390=\"\",\"\",IF(COUNTIF(E:E,E390)>1,IF(COUNTIF(E$6:E390,E390)=1,\"\",\"YES\"),\"\"))","v":""},"",""]
[null,null,null,null,null,null,{"$f":"IF(E391=\"\",\"\",IF(COUNTIF(E:E,E391)>1,IF(COUNTIF(E$6:E391,E391)=1,\"\",\"YES\"),\"\"))","v":""},"",""]
[null,null,null,null,null,null,{"$f":"IF(E392=\"\",\"\",IF(COUNTIF(E:E,E392)>1,IF(COUNTIF(E$6:E392,E392)=1,\"\",\"YES\"),\"\"))","v":""},"",""]
[null,null,null,null,null,null,{"$f":"IF(E393=\"\",\"\",IF(COUNTIF(E:E,E393)>1,IF(COUNTIF(E$6:E393,E393)=1,\"\",\"YES\"),\"\"))","v":""},"",""]
[null,null,null,null,null,null,{"$f":"IF(E394=\"\",\"\",IF(COUNTIF(E:E,E394)>1,IF(COUNTIF(E$6:E394,E394)=1,\"\",\"YES\"),\"\"))","v":""},"",""]
[null,null,null,null,null,null,{"$f":"IF(E395=\"\",\"\",IF(COUNTIF(E:E,E395)>1,IF(COUNTIF(E$6:E395,E395)=1,\"\",\"YES\"),\"\"))","v":""},"",""]
[null,null,null,null,null,null,{"$f":"IF(E396=\"\",\"\",IF(COUNTIF(E:E,E396)>1,IF(COUNTIF(E$6:E396,E396)=1,\"\",\"YES\"),\"\"))","v":""},"",""]
[null,null,null,null,null,null,{"$f":"IF(E397=\"\",\"\",IF(COUNTIF(E:E,E397)>1,IF(COUNTIF(E$6:E397,E397)=1,\"\",\"YES\"),\"\"))","v":""},"",""]
[null,null,null,null,null,null,{"$f":"IF(E398=\"\",\"\",IF(COUNTIF(E:E,E398)>1,IF(COUNTIF(E$6:E398,E398)=1,\"\",\"YES\"),\"\"))","v":""},"",""]
[null,null,null,null,null,null,{"$f":"IF(E399=\"\",\"\",IF(COUNTIF(E:E,E399)>1,IF(COUNTIF(E$6:E399,E399)=1,\"\",\"YES\"),\"\"))","v":""},"",""]
[null,null,null,null,null,null,{"$f":"IF(E400=\"\",\"\",IF(COUNTIF(E:E,E400)>1,IF(COUNTIF(E$6:E400,E400)=1,\"\",\"YES\"),\"\"))","v":""},"",""]
[null,null,null,null,null,null,{"$f":"IF(E401=\"\",\"\",IF(COUNTIF(E:E,E401)>1,IF(COUNTIF(E$6:E401,E401)=1,\"\",\"YES\"),\"\"))","v":""},"",""]
[null,null,null,null,null,null,{"$f":"IF(E402=\"\",\"\",IF(COUNTIF(E:E,E402)>1,IF(COUNTIF(E$6:E402,E402)=1,\"\",\"YES\"),\"\"))","v":""},"",""]
[null,null,null,null,null,null,{"$f":"IF(E403=\"\",\"\",IF(COUNTIF(E:E,E403)>1,IF(COUNTIF(E$6:E403,E403)=1,\"\",\"YES\"),\"\"))","v":""},"",""]
[null,null,null,null,null,null,{"$f":"IF(E404=\"\",\"\",IF(COUNTIF(E:E,E404)>1,IF(COUNTIF(E$6:E404,E404)=1,\"\",\"YES\"),\"\"))","v":""},"",""]
[null,null,null,null,null,null,{"$f":"IF(E405=\"\",\"\",IF(COUNTIF(E:E,E405)>1,IF(COUNTIF(E$6:E405,E405)=1,\"\",\"YES\"),\"\"))","v":""},"",""]
[null,null,null,null,null,null,{"$f":"IF(E406=\"\",\"\",IF(COUNTIF(E:E,E406)>1,IF(COUNTIF(E$6:E406,E406)=1,\"\",\"YES\"),\"\"))","v":""},"",""]
[null,null,null,null,null,null,{"$f":"IF(E407=\"\",\"\",IF(COUNTIF(E:E,E407)>1,IF(COUNTIF(E$6:E407,E407)=1,\"\",\"YES\"),\"\"))","v":""},"",""]
[null,null,null,null,null,null,{"$f":"IF(E408=\"\",\"\",IF(COUNTIF(E:E,E408)>1,IF(COUNTIF(E$6:E408,E408)=1,\"\",\"YES\"),\"\"))","v":""},"",""]
[null,null,null,null,null,null,{"$f":"IF(E409=\"\",\"\",IF(COUNTIF(E:E,E409)>1,IF(COUNTIF(E$6:E409,E409)=1,\"\",\"YES\"),\"\"))","v":""},"",""]
[null,null,null,null,null,null,{"$f":"IF(E410=\"\",\"\",IF(COUNTIF(E:E,E410)>1,IF(COUNTIF(E$6:E410,E410)=1,\"\",\"YES\"),\"\"))","v":""},"",""]
[null,null,null,null,null,null,{"$f":"IF(E411=\"\",\"\",IF(COUNTIF(E:E,E411)>1,IF(COUNTIF(E$6:E411,E411)=1,\"\",\"YES\"),\"\"))","v":""},"",""]
[null,null,null,null,null,null,{"$f":"IF(E412=\"\",\"\",IF(COUNTIF(E:E,E412)>1,IF(COUNTIF(E$6:E412,E412)=1,\"\",\"YES\"),\"\"))","v":""},"",""]
[null,null,null,null,null,null,{"$f":"IF(E413=\"\",\"\",IF(COUNTIF(E:E,E413)>1,IF(COUNTIF(E$6:E413,E413)=1,\"\",\"YES\"),\"\"))","v":""},{"$f":"IF(B413=\"\",\"\", IF(VALUE(LEFT(B413,1))=A$1,\"\",IF(AND(A$2=\"Yes\",VALUE(LEFT(B413))<A$1),\"Expiring\",\"\")))","v":""},""]
[null,null,null,null,null,null,{"$f":"IF(E414=\"\",\"\",IF(COUNTIF(E:E,E414)>1,IF(COUNTIF(E$6:E414,E414)=1,\"\",\"YES\"),\"\"))","v":""},"",""]
[null,null,null,null,null,null,{"$f":"IF(E415=\"\",\"\",IF(COUNTIF(E:E,E415)>1,IF(COUNTIF(E$6:E415,E415)=1,\"\",\"YES\"),\"\"))","v":""},"",""]
[null,null,null,null,null,null,{"$f":"IF(E416=\"\",\"\",IF(COUNTIF(E:E,E416)>1,IF(COUNTIF(E$6:E416,E416)=1,\"\",\"YES\"),\"\"))","v":""},"",""]
[null,null,null,null,null,null,{"$f":"IF(E417=\"\",\"\",IF(COUNTIF(E:E,E417)>1,IF(COUNTIF(E$6:E417,E417)=1,\"\",\"YES\"),\"\"))","v":""},"",""]
[null,null,null,null,null,null,{"$f":"IF(E418=\"\",\"\",IF(COUNTIF(E:E,E418)>1,IF(COUNTIF(E$6:E418,E418)=1,\"\",\"YES\"),\"\"))","v":""},"",""]
[null,null,null,null,null,null,{"$f":"IF(E419=\"\",\"\",IF(COUNTIF(E:E,E419)>1,IF(COUNTIF(E$6:E419,E419)=1,\"\",\"YES\"),\"\"))","v":""},"",""]
[null,null,null,null,null,null,{"$f":"IF(E420=\"\",\"\",IF(COUNTIF(E:E,E420)>1,IF(COUNTIF(E$6:E420,E420)=1,\"\",\"YES\"),\"\"))","v":""},"",""]
[null,null,null,null,null,null,{"$f":"IF(E421=\"\",\"\",IF(COUNTIF(E:E,E421)>1,IF(COUNTIF(E$6:E421,E421)=1,\"\",\"YES\"),\"\"))","v":""},"",""]
[null,null,null,null,null,null,{"$f":"IF(E422=\"\",\"\",IF(COUNTIF(E:E,E422)>1,IF(COUNTIF(E$6:E422,E422)=1,\"\",\"YES\"),\"\"))","v":""},"",""]
[null,null,null,null,null,null,{"$f":"IF(E423=\"\",\"\",IF(COUNTIF(E:E,E423)>1,IF(COUNTIF(E$6:E423,E423)=1,\"\",\"YES\"),\"\"))","v":""},"",""]
[null,null,null,null,null,null,{"$f":"IF(E424=\"\",\"\",IF(COUNTIF(E:E,E424)>1,IF(COUNTIF(E$6:E424,E424)=1,\"\",\"YES\"),\"\"))","v":""},"",""]
[null,null,null,null,null,null,{"$f":"IF(E425=\"\",\"\",IF(COUNTIF(E:E,E425)>1,IF(COUNTIF(E$6:E425,E425)=1,\"\",\"YES\"),\"\"))","v":""},"",""]
[null,null,null,null,null,null,{"$f":"IF(E426=\"\",\"\",IF(COUNTIF(E:E,E426)>1,IF(COUNTIF(E$6:E426,E426)=1,\"\",\"YES\"),\"\"))","v":""},"",""]
[null,null,null,null,null,null,{"$f":"IF(E427=\"\",\"\",IF(COUNTIF(E:E,E427)>1,IF(COUNTIF(E$6:E427,E427)=1,\"\",\"YES\"),\"\"))","v":""},"",""]
[null,null,null,null,null,null,{"$f":"IF(E428=\"\",\"\",IF(COUNTIF(E:E,E428)>1,IF(COUNTIF(E$6:E428,E428)=1,\"\",\"YES\"),\"\"))","v":""},"",""]
[null,null,null,null,null,null,{"$f":"IF(E429=\"\",\"\",IF(COUNTIF(E:E,E429)>1,IF(COUNTIF(E$6:E429,E429)=1,\"\",\"YES\"),\"\"))","v":""},"",""]
[null,null,null,null,null,null,{"$f":"IF(E430=\"\",\"\",IF(COUNTIF(E:E,E430)>1,IF(COUNTIF(E$6:E430,E430)=1,\"\",\"YES\"),\"\"))","v":""},"",""]
[null,null,null,null,null,null,{"$f":"IF(E431=\"\",\"\",IF(COUNTIF(E:E,E431)>1,IF(COUNTIF(E$6:E431,E431)=1,\"\",\"YES\"),\"\"))","v":""},"",""]
[null,null,null,null,null,null,{"$f":"IF(E432=\"\",\"\",IF(COUNTIF(E:E,E432)>1,IF(COUNTIF(E$6:E432,E432)=1,\"\",\"YES\"),\"\"))","v":""},"",""]
[null,null,null,null,null,null,{"$f":"IF(E433=\"\",\"\",IF(COUNTIF(E:E,E433)>1,IF(COUNTIF(E$6:E433,E433)=1,\"\",\"YES\"),\"\"))","v":""},"",""]
[null,null,null,null,null,null,{"$f":"IF(E434=\"\",\"\",IF(COUNTIF(E:E,E434)>1,IF(COUNTIF(E$6:E434,E434)=1,\"\",\"YES\"),\"\"))","v":""},"",""]
[null,null,null,null,null,null,{"$f":"IF(E435=\"\",\"\",IF(COUNTIF(E:E,E435)>1,IF(COUNTIF(E$6:E435,E435)=1,\"\",\"YES\"),\"\"))","v":""},"",""]
[null,null,null,null,null,null,{"$f":"IF(E436=\"\",\"\",IF(COUNTIF(E:E,E436)>1,IF(COUNTIF(E$6:E436,E436)=1,\"\",\"YES\"),\"\"))","v":""},"",""]
[null,null,null,null,null,null,{"$f":"IF(E437=\"\",\"\",IF(COUNTIF(E:E,E437)>1,IF(COUNTIF(E$6:E437,E437)=1,\"\",\"YES\"),\"\"))","v":""},"",""]
[null,null,null,null,null,null,{"$f":"IF(E438=\"\",\"\",IF(COUNTIF(E:E,E438)>1,IF(COUNTIF(E$6:E438,E438)=1,\"\",\"YES\"),\"\"))","v":""},"",""]
[null,null,null,null,null,null,{"$f":"IF(E439=\"\",\"\",IF(COUNTIF(E:E,E439)>1,IF(COUNTIF(E$6:E439,E439)=1,\"\",\"YES\"),\"\"))","v":""},"",""]
[null,null,null,null,null,null,{"$f":"IF(E440=\"\",\"\",IF(COUNTIF(E:E,E440)>1,IF(COUNTIF(E$6:E440,E440)=1,\"\",\"YES\"),\"\"))","v":""},"",""]
[null,null,null,null,null,null,{"$f":"IF(E441=\"\",\"\",IF(COUNTIF(E:E,E441)>1,IF(COUNTIF(E$6:E441,E441)=1,\"\",\"YES\"),\"\"))","v":""},"",""]
[null,null,null,null,null,null,{"$f":"IF(E442=\"\",\"\",IF(COUNTIF(E:E,E442)>1,IF(COUNTIF(E$6:E442,E442)=1,\"\",\"YES\"),\"\"))","v":""},"",""]
[null,null,null,null,null,null,{"$f":"IF(E443=\"\",\"\",IF(COUNTIF(E:E,E443)>1,IF(COUNTIF(E$6:E443,E443)=1,\"\",\"YES\"),\"\"))","v":""},"",""]
[null,null,null,null,null,null,{"$f":"IF(E444=\"\",\"\",IF(COUNTIF(E:E,E444)>1,IF(COUNTIF(E$6:E444,E444)=1,\"\",\"YES\"),\"\"))","v":""},"",""]
[null,null,null,null,null,null,{"$f":"IF(E445=\"\",\"\",IF(COUNTIF(E:E,E445)>1,IF(COUNTIF(E$6:E445,E445)=1,\"\",\"YES\"),\"\"))","v":""},"",{"$f":"IF(B445=\"\",\"\",IF(OR(G445=\"YES\",H445=\"EXPIRING\"),\"YES\",\"NO\"))","v":""}]
[null,null,null,null,null,null,{"$f":"IF(E446=\"\",\"\",IF(COUNTIF(E:E,E446)>1,IF(COUNTIF(E$6:E446,E446)=1,\"\",\"YES\"),\"\"))","v":""},"",""]
[null,null,null,null,null,null,{"$f":"IF(E447=\"\",\"\",IF(COUNTIF(E:E,E447)>1,IF(COUNTIF(E$6:E447,E447)=1,\"\",\"YES\"),\"\"))","v":""},"",""]
[null,null,null,null,null,null,{"$f":"IF(E448=\"\",\"\",IF(COUNTIF(E:E,E448)>1,IF(COUNTIF(E$6:E448,E448)=1,\"\",\"YES\"),\"\"))","v":""},"",""]
[null,null,null,null,null,null,{"$f":"IF(E449=\"\",\"\",IF(COUNTIF(E:E,E449)>1,IF(COUNTIF(E$6:E449,E449)=1,\"\",\"YES\"),\"\"))","v":""},"",""]
[null,null,null,null,null,null,{"$f":"IF(E450=\"\",\"\",IF(COUNTIF(E:E,E450)>1,IF(COUNTIF(E$6:E450,E450)=1,\"\",\"YES\"),\"\"))","v":""},"",""]
[null,null,null,null,null,null,{"$f":"IF(E451=\"\",\"\",IF(COUNTIF(E:E,E451)>1,IF(COUNTIF(E$6:E451,E451)=1,\"\",\"YES\"),\"\"))","v":""},"",""]
[null,null,null,null,null,null,{"$f":"IF(E452=\"\",\"\",IF(COUNTIF(E:E,E452)>1,IF(COUNTIF(E$6:E452,E452)=1,\"\",\"YES\"),\"\"))","v":""},"",""]
[null,null,null,null,null,null,{"$f":"IF(E453=\"\",\"\",IF(COUNTIF(E:E,E453)>1,IF(COUNTIF(E$6:E453,E453)=1,\"\",\"YES\"),\"\"))","v":""},"",""]
[null,null,null,null,null,null,{"$f":"IF(E454=\"\",\"\",IF(COUNTIF(E:E,E454)>1,IF(COUNTIF(E$6:E454,E454)=1,\"\",\"YES\"),\"\"))","v":""},"",""]
[null,null,null,null,null,null,{"$f":"IF(E455=\"\",\"\",IF(COUNTIF(E:E,E455)>1,IF(COUNTIF(E$6:E455,E455)=1,\"\",\"YES\"),\"\"))","v":""},"",""]
[null,null,null,null,null,null,{"$f":"IF(E456=\"\",\"\",IF(COUNTIF(E:E,E456)>1,IF(COUNTIF(E$6:E456,E456)=1,\"\",\"YES\"),\"\"))","v":""},"",""]
[null,null,null,null,null,null,{"$f":"IF(E457=\"\",\"\",IF(COUNTIF(E:E,E457)>1,IF(COUNTIF(E$6:E457,E457)=1,\"\",\"YES\"),\"\"))","v":""},"",""]
[null,null,null,null,null,null,{"$f":"IF(E458=\"\",\"\",IF(COUNTIF(E:E,E458)>1,IF(COUNTIF(E$6:E458,E458)=1,\"\",\"YES\"),\"\"))","v":""},"",""]
[null,null,null,null,null,null,{"$f":"IF(E459=\"\",\"\",IF(COUNTIF(E:E,E459)>1,IF(COUNTIF(E$6:E459,E459)=1,\"\",\"YES\"),\"\"))","v":""},"",""]
[null,null,null,null,null,null,{"$f":"IF(E460=\"\",\"\",IF(COUNTIF(E:E,E460)>1,IF(COUNTIF(E$6:E460,E460)=1,\"\",\"YES\"),\"\"))","v":""},"",""]
[null,null,null,null,null,null,{"$f":"IF(E461=\"\",\"\",IF(COUNTIF(E:E,E461)>1,IF(COUNTIF(E$6:E461,E461)=1,\"\",\"YES\"),\"\"))","v":""},"",""]
[null,null,null,null,null,null,{"$f":"IF(E462=\"\",\"\",IF(COUNTIF(E:E,E462)>1,IF(COUNTIF(E$6:E462,E462)=1,\"\",\"YES\"),\"\"))","v":""},"",""]
[null,null,null,null,null,null,{"$f":"IF(E463=\"\",\"\",IF(COUNTIF(E:E,E463)>1,IF(COUNTIF(E$6:E463,E463)=1,\"\",\"YES\"),\"\"))","v":""},"",""]
[null,null,null,null,null,null,{"$f":"IF(E464=\"\",\"\",IF(COUNTIF(E:E,E464)>1,IF(COUNTIF(E$6:E464,E464)=1,\"\",\"YES\"),\"\"))","v":""},"",""]
[null,null,null,null,null,null,{"$f":"IF(E465=\"\",\"\",IF(COUNTIF(E:E,E465)>1,IF(COUNTIF(E$6:E465,E465)=1,\"\",\"YES\"),\"\"))","v":""},"",""]
[null,null,null,null,null,null,{"$f":"IF(E466=\"\",\"\",IF(COUNTIF(E:E,E466)>1,IF(COUNTIF(E$6:E466,E466)=1,\"\",\"YES\"),\"\"))","v":""},"",""]
[null,null,null,null,null,null,{"$f":"IF(E467=\"\",\"\",IF(COUNTIF(E:E,E467)>1,IF(COUNTIF(E$6:E467,E467)=1,\"\",\"YES\"),\"\"))","v":""},"",""]
[null,null,null,null,null,null,{"$f":"IF(E468=\"\",\"\",IF(COUNTIF(E:E,E468)>1,IF(COUNTIF(E$6:E468,E468)=1,\"\",\"YES\"),\"\"))","v":""},"",""]
[null,null,null,null,null,null,{"$f":"IF(E469=\"\",\"\",IF(COUNTIF(E:E,E469)>1,IF(COUNTIF(E$6:E469,E469)=1,\"\",\"YES\"),\"\"))","v":""},"",""]
[null,null,null,null,null,null,{"$f":"IF(E470=\"\",\"\",IF(COUNTIF(E:E,E470)>1,IF(COUNTIF(E$6:E470,E470)=1,\"\",\"YES\"),\"\"))","v":""},"",""]
[null,null,null,null,null,null,{"$f":"IF(E471=\"\",\"\",IF(COUNTIF(E:E,E471)>1,IF(COUNTIF(E$6:E471,E471)=1,\"\",\"YES\"),\"\"))","v":""},"",""]
[null,null,null,null,null,null,{"$f":"IF(E472=\"\",\"\",IF(COUNTIF(E:E,E472)>1,IF(COUNTIF(E$6:E472,E472)=1,\"\",\"YES\"),\"\"))","v":""},"",""]
[null,null,null,null,null,null,{"$f":"IF(E473=\"\",\"\",IF(COUNTIF(E:E,E473)>1,IF(COUNTIF(E$6:E473,E473)=1,\"\",\"YES\"),\"\"))","v":""},"",""]
[null,null,null,null,null,null,{"$f":"IF(E474=\"\",\"\",IF(COUNTIF(E:E,E474)>1,IF(COUNTIF(E$6:E474,E474)=1,\"\",\"YES\"),\"\"))","v":""},"",""]
[null,null,null,null,null,null,{"$f":"IF(E475=\"\",\"\",IF(COUNTIF(E:E,E475)>1,IF(COUNTIF(E$6:E475,E475)=1,\"\",\"YES\"),\"\"))","v":""},"",""]
[null,null,null,null,null,null,{"$f":"IF(E476=\"\",\"\",IF(COUNTIF(E:E,E476)>1,IF(COUNTIF(E$6:E476,E476)=1,\"\",\"YES\"),\"\"))","v":""},"",""]
[null,null,null,null,null,null,{"$f":"IF(E477=\"\",\"\",IF(COUNTIF(E:E,E477)>1,IF(COUNTIF(E$6:E477,E477)=1,\"\",\"YES\"),\"\"))","v":""},{"$f":"IF(B477=\"\",\"\", IF(VALUE(LEFT(B477,1))=A$1,\"\",IF(AND(A$2=\"Yes\",VALUE(LEFT(B477))<A$1),\"Expiring\",\"\")))","v":""},""]
[null,null,null,null,null,null,{"$f":"IF(E478=\"\",\"\",IF(COUNTIF(E:E,E478)>1,IF(COUNTIF(E$6:E478,E478)=1,\"\",\"YES\"),\"\"))","v":""},"",""]
[null,null,null,null,null,null,{"$f":"IF(E479=\"\",\"\",IF(COUNTIF(E:E,E479)>1,IF(COUNTIF(E$6:E479,E479)=1,\"\",\"YES\"),\"\"))","v":""},"",""]
[null,null,null,null,null,null,{"$f":"IF(E480=\"\",\"\",IF(COUNTIF(E:E,E480)>1,IF(COUNTIF(E$6:E480,E480)=1,\"\",\"YES\"),\"\"))","v":""},"",""]
[null,null,null,null,null,null,{"$f":"IF(E481=\"\",\"\",IF(COUNTIF(E:E,E481)>1,IF(COUNTIF(E$6:E481,E481)=1,\"\",\"YES\"),\"\"))","v":""},"",""]
[null,null,null,null,null,null,{"$f":"IF(E482=\"\",\"\",IF(COUNTIF(E:E,E482)>1,IF(COUNTIF(E$6:E482,E482)=1,\"\",\"YES\"),\"\"))","v":""},"",""]
[null,null,null,null,null,null,{"$f":"IF(E483=\"\",\"\",IF(COUNTIF(E:E,E483)>1,IF(COUNTIF(E$6:E483,E483)=1,\"\",\"YES\"),\"\"))","v":""},"",""]
[null,null,null,null,null,null,{"$f":"IF(E484=\"\",\"\",IF(COUNTIF(E:E,E484)>1,IF(COUNTIF(E$6:E484,E484)=1,\"\",\"YES\"),\"\"))","v":""},"",""]
[null,null,null,null,null,null,{"$f":"IF(E485=\"\",\"\",IF(COUNTIF(E:E,E485)>1,IF(COUNTIF(E$6:E485,E485)=1,\"\",\"YES\"),\"\"))","v":""},"",""]
[null,null,null,null,null,null,{"$f":"IF(E486=\"\",\"\",IF(COUNTIF(E:E,E486)>1,IF(COUNTIF(E$6:E486,E486)=1,\"\",\"YES\"),\"\"))","v":""},"",""]
[null,null,null,null,null,null,{"$f":"IF(E487=\"\",\"\",IF(COUNTIF(E:E,E487)>1,IF(COUNTIF(E$6:E487,E487)=1,\"\",\"YES\"),\"\"))","v":""},"",""]
[null,null,null,null,null,null,{"$f":"IF(E488=\"\",\"\",IF(COUNTIF(E:E,E488)>1,IF(COUNTIF(E$6:E488,E488)=1,\"\",\"YES\"),\"\"))","v":""},"",""]
[null,null,null,null,null,null,{"$f":"IF(E489=\"\",\"\",IF(COUNTIF(E:E,E489)>1,IF(COUNTIF(E$6:E489,E489)=1,\"\",\"YES\"),\"\"))","v":""},"",""]
[null,null,null,null,null,null,{"$f":"IF(E490=\"\",\"\",IF(COUNTIF(E:E,E490)>1,IF(COUNTIF(E$6:E490,E490)=1,\"\",\"YES\"),\"\"))","v":""},"",""]
[null,null,null,null,null,null,{"$f":"IF(E491=\"\",\"\",IF(COUNTIF(E:E,E491)>1,IF(COUNTIF(E$6:E491,E491)=1,\"\",\"YES\"),\"\"))","v":""},"",""]
[null,null,null,null,null,null,{"$f":"IF(E492=\"\",\"\",IF(COUNTIF(E:E,E492)>1,IF(COUNTIF(E$6:E492,E492)=1,\"\",\"YES\"),\"\"))","v":""},"",""]
[null,null,null,null,null,null,{"$f":"IF(E493=\"\",\"\",IF(COUNTIF(E:E,E493)>1,IF(COUNTIF(E$6:E493,E493)=1,\"\",\"YES\"),\"\"))","v":""},"",""]
[null,null,null,null,null,null,{"$f":"IF(E494=\"\",\"\",IF(COUNTIF(E:E,E494)>1,IF(COUNTIF(E$6:E494,E494)=1,\"\",\"YES\"),\"\"))","v":""},"",""]
[null,null,null,null,null,null,{"$f":"IF(E495=\"\",\"\",IF(COUNTIF(E:E,E495)>1,IF(COUNTIF(E$6:E495,E495)=1,\"\",\"YES\"),\"\"))","v":""},"",""]
[null,null,null,null,null,null,{"$f":"IF(E496=\"\",\"\",IF(COUNTIF(E:E,E496)>1,IF(COUNTIF(E$6:E496,E496)=1,\"\",\"YES\"),\"\"))","v":""},"",""]
[null,null,null,null,null,null,{"$f":"IF(E497=\"\",\"\",IF(COUNTIF(E:E,E497)>1,IF(COUNTIF(E$6:E497,E497)=1,\"\",\"YES\"),\"\"))","v":""},"",""]
[null,null,null,null,null,null,{"$f":"IF(E498=\"\",\"\",IF(COUNTIF(E:E,E498)>1,IF(COUNTIF(E$6:E498,E498)=1,\"\",\"YES\"),\"\"))","v":""},"",""]
[null,null,null,null,null,null,{"$f":"IF(E499=\"\",\"\",IF(COUNTIF(E:E,E499)>1,IF(COUNTIF(E$6:E499,E499)=1,\"\",\"YES\"),\"\"))","v":""},"",""]
[null,null,null,null,null,null,{"$f":"IF(E500=\"\",\"\",IF(COUNTIF(E:E,E500)>1,IF(COUNTIF(E$6:E500,E500)=1,\"\",\"YES\"),\"\"))","v":""},"",""]
[null,null,null,null,null,null,{"$f":"IF(E501=\"\",\"\",IF(COUNTIF(E:E,E501)>1,IF(COUNTIF(E$6:E501,E501)=1,\"\",\"YES\"),\"\"))","v":""},"",""]
[null,null,null,null,null,null,{"$f":"IF(E502=\"\",\"\",IF(COUNTIF(E:E,E502)>1,IF(COUNTIF(E$6:E502,E502)=1,\"\",\"YES\"),\"\"))","v":""},"",""]
[null,null,null,null,null,null,{"$f":"IF(E503=\"\",\"\",IF(COUNTIF(E:E,E503)>1,IF(COUNTIF(E$6:E503,E503)=1,\"\",\"YES\"),\"\"))","v":""},"",""]
[null,null,null,null,null,null,{"$f":"IF(E504=\"\",\"\",IF(COUNTIF(E:E,E504)>1,IF(COUNTIF(E$6:E504,E504)=1,\"\",\"YES\"),\"\"))","v":""},"",""]
[null,null,null,null,null,null,{"$f":"IF(E505=\"\",\"\",IF(COUNTIF(E:E,E505)>1,IF(COUNTIF(E$6:E505,E505)=1,\"\",\"YES\"),\"\"))","v":""},"",""]
[null,null,null,null,null,null,{"$f":"IF(E506=\"\",\"\",IF(COUNTIF(E:E,E506)>1,IF(COUNTIF(E$6:E506,E506)=1,\"\",\"YES\"),\"\"))","v":""},"",""]
[null,null,null,null,null,null,{"$f":"IF(E507=\"\",\"\",IF(COUNTIF(E:E,E507)>1,IF(COUNTIF(E$6:E507,E507)=1,\"\",\"YES\"),\"\"))","v":""},"",""]
[null,null,null,null,null,null,{"$f":"IF(E508=\"\",\"\",IF(COUNTIF(E:E,E508)>1,IF(COUNTIF(E$6:E508,E508)=1,\"\",\"YES\"),\"\"))","v":""},"",""]
[null,null,null,null,null,null,{"$f":"IF(E509=\"\",\"\",IF(COUNTIF(E:E,E509)>1,IF(COUNTIF(E$6:E509,E509)=1,\"\",\"YES\"),\"\"))","v":""},"",{"$f":"IF(B509=\"\",\"\",IF(OR(G509=\"YES\",H509=\"EXPIRING\"),\"YES\",\"NO\"))","v":""}]
[null,null,null,null,null,null,{"$f":"IF(E510=\"\",\"\",IF(COUNTIF(E:E,E510)>1,IF(COUNTIF(E$6:E510,E510)=1,\"\",\"YES\"),\"\"))","v":""},"",""]
[null,null,null,null,null,null,{"$f":"IF(E511=\"\",\"\",IF(COUNTIF(E:E,E511)>1,IF(COUNTIF(E$6:E511,E511)=1,\"\",\"YES\"),\"\"))","v":""},"",""]
[null,null,null,null,null,null,{"$f":"IF(E512=\"\",\"\",IF(COUNTIF(E:E,E512)>1,IF(COUNTIF(E$6:E512,E512)=1,\"\",\"YES\"),\"\"))","v":""},"",""]
[null,null,null,null,null,null,{"$f":"IF(E513=\"\",\"\",IF(COUNTIF(E:E,E513)>1,IF(COUNTIF(E$6:E513,E513)=1,\"\",\"YES\"),\"\"))","v":""},"",""]
[null,null,null,null,null,null,{"$f":"IF(E514=\"\",\"\",IF(COUNTIF(E:E,E514)>1,IF(COUNTIF(E$6:E514,E514)=1,\"\",\"YES\"),\"\"))","v":""},"",""]
[null,null,null,null,null,null,{"$f":"IF(E515=\"\",\"\",IF(COUNTIF(E:E,E515)>1,IF(COUNTIF(E$6:E515,E515)=1,\"\",\"YES\"),\"\"))","v":""},"",""]
[null,null,null,null,null,null,{"$f":"IF(E516=\"\",\"\",IF(COUNTIF(E:E,E516)>1,IF(COUNTIF(E$6:E516,E516)=1,\"\",\"YES\"),\"\"))","v":""},"",""]
[null,null,null,null,null,null,{"$f":"IF(E517=\"\",\"\",IF(COUNTIF(E:E,E517)>1,IF(COUNTIF(E$6:E517,E517)=1,\"\",\"YES\"),\"\"))","v":""},"",""]
[null,null,null,null,null,null,{"$f":"IF(E518=\"\",\"\",IF(COUNTIF(E:E,E518)>1,IF(COUNTIF(E$6:E518,E518)=1,\"\",\"YES\"),\"\"))","v":""},"",""]
[null,null,null,null,null,null,{"$f":"IF(E519=\"\",\"\",IF(COUNTIF(E:E,E519)>1,IF(COUNTIF(E$6:E519,E519)=1,\"\",\"YES\"),\"\"))","v":""},"",""]
[null,null,null,null,null,null,{"$f":"IF(E520=\"\",\"\",IF(COUNTIF(E:E,E520)>1,IF(COUNTIF(E$6:E520,E520)=1,\"\",\"YES\"),\"\"))","v":""},"",""]
[null,null,null,null,null,null,{"$f":"IF(E521=\"\",\"\",IF(COUNTIF(E:E,E521)>1,IF(COUNTIF(E$6:E521,E521)=1,\"\",\"YES\"),\"\"))","v":""},"",""]
[null,null,null,null,null,null,{"$f":"IF(E522=\"\",\"\",IF(COUNTIF(E:E,E522)>1,IF(COUNTIF(E$6:E522,E522)=1,\"\",\"YES\"),\"\"))","v":""},"",""]
[null,null,null,null,null,null,{"$f":"IF(E523=\"\",\"\",IF(COUNTIF(E:E,E523)>1,IF(COUNTIF(E$6:E523,E523)=1,\"\",\"YES\"),\"\"))","v":""},"",""]
[null,null,null,null,null,null,{"$f":"IF(E524=\"\",\"\",IF(COUNTIF(E:E,E524)>1,IF(COUNTIF(E$6:E524,E524)=1,\"\",\"YES\"),\"\"))","v":""},"",""]
[null,null,null,null,null,null,{"$f":"IF(E525=\"\",\"\",IF(COUNTIF(E:E,E525)>1,IF(COUNTIF(E$6:E525,E525)=1,\"\",\"YES\"),\"\"))","v":""},"",""]
[null,null,null,null,null,null,{"$f":"IF(E526=\"\",\"\",IF(COUNTIF(E:E,E526)>1,IF(COUNTIF(E$6:E526,E526)=1,\"\",\"YES\"),\"\"))","v":""},"",""]
[null,null,null,null,null,null,{"$f":"IF(E527=\"\",\"\",IF(COUNTIF(E:E,E527)>1,IF(COUNTIF(E$6:E527,E527)=1,\"\",\"YES\"),\"\"))","v":""},"",""]
[null,null,null,null,null,null,{"$f":"IF(E528=\"\",\"\",IF(COUNTIF(E:E,E528)>1,IF(COUNTIF(E$6:E528,E528)=1,\"\",\"YES\"),\"\"))","v":""},"",""]
[null,null,null,null,null,null,{"$f":"IF(E529=\"\",\"\",IF(COUNTIF(E:E,E529)>1,IF(COUNTIF(E$6:E529,E529)=1,\"\",\"YES\"),\"\"))","v":""},"",""]
[null,null,null,null,null,null,{"$f":"IF(E530=\"\",\"\",IF(COUNTIF(E:E,E530)>1,IF(COUNTIF(E$6:E530,E530)=1,\"\",\"YES\"),\"\"))","v":""},"",""]
[null,null,null,null,null,null,{"$f":"IF(E531=\"\",\"\",IF(COUNTIF(E:E,E531)>1,IF(COUNTIF(E$6:E531,E531)=1,\"\",\"YES\"),\"\"))","v":""},"",""]
[null,null,null,null,null,null,{"$f":"IF(E532=\"\",\"\",IF(COUNTIF(E:E,E532)>1,IF(COUNTIF(E$6:E532,E532)=1,\"\",\"YES\"),\"\"))","v":""},"",""]
[null,null,null,null,null,null,{"$f":"IF(E533=\"\",\"\",IF(COUNTIF(E:E,E533)>1,IF(COUNTIF(E$6:E533,E533)=1,\"\",\"YES\"),\"\"))","v":""},"",""]
[null,null,null,null,null,null,{"$f":"IF(E534=\"\",\"\",IF(COUNTIF(E:E,E534)>1,IF(COUNTIF(E$6:E534,E534)=1,\"\",\"YES\"),\"\"))","v":""},"",""]
[null,null,null,null,null,null,{"$f":"IF(E535=\"\",\"\",IF(COUNTIF(E:E,E535)>1,IF(COUNTIF(E$6:E535,E535)=1,\"\",\"YES\"),\"\"))","v":""},"",""]
[null,null,null,null,null,null,{"$f":"IF(E536=\"\",\"\",IF(COUNTIF(E:E,E536)>1,IF(COUNTIF(E$6:E536,E536)=1,\"\",\"YES\"),\"\"))","v":""},"",""]
[null,null,null,null,null,null,{"$f":"IF(E537=\"\",\"\",IF(COUNTIF(E:E,E537)>1,IF(COUNTIF(E$6:E537,E537)=1,\"\",\"YES\"),\"\"))","v":""},"",""]
[null,null,null,null,null,null,{"$f":"IF(E538=\"\",\"\",IF(COUNTIF(E:E,E538)>1,IF(COUNTIF(E$6:E538,E538)=1,\"\",\"YES\"),\"\"))","v":""},"",""]
[null,null,null,null,null,null,{"$f":"IF(E539=\"\",\"\",IF(COUNTIF(E:E,E539)>1,IF(COUNTIF(E$6:E539,E539)=1,\"\",\"YES\"),\"\"))","v":""},"",""]
[null,null,null,null,null,null,{"$f":"IF(E540=\"\",\"\",IF(COUNTIF(E:E,E540)>1,IF(COUNTIF(E$6:E540,E540)=1,\"\",\"YES\"),\"\"))","v":""},"",""]
[null,null,null,null,null,null,{"$f":"IF(E541=\"\",\"\",IF(COUNTIF(E:E,E541)>1,IF(COUNTIF(E$6:E541,E541)=1,\"\",\"YES\"),\"\"))","v":""},{"$f":"IF(B541=\"\",\"\", IF(VALUE(LEFT(B541,1))=A$1,\"\",IF(AND(A$2=\"Yes\",VALUE(LEFT(B541))<A$1),\"Expiring\",\"\")))","v":""},""]
[null,null,null,null,null,null,{"$f":"IF(E542=\"\",\"\",IF(COUNTIF(E:E,E542)>1,IF(COUNTIF(E$6:E542,E542)=1,\"\",\"YES\"),\"\"))","v":""},"",""]
[null,null,null,null,null,null,{"$f":"IF(E543=\"\",\"\",IF(COUNTIF(E:E,E543)>1,IF(COUNTIF(E$6:E543,E543)=1,\"\",\"YES\"),\"\"))","v":""},"",""]
[null,null,null,null,null,null,{"$f":"IF(E544=\"\",\"\",IF(COUNTIF(E:E,E544)>1,IF(COUNTIF(E$6:E544,E544)=1,\"\",\"YES\"),\"\"))","v":""},"",""]
[null,null,null,null,null,null,{"$f":"IF(E545=\"\",\"\",IF(COUNTIF(E:E,E545)>1,IF(COUNTIF(E$6:E545,E545)=1,\"\",\"YES\"),\"\"))","v":""},"",""]
[null,null,null,null,null,null,{"$f":"IF(E546=\"\",\"\",IF(COUNTIF(E:E,E546)>1,IF(COUNTIF(E$6:E546,E546)=1,\"\",\"YES\"),\"\"))","v":""},"",""]
[null,null,null,null,null,null,{"$f":"IF(E547=\"\",\"\",IF(COUNTIF(E:E,E547)>1,IF(COUNTIF(E$6:E547,E547)=1,\"\",\"YES\"),\"\"))","v":""},"",""]
[null,null,null,null,null,null,{"$f":"IF(E548=\"\",\"\",IF(COUNTIF(E:E,E548)>1,IF(COUNTIF(E$6:E548,E548)=1,\"\",\"YES\"),\"\"))","v":""},"",""]
[null,null,null,null,null,null,{"$f":"IF(E549=\"\",\"\",IF(COUNTIF(E:E,E549)>1,IF(COUNTIF(E$6:E549,E549)=1,\"\",\"YES\"),\"\"))","v":""},"",""]
[null,null,null,null,null,null,{"$f":"IF(E550=\"\",\"\",IF(COUNTIF(E:E,E550)>1,IF(COUNTIF(E$6:E550,E550)=1,\"\",\"YES\"),\"\"))","v":""},"",""]
[null,null,null,null,null,null,{"$f":"IF(E551=\"\",\"\",IF(COUNTIF(E:E,E551)>1,IF(COUNTIF(E$6:E551,E551)=1,\"\",\"YES\"),\"\"))","v":""},"",""]
[null,null,null,null,null,null,{"$f":"IF(E552=\"\",\"\",IF(COUNTIF(E:E,E552)>1,IF(COUNTIF(E$6:E552,E552)=1,\"\",\"YES\"),\"\"))","v":""},"",""]
[null,null,null,null,null,null,{"$f":"IF(E553=\"\",\"\",IF(COUNTIF(E:E,E553)>1,IF(COUNTIF(E$6:E553,E553)=1,\"\",\"YES\"),\"\"))","v":""},"",""]
[null,null,null,null,null,null,{"$f":"IF(E554=\"\",\"\",IF(COUNTIF(E:E,E554)>1,IF(COUNTIF(E$6:E554,E554)=1,\"\",\"YES\"),\"\"))","v":""},"",""]
[null,null,null,null,null,null,{"$f":"IF(E555=\"\",\"\",IF(COUNTIF(E:E,E555)>1,IF(COUNTIF(E$6:E555,E555)=1,\"\",\"YES\"),\"\"))","v":""},"",""]
[null,null,null,null,null,null,{"$f":"IF(E556=\"\",\"\",IF(COUNTIF(E:E,E556)>1,IF(COUNTIF(E$6:E556,E556)=1,\"\",\"YES\"),\"\"))","v":""},"",""]
[null,null,null,null,null,null,{"$f":"IF(E557=\"\",\"\",IF(COUNTIF(E:E,E557)>1,IF(COUNTIF(E$6:E557,E557)=1,\"\",\"YES\"),\"\"))","v":""},"",""]
[null,null,null,null,null,null,{"$f":"IF(E558=\"\",\"\",IF(COUNTIF(E:E,E558)>1,IF(COUNTIF(E$6:E558,E558)=1,\"\",\"YES\"),\"\"))","v":""},"",""]
[null,null,null,null,null,null,{"$f":"IF(E559=\"\",\"\",IF(COUNTIF(E:E,E559)>1,IF(COUNTIF(E$6:E559,E559)=1,\"\",\"YES\"),\"\"))","v":""},"",""]
[null,null,null,null,null,null,{"$f":"IF(E560=\"\",\"\",IF(COUNTIF(E:E,E560)>1,IF(COUNTIF(E$6:E560,E560)=1,\"\",\"YES\"),\"\"))","v":""},"",""]
[null,null,null,null,null,null,{"$f":"IF(E561=\"\",\"\",IF(COUNTIF(E:E,E561)>1,IF(COUNTIF(E$6:E561,E561)=1,\"\",\"YES\"),\"\"))","v":""},"",""]
[null,null,null,null,null,null,{"$f":"IF(E562=\"\",\"\",IF(COUNTIF(E:E,E562)>1,IF(COUNTIF(E$6:E562,E562)=1,\"\",\"YES\"),\"\"))","v":""},"",""]
[null,null,null,null,null,null,{"$f":"IF(E563=\"\",\"\",IF(COUNTIF(E:E,E563)>1,IF(COUNTIF(E$6:E563,E563)=1,\"\",\"YES\"),\"\"))","v":""},"",""]
[null,null,null,null,null,null,{"$f":"IF(E564=\"\",\"\",IF(COUNTIF(E:E,E564)>1,IF(COUNTIF(E$6:E564,E564)=1,\"\",\"YES\"),\"\"))","v":""},"",""]
[null,null,null,null,null,null,{"$f":"IF(E565=\"\",\"\",IF(COUNTIF(E:E,E565)>1,IF(COUNTIF(E$6:E565,E565)=1,\"\",\"YES\"),\"\"))","v":""},"",""]
[null,null,null,null,null,null,{"$f":"IF(E566=\"\",\"\",IF(COUNTIF(E:E,E566)>1,IF(COUNTIF(E$6:E566,E566)=1,\"\",\"YES\"),\"\"))","v":""},"",""]
[null,null,null,null,null,null,{"$f":"IF(E567=\"\",\"\",IF(COUNTIF(E:E,E567)>1,IF(COUNTIF(E$6:E567,E567)=1,\"\",\"YES\"),\"\"))","v":""},"",""]
[null,null,null,null,null,null,{"$f":"IF(E568=\"\",\"\",IF(COUNTIF(E:E,E568)>1,IF(COUNTIF(E$6:E568,E568)=1,\"\",\"YES\"),\"\"))","v":""},"",""]
[null,null,null,null,null,null,{"$f":"IF(E569=\"\",\"\",IF(COUNTIF(E:E,E569)>1,IF(COUNTIF(E$6:E569,E569)=1,\"\",\"YES\"),\"\"))","v":""},"",""]
[null,null,null,null,null,null,{"$f":"IF(E570=\"\",\"\",IF(COUNTIF(E:E,E570)>1,IF(COUNTIF(E$6:E570,E570)=1,\"\",\"YES\"),\"\"))","v":""},"",""]
[null,null,null,null,null,null,{"$f":"IF(E571=\"\",\"\",IF(COUNTIF(E:E,E571)>1,IF(COUNTIF(E$6:E571,E571)=1,\"\",\"YES\"),\"\"))","v":""},"",""]
[null,null,null,null,null,null,{"$f":"IF(E572=\"\",\"\",IF(COUNTIF(E:E,E572)>1,IF(COUNTIF(E$6:E572,E572)=1,\"\",\"YES\"),\"\"))","v":""},"",""]
[null,null,null,null,null,null,{"$f":"IF(E573=\"\",\"\",IF(COUNTIF(E:E,E573)>1,IF(COUNTIF(E$6:E573,E573)=1,\"\",\"YES\"),\"\"))","v":""},"",{"$f":"IF(B573=\"\",\"\",IF(OR(G573=\"YES\",H573=\"EXPIRING\"),\"YES\",\"NO\"))","v":""}]
[null,null,null,null,null,null,{"$f":"IF(E574=\"\",\"\",IF(COUNTIF(E:E,E574)>1,IF(COUNTIF(E$6:E574,E574)=1,\"\",\"YES\"),\"\"))","v":""},"",""]
[null,null,null,null,null,null,{"$f":"IF(E575=\"\",\"\",IF(COUNTIF(E:E,E575)>1,IF(COUNTIF(E$6:E575,E575)=1,\"\",\"YES\"),\"\"))","v":""},"",""]
[null,null,null,null,null,null,{"$f":"IF(E576=\"\",\"\",IF(COUNTIF(E:E,E576)>1,IF(COUNTIF(E$6:E576,E576)=1,\"\",\"YES\"),\"\"))","v":""},"",""]
[null,null,null,null,null,null,{"$f":"IF(E577=\"\",\"\",IF(COUNTIF(E:E,E577)>1,IF(COUNTIF(E$6:E577,E577)=1,\"\",\"YES\"),\"\"))","v":""},"",""]
[null,null,null,null,null,null,{"$f":"IF(E578=\"\",\"\",IF(COUNTIF(E:E,E578)>1,IF(COUNTIF(E$6:E578,E578)=1,\"\",\"YES\"),\"\"))","v":""},"",""]
[null,null,null,null,null,null,{"$f":"IF(E579=\"\",\"\",IF(COUNTIF(E:E,E579)>1,IF(COUNTIF(E$6:E579,E579)=1,\"\",\"YES\"),\"\"))","v":""},"",""]
[null,null,null,null,null,null,{"$f":"IF(E580=\"\",\"\",IF(COUNTIF(E:E,E580)>1,IF(COUNTIF(E$6:E580,E580)=1,\"\",\"YES\"),\"\"))","v":""},"",""]
[null,null,null,null,null,null,{"$f":"IF(E581=\"\",\"\",IF(COUNTIF(E:E,E581)>1,IF(COUNTIF(E$6:E581,E581)=1,\"\",\"YES\"),\"\"))","v":""},"",""]
[null,null,null,null,null,null,{"$f":"IF(E582=\"\",\"\",IF(COUNTIF(E:E,E582)>1,IF(COUNTIF(E$6:E582,E582)=1,\"\",\"YES\"),\"\"))","v":""},"",""]
[null,null,null,null,null,null,{"$f":"IF(E583=\"\",\"\",IF(COUNTIF(E:E,E583)>1,IF(COUNTIF(E$6:E583,E583)=1,\"\",\"YES\"),\"\"))","v":""},"",""]
[null,null,null,null,null,null,{"$f":"IF(E584=\"\",\"\",IF(COUNTIF(E:E,E584)>1,IF(COUNTIF(E$6:E584,E584)=1,\"\",\"YES\"),\"\"))","v":""},"",""]
[null,null,null,null,null,null,{"$f":"IF(E585=\"\",\"\",IF(COUNTIF(E:E,E585)>1,IF(COUNTIF(E$6:E585,E585)=1,\"\",\"YES\"),\"\"))","v":""},"",""]
[null,null,null,null,null,null,{"$f":"IF(E586=\"\",\"\",IF(COUNTIF(E:E,E586)>1,IF(COUNTIF(E$6:E586,E586)=1,\"\",\"YES\"),\"\"))","v":""},"",""]
[null,null,null,null,null,null,{"$f":"IF(E587=\"\",\"\",IF(COUNTIF(E:E,E587)>1,IF(COUNTIF(E$6:E587,E587)=1,\"\",\"YES\"),\"\"))","v":""},"",""]
[null,null,null,null,null,null,{"$f":"IF(E588=\"\",\"\",IF(COUNTIF(E:E,E588)>1,IF(COUNTIF(E$6:E588,E588)=1,\"\",\"YES\"),\"\"))","v":""},"",""]
[null,null,null,null,null,null,{"$f":"IF(E589=\"\",\"\",IF(COUNTIF(E:E,E589)>1,IF(COUNTIF(E$6:E589,E589)=1,\"\",\"YES\"),\"\"))","v":""},"",""]
[null,null,null,null,null,null,{"$f":"IF(E590=\"\",\"\",IF(COUNTIF(E:E,E590)>1,IF(COUNTIF(E$6:E590,E590)=1,\"\",\"YES\"),\"\"))","v":""},"",""]
[null,null,null,null,null,null,{"$f":"IF(E591=\"\",\"\",IF(COUNTIF(E:E,E591)>1,IF(COUNTIF(E$6:E591,E591)=1,\"\",\"YES\"),\"\"))","v":""},"",""]
[null,null,null,null,null,null,{"$f":"IF(E592=\"\",\"\",IF(COUNTIF(E:E,E592)>1,IF(COUNTIF(E$6:E592,E592)=1,\"\",\"YES\"),\"\"))","v":""},"",""]
[null,null,null,null,null,null,{"$f":"IF(E593=\"\",\"\",IF(COUNTIF(E:E,E593)>1,IF(COUNTIF(E$6:E593,E593)=1,\"\",\"YES\"),\"\"))","v":""},"",""]
[null,null,null,null,null,null,{"$f":"IF(E594=\"\",\"\",IF(COUNTIF(E:E,E594)>1,IF(COUNTIF(E$6:E594,E594)=1,\"\",\"YES\"),\"\"))","v":""},"",""]
[null,null,null,null,null,null,{"$f":"IF(E595=\"\",\"\",IF(COUNTIF(E:E,E595)>1,IF(COUNTIF(E$6:E595,E595)=1,\"\",\"YES\"),\"\"))","v":""},"",""]
[null,null,null,null,null,null,{"$f":"IF(E596=\"\",\"\",IF(COUNTIF(E:E,E596)>1,IF(COUNTIF(E$6:E596,E596)=1,\"\",\"YES\"),\"\"))","v":""},"",""]
[null,null,null,null,null,null,{"$f":"IF(E597=\"\",\"\",IF(COUNTIF(E:E,E597)>1,IF(COUNTIF(E$6:E597,E597)=1,\"\",\"YES\"),\"\"))","v":""},"",""]
[null,null,null,null,null,null,{"$f":"IF(E598=\"\",\"\",IF(COUNTIF(E:E,E598)>1,IF(COUNTIF(E$6:E598,E598)=1,\"\",\"YES\"),\"\"))","v":""},"",""]
[null,null,null,null,null,null,{"$f":"IF(E599=\"\",\"\",IF(COUNTIF(E:E,E599)>1,IF(COUNTIF(E$6:E599,E599)=1,\"\",\"YES\"),\"\"))","v":""},"",""]
[null,null,null,null,null,null,{"$f":"IF(E600=\"\",\"\",IF(COUNTIF(E:E,E600)>1,IF(COUNTIF(E$6:E600,E600)=1,\"\",\"YES\"),\"\"))","v":""},"",""]
[null,null,null,null,null,null,{"$f":"IF(E601=\"\",\"\",IF(COUNTIF(E:E,E601)>1,IF(COUNTIF(E$6:E601,E601)=1,\"\",\"YES\"),\"\"))","v":""},"",""]
[null,null,null,null,null,null,{"$f":"IF(E602=\"\",\"\",IF(COUNTIF(E:E,E602)>1,IF(COUNTIF(E$6:E602,E602)=1,\"\",\"YES\"),\"\"))","v":""},"",""]
[null,null,null,null,null,null,{"$f":"IF(E603=\"\",\"\",IF(COUNTIF(E:E,E603)>1,IF(COUNTIF(E$6:E603,E603)=1,\"\",\"YES\"),\"\"))","v":""},"",""]
[null,null,null,null,null,null,{"$f":"IF(E604=\"\",\"\",IF(COUNTIF(E:E,E604)>1,IF(COUNTIF(E$6:E604,E604)=1,\"\",\"YES\"),\"\"))","v":""},"",""]
[null,null,null,null,null,null,{"$f":"IF(E605=\"\",\"\",IF(COUNTIF(E:E,E605)>1,IF(COUNTIF(E$6:E605,E605)=1,\"\",\"YES\"),\"\"))","v":""},{"$f":"IF(B605=\"\",\"\", IF(VALUE(LEFT(B605,1))=A$1,\"\",IF(AND(A$2=\"Yes\",VALUE(LEFT(B605))<A$1),\"Expiring\",\"\")))","v":""},""]
[null,null,null,null,null,null,{"$f":"IF(E606=\"\",\"\",IF(COUNTIF(E:E,E606)>1,IF(COUNTIF(E$6:E606,E606)=1,\"\",\"YES\"),\"\"))","v":""},"",""]
[null,null,null,null,null,null,{"$f":"IF(E607=\"\",\"\",IF(COUNTIF(E:E,E607)>1,IF(COUNTIF(E$6:E607,E607)=1,\"\",\"YES\"),\"\"))","v":""},"",""]
[null,null,null,null,null,null,{"$f":"IF(E608=\"\",\"\",IF(COUNTIF(E:E,E608)>1,IF(COUNTIF(E$6:E608,E608)=1,\"\",\"YES\"),\"\"))","v":""},"",""]
[null,null,null,null,null,null,{"$f":"IF(E609=\"\",\"\",IF(COUNTIF(E:E,E609)>1,IF(COUNTIF(E$6:E609,E609)=1,\"\",\"YES\"),\"\"))","v":""},"",""]
[null,null,null,null,null,null,{"$f":"IF(E610=\"\",\"\",IF(COUNTIF(E:E,E610)>1,IF(COUNTIF(E$6:E610,E610)=1,\"\",\"YES\"),\"\"))","v":""},"",""]
[null,null,null,null,null,null,{"$f":"IF(E611=\"\",\"\",IF(COUNTIF(E:E,E611)>1,IF(COUNTIF(E$6:E611,E611)=1,\"\",\"YES\"),\"\"))","v":""},"",""]
[null,null,null,null,null,null,{"$f":"IF(E612=\"\",\"\",IF(COUNTIF(E:E,E612)>1,IF(COUNTIF(E$6:E612,E612)=1,\"\",\"YES\"),\"\"))","v":""},"",""]
[null,null,null,null,null,null,{"$f":"IF(E613=\"\",\"\",IF(COUNTIF(E:E,E613)>1,IF(COUNTIF(E$6:E613,E613)=1,\"\",\"YES\"),\"\"))","v":""},"",""]
[null,null,null,null,null,null,{"$f":"IF(E614=\"\",\"\",IF(COUNTIF(E:E,E614)>1,IF(COUNTIF(E$6:E614,E614)=1,\"\",\"YES\"),\"\"))","v":""},"",""]
[null,null,null,null,null,null,{"$f":"IF(E615=\"\",\"\",IF(COUNTIF(E:E,E615)>1,IF(COUNTIF(E$6:E615,E615)=1,\"\",\"YES\"),\"\"))","v":""},"",""]
[null,null,null,null,null,null,{"$f":"IF(E616=\"\",\"\",IF(COUNTIF(E:E,E616)>1,IF(COUNTIF(E$6:E616,E616)=1,\"\",\"YES\"),\"\"))","v":""},"",""]
[null,null,null,null,null,null,{"$f":"IF(E617=\"\",\"\",IF(COUNTIF(E:E,E617)>1,IF(COUNTIF(E$6:E617,E617)=1,\"\",\"YES\"),\"\"))","v":""},"",""]
[null,null,null,null,null,null,{"$f":"IF(E618=\"\",\"\",IF(COUNTIF(E:E,E618)>1,IF(COUNTIF(E$6:E618,E618)=1,\"\",\"YES\"),\"\"))","v":""},"",""]
[null,null,null,null,null,null,{"$f":"IF(E619=\"\",\"\",IF(COUNTIF(E:E,E619)>1,IF(COUNTIF(E$6:E619,E619)=1,\"\",\"YES\"),\"\"))","v":""},"",""]
[null,null,null,null,null,null,{"$f":"IF(E620=\"\",\"\",IF(COUNTIF(E:E,E620)>1,IF(COUNTIF(E$6:E620,E620)=1,\"\",\"YES\"),\"\"))","v":""},"",""]
[null,null,null,null,null,null,{"$f":"IF(E621=\"\",\"\",IF(COUNTIF(E:E,E621)>1,IF(COUNTIF(E$6:E621,E621)=1,\"\",\"YES\"),\"\"))","v":""},"",""]
[null,null,null,null,null,null,{"$f":"IF(E622=\"\",\"\",IF(COUNTIF(E:E,E622)>1,IF(COUNTIF(E$6:E622,E622)=1,\"\",\"YES\"),\"\"))","v":""},"",""]
[null,null,null,null,null,null,{"$f":"IF(E623=\"\",\"\",IF(COUNTIF(E:E,E623)>1,IF(COUNTIF(E$6:E623,E623)=1,\"\",\"YES\"),\"\"))","v":""},"",""]
[null,null,null,null,null,null,{"$f":"IF(E624=\"\",\"\",IF(COUNTIF(E:E,E624)>1,IF(COUNTIF(E$6:E624,E624)=1,\"\",\"YES\"),\"\"))","v":""},"",""]
[null,null,null,null,null,null,{"$f":"IF(E625=\"\",\"\",IF(COUNTIF(E:E,E625)>1,IF(COUNTIF(E$6:E625,E625)=1,\"\",\"YES\"),\"\"))","v":""},"",""]
[null,null,null,null,null,null,{"$f":"IF(E626=\"\",\"\",IF(COUNTIF(E:E,E626)>1,IF(COUNTIF(E$6:E626,E626)=1,\"\",\"YES\"),\"\"))","v":""},"",""]
[null,null,null,null,null,null,{"$f":"IF(E627=\"\",\"\",IF(COUNTIF(E:E,E627)>1,IF(COUNTIF(E$6:E627,E627)=1,\"\",\"YES\"),\"\"))","v":""},"",""]
[null,null,null,null,null,null,{"$f":"IF(E628=\"\",\"\",IF(COUNTIF(E:E,E628)>1,IF(COUNTIF(E$6:E628,E628)=1,\"\",\"YES\"),\"\"))","v":""},"",""]
[null,null,null,null,null,null,{"$f":"IF(E629=\"\",\"\",IF(COUNTIF(E:E,E629)>1,IF(COUNTIF(E$6:E629,E629)=1,\"\",\"YES\"),\"\"))","v":""},"",""]
[null,null,null,null,null,null,{"$f":"IF(E630=\"\",\"\",IF(COUNTIF(E:E,E630)>1,IF(COUNTIF(E$6:E630,E630)=1,\"\",\"YES\"),\"\"))","v":""},"",""]
[null,null,null,null,null,null,{"$f":"IF(E631=\"\",\"\",IF(COUNTIF(E:E,E631)>1,IF(COUNTIF(E$6:E631,E631)=1,\"\",\"YES\"),\"\"))","v":""},"",""]
[null,null,null,null,null,null,{"$f":"IF(E632=\"\",\"\",IF(COUNTIF(E:E,E632)>1,IF(COUNTIF(E$6:E632,E632)=1,\"\",\"YES\"),\"\"))","v":""},"",""]
[null,null,null,null,null,null,{"$f":"IF(E633=\"\",\"\",IF(COUNTIF(E:E,E633)>1,IF(COUNTIF(E$6:E633,E633)=1,\"\",\"YES\"),\"\"))","v":""},"",""]
[null,null,null,null,null,null,{"$f":"IF(E634=\"\",\"\",IF(COUNTIF(E:E,E634)>1,IF(COUNTIF(E$6:E634,E634)=1,\"\",\"YES\"),\"\"))","v":""},"",""]
[null,null,null,null,null,null,{"$f":"IF(E635=\"\",\"\",IF(COUNTIF(E:E,E635)>1,IF(COUNTIF(E$6:E635,E635)=1,\"\",\"YES\"),\"\"))","v":""},"",""]
[null,null,null,null,null,null,{"$f":"IF(E636=\"\",\"\",IF(COUNTIF(E:E,E636)>1,IF(COUNTIF(E$6:E636,E636)=1,\"\",\"YES\"),\"\"))","v":""},"",""]
[null,null,null,null,null,null,{"$f":"IF(E637=\"\",\"\",IF(COUNTIF(E:E,E637)>1,IF(COUNTIF(E$6:E637,E637)=1,\"\",\"YES\"),\"\"))","v":""},"",{"$f":"IF(B637=\"\",\"\",IF(OR(G637=\"YES\",H637=\"EXPIRING\"),\"YES\",\"NO\"))","v":""}]
[null,null,null,null,null,null,{"$f":"IF(E638=\"\",\"\",IF(COUNTIF(E:E,E638)>1,IF(COUNTIF(E$6:E638,E638)=1,\"\",\"YES\"),\"\"))","v":""},"",""]
[null,null,null,null,null,null,{"$f":"IF(E639=\"\",\"\",IF(COUNTIF(E:E,E639)>1,IF(COUNTIF(E$6:E639,E639)=1,\"\",\"YES\"),\"\"))","v":""},"",""]
[null,null,null,null,null,null,{"$f":"IF(E640=\"\",\"\",IF(COUNTIF(E:E,E640)>1,IF(COUNTIF(E$6:E640,E640)=1,\"\",\"YES\"),\"\"))","v":""},"",""]
[null,null,null,null,null,null,{"$f":"IF(E641=\"\",\"\",IF(COUNTIF(E:E,E641)>1,IF(COUNTIF(E$6:E641,E641)=1,\"\",\"YES\"),\"\"))","v":""},"",""]
[null,null,null,null,null,null,{"$f":"IF(E642=\"\",\"\",IF(COUNTIF(E:E,E642)>1,IF(COUNTIF(E$6:E642,E642)=1,\"\",\"YES\"),\"\"))","v":""},"",""]
[null,null,null,null,null,null,{"$f":"IF(E643=\"\",\"\",IF(COUNTIF(E:E,E643)>1,IF(COUNTIF(E$6:E643,E643)=1,\"\",\"YES\"),\"\"))","v":""},"",""]
[null,null,null,null,null,null,{"$f":"IF(E644=\"\",\"\",IF(COUNTIF(E:E,E644)>1,IF(COUNTIF(E$6:E644,E644)=1,\"\",\"YES\"),\"\"))","v":""},"",""]
[null,null,null,null,null,null,{"$f":"IF(E645=\"\",\"\",IF(COUNTIF(E:E,E645)>1,IF(COUNTIF(E$6:E645,E645)=1,\"\",\"YES\"),\"\"))","v":""},"",""]
[null,null,null,null,null,null,{"$f":"IF(E646=\"\",\"\",IF(COUNTIF(E:E,E646)>1,IF(COUNTIF(E$6:E646,E646)=1,\"\",\"YES\"),\"\"))","v":""},"",""]
[null,null,null,null,null,null,{"$f":"IF(E647=\"\",\"\",IF(COUNTIF(E:E,E647)>1,IF(COUNTIF(E$6:E647,E647)=1,\"\",\"YES\"),\"\"))","v":""},"",""]
[null,null,null,null,null,null,{"$f":"IF(E648=\"\",\"\",IF(COUNTIF(E:E,E648)>1,IF(COUNTIF(E$6:E648,E648)=1,\"\",\"YES\"),\"\"))","v":""},"",""]
[null,null,null,null,null,null,{"$f":"IF(E649=\"\",\"\",IF(COUNTIF(E:E,E649)>1,IF(COUNTIF(E$6:E649,E649)=1,\"\",\"YES\"),\"\"))","v":""},"",""]
[null,null,null,null,null,null,{"$f":"IF(E650=\"\",\"\",IF(COUNTIF(E:E,E650)>1,IF(COUNTIF(E$6:E650,E650)=1,\"\",\"YES\"),\"\"))","v":""},"",""]
[null,null,null,null,null,null,{"$f":"IF(E651=\"\",\"\",IF(COUNTIF(E:E,E651)>1,IF(COUNTIF(E$6:E651,E651)=1,\"\",\"YES\"),\"\"))","v":""},"",""]
[null,null,null,null,null,null,{"$f":"IF(E652=\"\",\"\",IF(COUNTIF(E:E,E652)>1,IF(COUNTIF(E$6:E652,E652)=1,\"\",\"YES\"),\"\"))","v":""},"",""]
[null,null,null,null,null,null,{"$f":"IF(E653=\"\",\"\",IF(COUNTIF(E:E,E653)>1,IF(COUNTIF(E$6:E653,E653)=1,\"\",\"YES\"),\"\"))","v":""},"",""]
[null,null,null,null,null,null,{"$f":"IF(E654=\"\",\"\",IF(COUNTIF(E:E,E654)>1,IF(COUNTIF(E$6:E654,E654)=1,\"\",\"YES\"),\"\"))","v":""},"",""]
[null,null,null,null,null,null,{"$f":"IF(E655=\"\",\"\",IF(COUNTIF(E:E,E655)>1,IF(COUNTIF(E$6:E655,E655)=1,\"\",\"YES\"),\"\"))","v":""},"",""]
[null,null,null,null,null,null,{"$f":"IF(E656=\"\",\"\",IF(COUNTIF(E:E,E656)>1,IF(COUNTIF(E$6:E656,E656)=1,\"\",\"YES\"),\"\"))","v":""},"",""]
[null,null,null,null,null,null,{"$f":"IF(E657=\"\",\"\",IF(COUNTIF(E:E,E657)>1,IF(COUNTIF(E$6:E657,E657)=1,\"\",\"YES\"),\"\"))","v":""},"",""]
[null,null,null,null,null,null,{"$f":"IF(E658=\"\",\"\",IF(COUNTIF(E:E,E658)>1,IF(COUNTIF(E$6:E658,E658)=1,\"\",\"YES\"),\"\"))","v":""},"",""]
[null,null,null,null,null,null,{"$f":"IF(E659=\"\",\"\",IF(COUNTIF(E:E,E659)>1,IF(COUNTIF(E$6:E659,E659)=1,\"\",\"YES\"),\"\"))","v":""},"",""]
[null,null,null,null,null,null,{"$f":"IF(E660=\"\",\"\",IF(COUNTIF(E:E,E660)>1,IF(COUNTIF(E$6:E660,E660)=1,\"\",\"YES\"),\"\"))","v":""},"",""]
[null,null,null,null,null,null,{"$f":"IF(E661=\"\",\"\",IF(COUNTIF(E:E,E661)>1,IF(COUNTIF(E$6:E661,E661)=1,\"\",\"YES\"),\"\"))","v":""},"",""]
[null,null,null,null,null,null,{"$f":"IF(E662=\"\",\"\",IF(COUNTIF(E:E,E662)>1,IF(COUNTIF(E$6:E662,E662)=1,\"\",\"YES\"),\"\"))","v":""},"",""]
[null,null,null,null,null,null,{"$f":"IF(E663=\"\",\"\",IF(COUNTIF(E:E,E663)>1,IF(COUNTIF(E$6:E663,E663)=1,\"\",\"YES\"),\"\"))","v":""},"",""]
[null,null,null,null,null,null,{"$f":"IF(E664=\"\",\"\",IF(COUNTIF(E:E,E664)>1,IF(COUNTIF(E$6:E664,E664)=1,\"\",\"YES\"),\"\"))","v":""},"",""]
[null,null,null,null,null,null,{"$f":"IF(E665=\"\",\"\",IF(COUNTIF(E:E,E665)>1,IF(COUNTIF(E$6:E665,E665)=1,\"\",\"YES\"),\"\"))","v":""},"",""]
[null,null,null,null,null,null,{"$f":"IF(E666=\"\",\"\",IF(COUNTIF(E:E,E666)>1,IF(COUNTIF(E$6:E666,E666)=1,\"\",\"YES\"),\"\"))","v":""},"",""]
[null,null,null,null,null,null,{"$f":"IF(E667=\"\",\"\",IF(COUNTIF(E:E,E667)>1,IF(COUNTIF(E$6:E667,E667)=1,\"\",\"YES\"),\"\"))","v":""},"",""]
[null,null,null,null,null,null,{"$f":"IF(E668=\"\",\"\",IF(COUNTIF(E:E,E668)>1,IF(COUNTIF(E$6:E668,E668)=1,\"\",\"YES\"),\"\"))","v":""},"",""]
[null,null,null,null,null,null,{"$f":"IF(E669=\"\",\"\",IF(COUNTIF(E:E,E669)>1,IF(COUNTIF(E$6:E669,E669)=1,\"\",\"YES\"),\"\"))","v":""},{"$f":"IF(B669=\"\",\"\", IF(VALUE(LEFT(B669,1))=A$1,\"\",IF(AND(A$2=\"Yes\",VALUE(LEFT(B669))<A$1),\"Expiring\",\"\")))","v":""},""]
[null,null,null,null,null,null,{"$f":"IF(E670=\"\",\"\",IF(COUNTIF(E:E,E670)>1,IF(COUNTIF(E$6:E670,E670)=1,\"\",\"YES\"),\"\"))","v":""},"",""]
[null,null,null,null,null,null,{"$f":"IF(E671=\"\",\"\",IF(COUNTIF(E:E,E671)>1,IF(COUNTIF(E$6:E671,E671)=1,\"\",\"YES\"),\"\"))","v":""},"",""]
[null,null,null,null,null,null,{"$f":"IF(E672=\"\",\"\",IF(COUNTIF(E:E,E672)>1,IF(COUNTIF(E$6:E672,E672)=1,\"\",\"YES\"),\"\"))","v":""},"",""]
[null,null,null,null,null,null,{"$f":"IF(E673=\"\",\"\",IF(COUNTIF(E:E,E673)>1,IF(COUNTIF(E$6:E673,E673)=1,\"\",\"YES\"),\"\"))","v":""},"",""]
[null,null,null,null,null,null,{"$f":"IF(E674=\"\",\"\",IF(COUNTIF(E:E,E674)>1,IF(COUNTIF(E$6:E674,E674)=1,\"\",\"YES\"),\"\"))","v":""},"",""]
[null,null,null,null,null,null,{"$f":"IF(E675=\"\",\"\",IF(COUNTIF(E:E,E675)>1,IF(COUNTIF(E$6:E675,E675)=1,\"\",\"YES\"),\"\"))","v":""},"",""]
[null,null,null,null,null,null,{"$f":"IF(E676=\"\",\"\",IF(COUNTIF(E:E,E676)>1,IF(COUNTIF(E$6:E676,E676)=1,\"\",\"YES\"),\"\"))","v":""},"",""]
[null,null,null,null,null,null,{"$f":"IF(E677=\"\",\"\",IF(COUNTIF(E:E,E677)>1,IF(COUNTIF(E$6:E677,E677)=1,\"\",\"YES\"),\"\"))","v":""},"",""]
[null,null,null,null,null,null,{"$f":"IF(E678=\"\",\"\",IF(COUNTIF(E:E,E678)>1,IF(COUNTIF(E$6:E678,E678)=1,\"\",\"YES\"),\"\"))","v":""},"",""]
[null,null,null,null,null,null,{"$f":"IF(E679=\"\",\"\",IF(COUNTIF(E:E,E679)>1,IF(COUNTIF(E$6:E679,E679)=1,\"\",\"YES\"),\"\"))","v":""},"",""]
[null,null,null,null,null,null,{"$f":"IF(E680=\"\",\"\",IF(COUNTIF(E:E,E680)>1,IF(COUNTIF(E$6:E680,E680)=1,\"\",\"YES\"),\"\"))","v":""},"",""]
[null,null,null,null,null,null,{"$f":"IF(E681=\"\",\"\",IF(COUNTIF(E:E,E681)>1,IF(COUNTIF(E$6:E681,E681)=1,\"\",\"YES\"),\"\"))","v":""},"",""]
[null,null,null,null,null,null,{"$f":"IF(E682=\"\",\"\",IF(COUNTIF(E:E,E682)>1,IF(COUNTIF(E$6:E682,E682)=1,\"\",\"YES\"),\"\"))","v":""},"",""]
[null,null,null,null,null,null,{"$f":"IF(E683=\"\",\"\",IF(COUNTIF(E:E,E683)>1,IF(COUNTIF(E$6:E683,E683)=1,\"\",\"YES\"),\"\"))","v":""},"",""]
[null,null,null,null,null,null,{"$f":"IF(E684=\"\",\"\",IF(COUNTIF(E:E,E684)>1,IF(COUNTIF(E$6:E684,E684)=1,\"\",\"YES\"),\"\"))","v":""},"",""]
[null,null,null,null,null,null,{"$f":"IF(E685=\"\",\"\",IF(COUNTIF(E:E,E685)>1,IF(COUNTIF(E$6:E685,E685)=1,\"\",\"YES\"),\"\"))","v":""},"",""]
[null,null,null,null,null,null,{"$f":"IF(E686=\"\",\"\",IF(COUNTIF(E:E,E686)>1,IF(COUNTIF(E$6:E686,E686)=1,\"\",\"YES\"),\"\"))","v":""},"",""]
[null,null,null,null,null,null,{"$f":"IF(E687=\"\",\"\",IF(COUNTIF(E:E,E687)>1,IF(COUNTIF(E$6:E687,E687)=1,\"\",\"YES\"),\"\"))","v":""},"",""]
[null,null,null,null,null,null,{"$f":"IF(E688=\"\",\"\",IF(COUNTIF(E:E,E688)>1,IF(COUNTIF(E$6:E688,E688)=1,\"\",\"YES\"),\"\"))","v":""},"",""]
[null,null,null,null,null,null,{"$f":"IF(E689=\"\",\"\",IF(COUNTIF(E:E,E689)>1,IF(COUNTIF(E$6:E689,E689)=1,\"\",\"YES\"),\"\"))","v":""},"",""]
[null,null,null,null,null,null,{"$f":"IF(E690=\"\",\"\",IF(COUNTIF(E:E,E690)>1,IF(COUNTIF(E$6:E690,E690)=1,\"\",\"YES\"),\"\"))","v":""},"",""]
[null,null,null,null,null,null,{"$f":"IF(E691=\"\",\"\",IF(COUNTIF(E:E,E691)>1,IF(COUNTIF(E$6:E691,E691)=1,\"\",\"YES\"),\"\"))","v":""},"",""]
[null,null,null,null,null,null,{"$f":"IF(E692=\"\",\"\",IF(COUNTIF(E:E,E692)>1,IF(COUNTIF(E$6:E692,E692)=1,\"\",\"YES\"),\"\"))","v":""},"",""]
[null,null,null,null,null,null,{"$f":"IF(E693=\"\",\"\",IF(COUNTIF(E:E,E693)>1,IF(COUNTIF(E$6:E693,E693)=1,\"\",\"YES\"),\"\"))","v":""},"",""]
[null,null,null,null,null,null,{"$f":"IF(E694=\"\",\"\",IF(COUNTIF(E:E,E694)>1,IF(COUNTIF(E$6:E694,E694)=1,\"\",\"YES\"),\"\"))","v":""},"",""]
[null,null,null,null,null,null,{"$f":"IF(E695=\"\",\"\",IF(COUNTIF(E:E,E695)>1,IF(COUNTIF(E$6:E695,E695)=1,\"\",\"YES\"),\"\"))","v":""},"",""]
[null,null,null,null,null,null,{"$f":"IF(E696=\"\",\"\",IF(COUNTIF(E:E,E696)>1,IF(COUNTIF(E$6:E696,E696)=1,\"\",\"YES\"),\"\"))","v":""},"",""]
[null,null,null,null,null,null,{"$f":"IF(E697=\"\",\"\",IF(COUNTIF(E:E,E697)>1,IF(COUNTIF(E$6:E697,E697)=1,\"\",\"YES\"),\"\"))","v":""},"",""]
[null,null,null,null,null,null,{"$f":"IF(E698=\"\",\"\",IF(COUNTIF(E:E,E698)>1,IF(COUNTIF(E$6:E698,E698)=1,\"\",\"YES\"),\"\"))","v":""},"",""]
[null,null,null,null,null,null,{"$f":"IF(E699=\"\",\"\",IF(COUNTIF(E:E,E699)>1,IF(COUNTIF(E$6:E699,E699)=1,\"\",\"YES\"),\"\"))","v":""},"",""]
[null,null,null,null,null,null,{"$f":"IF(E700=\"\",\"\",IF(COUNTIF(E:E,E700)>1,IF(COUNTIF(E$6:E700,E700)=1,\"\",\"YES\"),\"\"))","v":""},"",""]
[null,null,null,null,null,null,{"$f":"IF(E701=\"\",\"\",IF(COUNTIF(E:E,E701)>1,IF(COUNTIF(E$6:E701,E701)=1,\"\",\"YES\"),\"\"))","v":""},"",{"$f":"IF(B701=\"\",\"\",IF(OR(G701=\"YES\",H701=\"EXPIRING\"),\"YES\",\"NO\"))","v":""}]
[null,null,null,null,null,null,{"$f":"IF(E702=\"\",\"\",IF(COUNTIF(E:E,E702)>1,IF(COUNTIF(E$6:E702,E702)=1,\"\",\"YES\"),\"\"))","v":""},"",""]
[null,null,null,null,null,null,{"$f":"IF(E703=\"\",\"\",IF(COUNTIF(E:E,E703)>1,IF(COUNTIF(E$6:E703,E703)=1,\"\",\"YES\"),\"\"))","v":""},"",""]
[null,null,null,null,null,null,{"$f":"IF(E704=\"\",\"\",IF(COUNTIF(E:E,E704)>1,IF(COUNTIF(E$6:E704,E704)=1,\"\",\"YES\"),\"\"))","v":""},"",""]
[null,null,null,null,null,null,{"$f":"IF(E705=\"\",\"\",IF(COUNTIF(E:E,E705)>1,IF(COUNTIF(E$6:E705,E705)=1,\"\",\"YES\"),\"\"))","v":""},"",""]
[null,null,null,null,null,null,{"$f":"IF(E706=\"\",\"\",IF(COUNTIF(E:E,E706)>1,IF(COUNTIF(E$6:E706,E706)=1,\"\",\"YES\"),\"\"))","v":""},"",""]
[null,null,null,null,null,null,{"$f":"IF(E707=\"\",\"\",IF(COUNTIF(E:E,E707)>1,IF(COUNTIF(E$6:E707,E707)=1,\"\",\"YES\"),\"\"))","v":""},"",""]
[null,null,null,null,null,null,{"$f":"IF(E708=\"\",\"\",IF(COUNTIF(E:E,E708)>1,IF(COUNTIF(E$6:E708,E708)=1,\"\",\"YES\"),\"\"))","v":""},"",""]
[null,null,null,null,null,null,{"$f":"IF(E709=\"\",\"\",IF(COUNTIF(E:E,E709)>1,IF(COUNTIF(E$6:E709,E709)=1,\"\",\"YES\"),\"\"))","v":""},"",""]
[null,null,null,null,null,null,{"$f":"IF(E710=\"\",\"\",IF(COUNTIF(E:E,E710)>1,IF(COUNTIF(E$6:E710,E710)=1,\"\",\"YES\"),\"\"))","v":""},"",""]
[null,null,null,null,null,null,{"$f":"IF(E711=\"\",\"\",IF(COUNTIF(E:E,E711)>1,IF(COUNTIF(E$6:E711,E711)=1,\"\",\"YES\"),\"\"))","v":""},"",""]
[null,null,null,null,null,null,{"$f":"IF(E712=\"\",\"\",IF(COUNTIF(E:E,E712)>1,IF(COUNTIF(E$6:E712,E712)=1,\"\",\"YES\"),\"\"))","v":""},"",""]
[null,null,null,null,null,null,{"$f":"IF(E713=\"\",\"\",IF(COUNTIF(E:E,E713)>1,IF(COUNTIF(E$6:E713,E713)=1,\"\",\"YES\"),\"\"))","v":""},"",""]
[null,null,null,null,null,null,{"$f":"IF(E714=\"\",\"\",IF(COUNTIF(E:E,E714)>1,IF(COUNTIF(E$6:E714,E714)=1,\"\",\"YES\"),\"\"))","v":""},"",""]
[null,null,null,null,null,null,{"$f":"IF(E715=\"\",\"\",IF(COUNTIF(E:E,E715)>1,IF(COUNTIF(E$6:E715,E715)=1,\"\",\"YES\"),\"\"))","v":""},"",""]
[null,null,null,null,null,null,{"$f":"IF(E716=\"\",\"\",IF(COUNTIF(E:E,E716)>1,IF(COUNTIF(E$6:E716,E716)=1,\"\",\"YES\"),\"\"))","v":""},"",""]
[null,null,null,null,null,null,{"$f":"IF(E717=\"\",\"\",IF(COUNTIF(E:E,E717)>1,IF(COUNTIF(E$6:E717,E717)=1,\"\",\"YES\"),\"\"))","v":""},"",""]
[null,null,null,null,null,null,{"$f":"IF(E718=\"\",\"\",IF(COUNTIF(E:E,E718)>1,IF(COUNTIF(E$6:E718,E718)=1,\"\",\"YES\"),\"\"))","v":""},"",""]
[null,null,null,null,null,null,{"$f":"IF(E719=\"\",\"\",IF(COUNTIF(E:E,E719)>1,IF(COUNTIF(E$6:E719,E719)=1,\"\",\"YES\"),\"\"))","v":""},"",""]
[null,null,null,null,null,null,{"$f":"IF(E720=\"\",\"\",IF(COUNTIF(E:E,E720)>1,IF(COUNTIF(E$6:E720,E720)=1,\"\",\"YES\"),\"\"))","v":""},"",""]
[null,null,null,null,null,null,{"$f":"IF(E721=\"\",\"\",IF(COUNTIF(E:E,E721)>1,IF(COUNTIF(E$6:E721,E721)=1,\"\",\"YES\"),\"\"))","v":""},"",""]
[null,null,null,null,null,null,{"$f":"IF(E722=\"\",\"\",IF(COUNTIF(E:E,E722)>1,IF(COUNTIF(E$6:E722,E722)=1,\"\",\"YES\"),\"\"))","v":""},"",""]
[null,null,null,null,null,null,{"$f":"IF(E723=\"\",\"\",IF(COUNTIF(E:E,E723)>1,IF(COUNTIF(E$6:E723,E723)=1,\"\",\"YES\"),\"\"))","v":""},"",""]
[null,null,null,null,null,null,{"$f":"IF(E724=\"\",\"\",IF(COUNTIF(E:E,E724)>1,IF(COUNTIF(E$6:E724,E724)=1,\"\",\"YES\"),\"\"))","v":""},"",""]
[null,null,null,null,null,null,{"$f":"IF(E725=\"\",\"\",IF(COUNTIF(E:E,E725)>1,IF(COUNTIF(E$6:E725,E725)=1,\"\",\"YES\"),\"\"))","v":""},"",""]
[null,null,null,null,null,null,{"$f":"IF(E726=\"\",\"\",IF(COUNTIF(E:E,E726)>1,IF(COUNTIF(E$6:E726,E726)=1,\"\",\"YES\"),\"\"))","v":""},"",""]
[null,null,null,null,null,null,{"$f":"IF(E727=\"\",\"\",IF(COUNTIF(E:E,E727)>1,IF(COUNTIF(E$6:E727,E727)=1,\"\",\"YES\"),\"\"))","v":""},"",""]
[null,null,null,null,null,null,{"$f":"IF(E728=\"\",\"\",IF(COUNTIF(E:E,E728)>1,IF(COUNTIF(E$6:E728,E728)=1,\"\",\"YES\"),\"\"))","v":""},"",""]
[null,null,null,null,null,null,{"$f":"IF(E729=\"\",\"\",IF(COUNTIF(E:E,E729)>1,IF(COUNTIF(E$6:E729,E729)=1,\"\",\"YES\"),\"\"))","v":""},"",""]
[null,null,null,null,null,null,{"$f":"IF(E730=\"\",\"\",IF(COUNTIF(E:E,E730)>1,IF(COUNTIF(E$6:E730,E730)=1,\"\",\"YES\"),\"\"))","v":""},"",""]
[null,null,null,null,null,null,{"$f":"IF(E731=\"\",\"\",IF(COUNTIF(E:E,E731)>1,IF(COUNTIF(E$6:E731,E731)=1,\"\",\"YES\"),\"\"))","v":""},"",""]
[null,null,null,null,null,null,{"$f":"IF(E732=\"\",\"\",IF(COUNTIF(E:E,E732)>1,IF(COUNTIF(E$6:E732,E732)=1,\"\",\"YES\"),\"\"))","v":""},"",""]
[null,null,null,null,null,null,{"$f":"IF(E733=\"\",\"\",IF(COUNTIF(E:E,E733)>1,IF(COUNTIF(E$6:E733,E733)=1,\"\",\"YES\"),\"\"))","v":""},{"$f":"IF(B733=\"\",\"\", IF(VALUE(LEFT(B733,1))=A$1,\"\",IF(AND(A$2=\"Yes\",VALUE(LEFT(B733))<A$1),\"Expiring\",\"\")))","v":""},""]
[null,null,null,null,null,null,{"$f":"IF(E734=\"\",\"\",IF(COUNTIF(E:E,E734)>1,IF(COUNTIF(E$6:E734,E734)=1,\"\",\"YES\"),\"\"))","v":""},"",""]
[null,null,null,null,null,null,{"$f":"IF(E735=\"\",\"\",IF(COUNTIF(E:E,E735)>1,IF(COUNTIF(E$6:E735,E735)=1,\"\",\"YES\"),\"\"))","v":""},"",""]
[null,null,null,null,null,null,{"$f":"IF(E736=\"\",\"\",IF(COUNTIF(E:E,E736)>1,IF(COUNTIF(E$6:E736,E736)=1,\"\",\"YES\"),\"\"))","v":""},"",""]
[null,null,null,null,null,null,{"$f":"IF(E737=\"\",\"\",IF(COUNTIF(E:E,E737)>1,IF(COUNTIF(E$6:E737,E737)=1,\"\",\"YES\"),\"\"))","v":""},"",""]
[null,null,null,null,null,null,{"$f":"IF(E738=\"\",\"\",IF(COUNTIF(E:E,E738)>1,IF(COUNTIF(E$6:E738,E738)=1,\"\",\"YES\"),\"\"))","v":""},"",""]
[null,null,null,null,null,null,{"$f":"IF(E739=\"\",\"\",IF(COUNTIF(E:E,E739)>1,IF(COUNTIF(E$6:E739,E739)=1,\"\",\"YES\"),\"\"))","v":""},"",""]
[null,null,null,null,null,null,{"$f":"IF(E740=\"\",\"\",IF(COUNTIF(E:E,E740)>1,IF(COUNTIF(E$6:E740,E740)=1,\"\",\"YES\"),\"\"))","v":""},"",""]
[null,null,null,null,null,null,{"$f":"IF(E741=\"\",\"\",IF(COUNTIF(E:E,E741)>1,IF(COUNTIF(E$6:E741,E741)=1,\"\",\"YES\"),\"\"))","v":""},"",""]
[null,null,null,null,null,null,{"$f":"IF(E742=\"\",\"\",IF(COUNTIF(E:E,E742)>1,IF(COUNTIF(E$6:E742,E742)=1,\"\",\"YES\"),\"\"))","v":""},"",""]
[null,null,null,null,null,null,{"$f":"IF(E743=\"\",\"\",IF(COUNTIF(E:E,E743)>1,IF(COUNTIF(E$6:E743,E743)=1,\"\",\"YES\"),\"\"))","v":""},"",""]
[null,null,null,null,null,null,{"$f":"IF(E744=\"\",\"\",IF(COUNTIF(E:E,E744)>1,IF(COUNTIF(E$6:E744,E744)=1,\"\",\"YES\"),\"\"))","v":""},"",""]
[null,null,null,null,null,null,{"$f":"IF(E745=\"\",\"\",IF(COUNTIF(E:E,E745)>1,IF(COUNTIF(E$6:E745,E745)=1,\"\",\"YES\"),\"\"))","v":""},"",""]
[null,null,null,null,null,null,{"$f":"IF(E746=\"\",\"\",IF(COUNTIF(E:E,E746)>1,IF(COUNTIF(E$6:E746,E746)=1,\"\",\"YES\"),\"\"))","v":""},"",""]
[null,null,null,null,null,null,{"$f":"IF(E747=\"\",\"\",IF(COUNTIF(E:E,E747)>1,IF(COUNTIF(E$6:E747,E747)=1,\"\",\"YES\"),\"\"))","v":""},"",""]
[null,null,null,null,null,null,{"$f":"IF(E748=\"\",\"\",IF(COUNTIF(E:E,E748)>1,IF(COUNTIF(E$6:E748,E748)=1,\"\",\"YES\"),\"\"))","v":""},"",""]
[null,null,null,null,null,null,{"$f":"IF(E749=\"\",\"\",IF(COUNTIF(E:E,E749)>1,IF(COUNTIF(E$6:E749,E749)=1,\"\",\"YES\"),\"\"))","v":""},"",""]
[null,null,null,null,null,null,{"$f":"IF(E750=\"\",\"\",IF(COUNTIF(E:E,E750)>1,IF(COUNTIF(E$6:E750,E750)=1,\"\",\"YES\"),\"\"))","v":""},"",""]
[null,null,null,null,null,null,{"$f":"IF(E751=\"\",\"\",IF(COUNTIF(E:E,E751)>1,IF(COUNTIF(E$6:E751,E751)=1,\"\",\"YES\"),\"\"))","v":""},"",""]
[null,null,null,null,null,null,{"$f":"IF(E752=\"\",\"\",IF(COUNTIF(E:E,E752)>1,IF(COUNTIF(E$6:E752,E752)=1,\"\",\"YES\"),\"\"))","v":""},"",""]
[null,null,null,null,null,null,{"$f":"IF(E753=\"\",\"\",IF(COUNTIF(E:E,E753)>1,IF(COUNTIF(E$6:E753,E753)=1,\"\",\"YES\"),\"\"))","v":""},"",""]
[null,null,null,null,null,null,{"$f":"IF(E754=\"\",\"\",IF(COUNTIF(E:E,E754)>1,IF(COUNTIF(E$6:E754,E754)=1,\"\",\"YES\"),\"\"))","v":""},"",""]
[null,null,null,null,null,null,{"$f":"IF(E755=\"\",\"\",IF(COUNTIF(E:E,E755)>1,IF(COUNTIF(E$6:E755,E755)=1,\"\",\"YES\"),\"\"))","v":""},"",""]
[null,null,null,null,null,null,{"$f":"IF(E756=\"\",\"\",IF(COUNTIF(E:E,E756)>1,IF(COUNTIF(E$6:E756,E756)=1,\"\",\"YES\"),\"\"))","v":""},"",""]
[null,null,null,null,null,null,{"$f":"IF(E757=\"\",\"\",IF(COUNTIF(E:E,E757)>1,IF(COUNTIF(E$6:E757,E757)=1,\"\",\"YES\"),\"\"))","v":""},"",""]
[null,null,null,null,null,null,{"$f":"IF(E758=\"\",\"\",IF(COUNTIF(E:E,E758)>1,IF(COUNTIF(E$6:E758,E758)=1,\"\",\"YES\"),\"\"))","v":""},"",""]
[null,null,null,null,null,null,{"$f":"IF(E759=\"\",\"\",IF(COUNTIF(E:E,E759)>1,IF(COUNTIF(E$6:E759,E759)=1,\"\",\"YES\"),\"\"))","v":""},"",""]
[null,null,null,null,null,null,{"$f":"IF(E760=\"\",\"\",IF(COUNTIF(E:E,E760)>1,IF(COUNTIF(E$6:E760,E760)=1,\"\",\"YES\"),\"\"))","v":""},"",""]
[null,null,null,null,null,null,{"$f":"IF(E761=\"\",\"\",IF(COUNTIF(E:E,E761)>1,IF(COUNTIF(E$6:E761,E761)=1,\"\",\"YES\"),\"\"))","v":""},"",""]
[null,null,null,null,null,null,{"$f":"IF(E762=\"\",\"\",IF(COUNTIF(E:E,E762)>1,IF(COUNTIF(E$6:E762,E762)=1,\"\",\"YES\"),\"\"))","v":""},"",""]
[null,null,null,null,null,null,{"$f":"IF(E763=\"\",\"\",IF(COUNTIF(E:E,E763)>1,IF(COUNTIF(E$6:E763,E763)=1,\"\",\"YES\"),\"\"))","v":""},"",""]
[null,null,null,null,null,null,{"$f":"IF(E764=\"\",\"\",IF(COUNTIF(E:E,E764)>1,IF(COUNTIF(E$6:E764,E764)=1,\"\",\"YES\"),\"\"))","v":""},"",""]
[null,null,null,null,null,null,{"$f":"IF(E765=\"\",\"\",IF(COUNTIF(E:E,E765)>1,IF(COUNTIF(E$6:E765,E765)=1,\"\",\"YES\"),\"\"))","v":""},"",{"$f":"IF(B765=\"\",\"\",IF(OR(G765=\"YES\",H765=\"EXPIRING\"),\"YES\",\"NO\"))","v":""}]
[null,null,null,null,null,null,{"$f":"IF(E766=\"\",\"\",IF(COUNTIF(E:E,E766)>1,IF(COUNTIF(E$6:E766,E766)=1,\"\",\"YES\"),\"\"))","v":""},"",""]
[null,null,null,null,null,null,{"$f":"IF(E767=\"\",\"\",IF(COUNTIF(E:E,E767)>1,IF(COUNTIF(E$6:E767,E767)=1,\"\",\"YES\"),\"\"))","v":""},"",""]
[null,null,null,null,null,null,{"$f":"IF(E768=\"\",\"\",IF(COUNTIF(E:E,E768)>1,IF(COUNTIF(E$6:E768,E768)=1,\"\",\"YES\"),\"\"))","v":""},"",""]
[null,null,null,null,null,null,{"$f":"IF(E769=\"\",\"\",IF(COUNTIF(E:E,E769)>1,IF(COUNTIF(E$6:E769,E769)=1,\"\",\"YES\"),\"\"))","v":""},"",""]
[null,null,null,null,null,null,{"$f":"IF(E770=\"\",\"\",IF(COUNTIF(E:E,E770)>1,IF(COUNTIF(E$6:E770,E770)=1,\"\",\"YES\"),\"\"))","v":""},"",""]
[null,null,null,null,null,null,{"$f":"IF(E771=\"\",\"\",IF(COUNTIF(E:E,E771)>1,IF(COUNTIF(E$6:E771,E771)=1,\"\",\"YES\"),\"\"))","v":""},"",""]
[null,null,null,null,null,null,{"$f":"IF(E772=\"\",\"\",IF(COUNTIF(E:E,E772)>1,IF(COUNTIF(E$6:E772,E772)=1,\"\",\"YES\"),\"\"))","v":""},"",""]
[null,null,null,null,null,null,{"$f":"IF(E773=\"\",\"\",IF(COUNTIF(E:E,E773)>1,IF(COUNTIF(E$6:E773,E773)=1,\"\",\"YES\"),\"\"))","v":""},"",""]
[null,null,null,null,null,null,{"$f":"IF(E774=\"\",\"\",IF(COUNTIF(E:E,E774)>1,IF(COUNTIF(E$6:E774,E774)=1,\"\",\"YES\"),\"\"))","v":""},"",""]
[null,null,null,null,null,null,{"$f":"IF(E775=\"\",\"\",IF(COUNTIF(E:E,E775)>1,IF(COUNTIF(E$6:E775,E775)=1,\"\",\"YES\"),\"\"))","v":""},"",""]
[null,null,null,null,null,null,{"$f":"IF(E776=\"\",\"\",IF(COUNTIF(E:E,E776)>1,IF(COUNTIF(E$6:E776,E776)=1,\"\",\"YES\"),\"\"))","v":""},"",""]
[null,null,null,null,null,null,{"$f":"IF(E777=\"\",\"\",IF(COUNTIF(E:E,E777)>1,IF(COUNTIF(E$6:E777,E777)=1,\"\",\"YES\"),\"\"))","v":""},"",""]
[null,null,null,null,null,null,{"$f":"IF(E778=\"\",\"\",IF(COUNTIF(E:E,E778)>1,IF(COUNTIF(E$6:E778,E778)=1,\"\",\"YES\"),\"\"))","v":""},"",""]
[null,null,null,null,null,null,{"$f":"IF(E779=\"\",\"\",IF(COUNTIF(E:E,E779)>1,IF(COUNTIF(E$6:E779,E779)=1,\"\",\"YES\"),\"\"))","v":""},"",""]
[null,null,null,null,null,null,{"$f":"IF(E780=\"\",\"\",IF(COUNTIF(E:E,E780)>1,IF(COUNTIF(E$6:E780,E780)=1,\"\",\"YES\"),\"\"))","v":""},"",""]
[null,null,null,null,null,null,{"$f":"IF(E781=\"\",\"\",IF(COUNTIF(E:E,E781)>1,IF(COUNTIF(E$6:E781,E781)=1,\"\",\"YES\"),\"\"))","v":""},"",""]
[null,null,null,null,null,null,{"$f":"IF(E782=\"\",\"\",IF(COUNTIF(E:E,E782)>1,IF(COUNTIF(E$6:E782,E782)=1,\"\",\"YES\"),\"\"))","v":""},"",""]
[null,null,null,null,null,null,{"$f":"IF(E783=\"\",\"\",IF(COUNTIF(E:E,E783)>1,IF(COUNTIF(E$6:E783,E783)=1,\"\",\"YES\"),\"\"))","v":""},"",""]
[null,null,null,null,null,null,{"$f":"IF(E784=\"\",\"\",IF(COUNTIF(E:E,E784)>1,IF(COUNTIF(E$6:E784,E784)=1,\"\",\"YES\"),\"\"))","v":""},"",""]
[null,null,null,null,null,null,{"$f":"IF(E785=\"\",\"\",IF(COUNTIF(E:E,E785)>1,IF(COUNTIF(E$6:E785,E785)=1,\"\",\"YES\"),\"\"))","v":""},"",""]
[null,null,null,null,null,null,{"$f":"IF(E786=\"\",\"\",IF(COUNTIF(E:E,E786)>1,IF(COUNTIF(E$6:E786,E786)=1,\"\",\"YES\"),\"\"))","v":""},"",""]
[null,null,null,null,null,null,{"$f":"IF(E787=\"\",\"\",IF(COUNTIF(E:E,E787)>1,IF(COUNTIF(E$6:E787,E787)=1,\"\",\"YES\"),\"\"))","v":""},"",""]
[null,null,null,null,null,null,{"$f":"IF(E788=\"\",\"\",IF(COUNTIF(E:E,E788)>1,IF(COUNTIF(E$6:E788,E788)=1,\"\",\"YES\"),\"\"))","v":""},"",""]
[null,null,null,null,null,null,{"$f":"IF(E789=\"\",\"\",IF(COUNTIF(E:E,E789)>1,IF(COUNTIF(E$6:E789,E789)=1,\"\",\"YES\"),\"\"))","v":""},"",""]
[null,null,null,null,null,null,{"$f":"IF(E790=\"\",\"\",IF(COUNTIF(E:E,E790)>1,IF(COUNTIF(E$6:E790,E790)=1,\"\",\"YES\"),\"\"))","v":""},"",""]
[null,null,null,null,null,null,{"$f":"IF(E791=\"\",\"\",IF(COUNTIF(E:E,E791)>1,IF(COUNTIF(E$6:E791,E791)=1,\"\",\"YES\"),\"\"))","v":""},"",""]
[null,null,null,null,null,null,{"$f":"IF(E792=\"\",\"\",IF(COUNTIF(E:E,E792)>1,IF(COUNTIF(E$6:E792,E792)=1,\"\",\"YES\"),\"\"))","v":""},"",""]
[null,null,null,null,null,null,{"$f":"IF(E793=\"\",\"\",IF(COUNTIF(E:E,E793)>1,IF(COUNTIF(E$6:E793,E793)=1,\"\",\"YES\"),\"\"))","v":""},"",""]
[null,null,null,null,null,null,{"$f":"IF(E794=\"\",\"\",IF(COUNTIF(E:E,E794)>1,IF(COUNTIF(E$6:E794,E794)=1,\"\",\"YES\"),\"\"))","v":""},"",""]
[null,null,null,null,null,null,{"$f":"IF(E795=\"\",\"\",IF(COUNTIF(E:E,E795)>1,IF(COUNTIF(E$6:E795,E795)=1,\"\",\"YES\"),\"\"))","v":""},"",""]
[null,null,null,null,null,null,{"$f":"IF(E796=\"\",\"\",IF(COUNTIF(E:E,E796)>1,IF(COUNTIF(E$6:E796,E796)=1,\"\",\"YES\"),\"\"))","v":""},"",""]
[null,null,null,null,null,null,{"$f":"IF(E797=\"\",\"\",IF(COUNTIF(E:E,E797)>1,IF(COUNTIF(E$6:E797,E797)=1,\"\",\"YES\"),\"\"))","v":""},{"$f":"IF(B797=\"\",\"\", IF(VALUE(LEFT(B797,1))=A$1,\"\",IF(AND(A$2=\"Yes\",VALUE(LEFT(B797))<A$1),\"Expiring\",\"\")))","v":""},""]
[null,null,null,null,null,null,{"$f":"IF(E798=\"\",\"\",IF(COUNTIF(E:E,E798)>1,IF(COUNTIF(E$6:E798,E798)=1,\"\",\"YES\"),\"\"))","v":""},"",""]
[null,null,null,null,null,null,{"$f":"IF(E799=\"\",\"\",IF(COUNTIF(E:E,E799)>1,IF(COUNTIF(E$6:E799,E799)=1,\"\",\"YES\"),\"\"))","v":""},"",""]
[null,null,null,null,null,null,{"$f":"IF(E800=\"\",\"\",IF(COUNTIF(E:E,E800)>1,IF(COUNTIF(E$6:E800,E800)=1,\"\",\"YES\"),\"\"))","v":""},"",""]
[null,null,null,null,null,null,{"$f":"IF(E801=\"\",\"\",IF(COUNTIF(E:E,E801)>1,IF(COUNTIF(E$6:E801,E801)=1,\"\",\"YES\"),\"\"))","v":""},"",""]
[null,null,null,null,null,null,{"$f":"IF(E802=\"\",\"\",IF(COUNTIF(E:E,E802)>1,IF(COUNTIF(E$6:E802,E802)=1,\"\",\"YES\"),\"\"))","v":""},"",""]
[null,null,null,null,null,null,{"$f":"IF(E803=\"\",\"\",IF(COUNTIF(E:E,E803)>1,IF(COUNTIF(E$6:E803,E803)=1,\"\",\"YES\"),\"\"))","v":""},"",""]
[null,null,null,null,null,null,{"$f":"IF(E804=\"\",\"\",IF(COUNTIF(E:E,E804)>1,IF(COUNTIF(E$6:E804,E804)=1,\"\",\"YES\"),\"\"))","v":""},"",""]
[null,null,null,null,null,null,{"$f":"IF(E805=\"\",\"\",IF(COUNTIF(E:E,E805)>1,IF(COUNTIF(E$6:E805,E805)=1,\"\",\"YES\"),\"\"))","v":""},"",""]
[null,null,null,null,null,null,{"$f":"IF(E806=\"\",\"\",IF(COUNTIF(E:E,E806)>1,IF(COUNTIF(E$6:E806,E806)=1,\"\",\"YES\"),\"\"))","v":""},"",""]
[null,null,null,null,null,null,{"$f":"IF(E807=\"\",\"\",IF(COUNTIF(E:E,E807)>1,IF(COUNTIF(E$6:E807,E807)=1,\"\",\"YES\"),\"\"))","v":""},"",""]
[null,null,null,null,null,null,{"$f":"IF(E808=\"\",\"\",IF(COUNTIF(E:E,E808)>1,IF(COUNTIF(E$6:E808,E808)=1,\"\",\"YES\"),\"\"))","v":""},"",""]
[null,null,null,null,null,null,{"$f":"IF(E809=\"\",\"\",IF(COUNTIF(E:E,E809)>1,IF(COUNTIF(E$6:E809,E809)=1,\"\",\"YES\"),\"\"))","v":""},"",""]
[null,null,null,null,null,null,{"$f":"IF(E810=\"\",\"\",IF(COUNTIF(E:E,E810)>1,IF(COUNTIF(E$6:E810,E810)=1,\"\",\"YES\"),\"\"))","v":""},"",""]
[null,null,null,null,null,null,{"$f":"IF(E811=\"\",\"\",IF(COUNTIF(E:E,E811)>1,IF(COUNTIF(E$6:E811,E811)=1,\"\",\"YES\"),\"\"))","v":""},"",""]
[null,null,null,null,null,null,{"$f":"IF(E812=\"\",\"\",IF(COUNTIF(E:E,E812)>1,IF(COUNTIF(E$6:E812,E812)=1,\"\",\"YES\"),\"\"))","v":""},"",""]
[null,null,null,null,null,null,{"$f":"IF(E813=\"\",\"\",IF(COUNTIF(E:E,E813)>1,IF(COUNTIF(E$6:E813,E813)=1,\"\",\"YES\"),\"\"))","v":""},"",""]
[null,null,null,null,null,null,{"$f":"IF(E814=\"\",\"\",IF(COUNTIF(E:E,E814)>1,IF(COUNTIF(E$6:E814,E814)=1,\"\",\"YES\"),\"\"))","v":""},"",""]
[null,null,null,null,null,null,{"$f":"IF(E815=\"\",\"\",IF(COUNTIF(E:E,E815)>1,IF(COUNTIF(E$6:E815,E815)=1,\"\",\"YES\"),\"\"))","v":""},"",""]
[null,null,null,null,null,null,{"$f":"IF(E816=\"\",\"\",IF(COUNTIF(E:E,E816)>1,IF(COUNTIF(E$6:E816,E816)=1,\"\",\"YES\"),\"\"))","v":""},"",""]
[null,null,null,null,null,null,{"$f":"IF(E817=\"\",\"\",IF(COUNTIF(E:E,E817)>1,IF(COUNTIF(E$6:E817,E817)=1,\"\",\"YES\"),\"\"))","v":""},"",""]
[null,null,null,null,null,null,{"$f":"IF(E818=\"\",\"\",IF(COUNTIF(E:E,E818)>1,IF(COUNTIF(E$6:E818,E818)=1,\"\",\"YES\"),\"\"))","v":""},"",""]
[null,null,null,null,null,null,{"$f":"IF(E819=\"\",\"\",IF(COUNTIF(E:E,E819)>1,IF(COUNTIF(E$6:E819,E819)=1,\"\",\"YES\"),\"\"))","v":""},"",""]
[null,null,null,null,null,null,{"$f":"IF(E820=\"\",\"\",IF(COUNTIF(E:E,E820)>1,IF(COUNTIF(E$6:E820,E820)=1,\"\",\"YES\"),\"\"))","v":""},"",""]
[null,null,null,null,null,null,{"$f":"IF(E821=\"\",\"\",IF(COUNTIF(E:E,E821)>1,IF(COUNTIF(E$6:E821,E821)=1,\"\",\"YES\"),\"\"))","v":""},"",""]
[null,null,null,null,null,null,{"$f":"IF(E822=\"\",\"\",IF(COUNTIF(E:E,E822)>1,IF(COUNTIF(E$6:E822,E822)=1,\"\",\"YES\"),\"\"))","v":""},"",""]
[null,null,null,null,null,null,{"$f":"IF(E823=\"\",\"\",IF(COUNTIF(E:E,E823)>1,IF(COUNTIF(E$6:E823,E823)=1,\"\",\"YES\"),\"\"))","v":""},"",""]
[null,null,null,null,null,null,{"$f":"IF(E824=\"\",\"\",IF(COUNTIF(E:E,E824)>1,IF(COUNTIF(E$6:E824,E824)=1,\"\",\"YES\"),\"\"))","v":""},"",""]
[null,null,null,null,null,null,{"$f":"IF(E825=\"\",\"\",IF(COUNTIF(E:E,E825)>1,IF(COUNTIF(E$6:E825,E825)=1,\"\",\"YES\"),\"\"))","v":""},"",""]
[null,null,null,null,null,null,{"$f":"IF(E826=\"\",\"\",IF(COUNTIF(E:E,E826)>1,IF(COUNTIF(E$6:E826,E826)=1,\"\",\"YES\"),\"\"))","v":""},"",""]
[null,null,null,null,null,null,{"$f":"IF(E827=\"\",\"\",IF(COUNTIF(E:E,E827)>1,IF(COUNTIF(E$6:E827,E827)=1,\"\",\"YES\"),\"\"))","v":""},"",""]
[null,null,null,null,null,null,{"$f":"IF(E828=\"\",\"\",IF(COUNTIF(E:E,E828)>1,IF(COUNTIF(E$6:E828,E828)=1,\"\",\"YES\"),\"\"))","v":""},"",""]
[null,null,null,null,null,null,{"$f":"IF(E829=\"\",\"\",IF(COUNTIF(E:E,E829)>1,IF(COUNTIF(E$6:E829,E829)=1,\"\",\"YES\"),\"\"))","v":""},"",{"$f":"IF(B829=\"\",\"\",IF(OR(G829=\"YES\",H829=\"EXPIRING\"),\"YES\",\"NO\"))","v":""}]
[null,null,null,null,null,null,{"$f":"IF(E830=\"\",\"\",IF(COUNTIF(E:E,E830)>1,IF(COUNTIF(E$6:E830,E830)=1,\"\",\"YES\"),\"\"))","v":""},"",""]
[null,null,null,null,null,null,{"$f":"IF(E831=\"\",\"\",IF(COUNTIF(E:E,E831)>1,IF(COUNTIF(E$6:E831,E831)=1,\"\",\"YES\"),\"\"))","v":""},"",""]
[null,null,null,null,null,null,{"$f":"IF(E832=\"\",\"\",IF(COUNTIF(E:E,E832)>1,IF(COUNTIF(E$6:E832,E832)=1,\"\",\"YES\"),\"\"))","v":""},"",""]
[null,null,null,null,null,null,{"$f":"IF(E833=\"\",\"\",IF(COUNTIF(E:E,E833)>1,IF(COUNTIF(E$6:E833,E833)=1,\"\",\"YES\"),\"\"))","v":""},"",""]
[null,null,null,null,null,null,{"$f":"IF(E834=\"\",\"\",IF(COUNTIF(E:E,E834)>1,IF(COUNTIF(E$6:E834,E834)=1,\"\",\"YES\"),\"\"))","v":""},"",""]
[null,null,null,null,null,null,{"$f":"IF(E835=\"\",\"\",IF(COUNTIF(E:E,E835)>1,IF(COUNTIF(E$6:E835,E835)=1,\"\",\"YES\"),\"\"))","v":""},"",""]
[null,null,null,null,null,null,{"$f":"IF(E836=\"\",\"\",IF(COUNTIF(E:E,E836)>1,IF(COUNTIF(E$6:E836,E836)=1,\"\",\"YES\"),\"\"))","v":""},"",""]
[null,null,null,null,null,null,{"$f":"IF(E837=\"\",\"\",IF(COUNTIF(E:E,E837)>1,IF(COUNTIF(E$6:E837,E837)=1,\"\",\"YES\"),\"\"))","v":""},"",""]
[null,null,null,null,null,null,{"$f":"IF(E838=\"\",\"\",IF(COUNTIF(E:E,E838)>1,IF(COUNTIF(E$6:E838,E838)=1,\"\",\"YES\"),\"\"))","v":""},"",""]
[null,null,null,null,null,null,{"$f":"IF(E839=\"\",\"\",IF(COUNTIF(E:E,E839)>1,IF(COUNTIF(E$6:E839,E839)=1,\"\",\"YES\"),\"\"))","v":""},"",""]
[null,null,null,null,null,null,{"$f":"IF(E840=\"\",\"\",IF(COUNTIF(E:E,E840)>1,IF(COUNTIF(E$6:E840,E840)=1,\"\",\"YES\"),\"\"))","v":""},"",""]
[null,null,null,null,null,null,{"$f":"IF(E841=\"\",\"\",IF(COUNTIF(E:E,E841)>1,IF(COUNTIF(E$6:E841,E841)=1,\"\",\"YES\"),\"\"))","v":""},"",""]
[null,null,null,null,null,null,{"$f":"IF(E842=\"\",\"\",IF(COUNTIF(E:E,E842)>1,IF(COUNTIF(E$6:E842,E842)=1,\"\",\"YES\"),\"\"))","v":""},"",""]
[null,null,null,null,null,null,{"$f":"IF(E843=\"\",\"\",IF(COUNTIF(E:E,E843)>1,IF(COUNTIF(E$6:E843,E843)=1,\"\",\"YES\"),\"\"))","v":""},"",""]
[null,null,null,null,null,null,{"$f":"IF(E844=\"\",\"\",IF(COUNTIF(E:E,E844)>1,IF(COUNTIF(E$6:E844,E844)=1,\"\",\"YES\"),\"\"))","v":""},"",""]
[null,null,null,null,null,null,{"$f":"IF(E845=\"\",\"\",IF(COUNTIF(E:E,E845)>1,IF(COUNTIF(E$6:E845,E845)=1,\"\",\"YES\"),\"\"))","v":""},"",""]
[null,null,null,null,null,null,{"$f":"IF(E846=\"\",\"\",IF(COUNTIF(E:E,E846)>1,IF(COUNTIF(E$6:E846,E846)=1,\"\",\"YES\"),\"\"))","v":""},"",""]
[null,null,null,null,null,null,{"$f":"IF(E847=\"\",\"\",IF(COUNTIF(E:E,E847)>1,IF(COUNTIF(E$6:E847,E847)=1,\"\",\"YES\"),\"\"))","v":""},"",""]
[null,null,null,null,null,null,{"$f":"IF(E848=\"\",\"\",IF(COUNTIF(E:E,E848)>1,IF(COUNTIF(E$6:E848,E848)=1,\"\",\"YES\"),\"\"))","v":""},"",""]
[null,null,null,null,null,null,{"$f":"IF(E849=\"\",\"\",IF(COUNTIF(E:E,E849)>1,IF(COUNTIF(E$6:E849,E849)=1,\"\",\"YES\"),\"\"))","v":""},"",""]
[null,null,null,null,null,null,{"$f":"IF(E850=\"\",\"\",IF(COUNTIF(E:E,E850)>1,IF(COUNTIF(E$6:E850,E850)=1,\"\",\"YES\"),\"\"))","v":""},"",""]
[null,null,null,null,null,null,{"$f":"IF(E851=\"\",\"\",IF(COUNTIF(E:E,E851)>1,IF(COUNTIF(E$6:E851,E851)=1,\"\",\"YES\"),\"\"))","v":""},"",""]
[null,null,null,null,null,null,{"$f":"IF(E852=\"\",\"\",IF(COUNTIF(E:E,E852)>1,IF(COUNTIF(E$6:E852,E852)=1,\"\",\"YES\"),\"\"))","v":""},"",""]
[null,null,null,null,null,null,{"$f":"IF(E853=\"\",\"\",IF(COUNTIF(E:E,E853)>1,IF(COUNTIF(E$6:E853,E853)=1,\"\",\"YES\"),\"\"))","v":""},"",""]
[null,null,null,null,null,null,{"$f":"IF(E854=\"\",\"\",IF(COUNTIF(E:E,E854)>1,IF(COUNTIF(E$6:E854,E854)=1,\"\",\"YES\"),\"\"))","v":""},"",""]
[null,null,null,null,null,null,{"$f":"IF(E855=\"\",\"\",IF(COUNTIF(E:E,E855)>1,IF(COUNTIF(E$6:E855,E855)=1,\"\",\"YES\"),\"\"))","v":""},"",""]
[null,null,null,null,null,null,{"$f":"IF(E856=\"\",\"\",IF(COUNTIF(E:E,E856)>1,IF(COUNTIF(E$6:E856,E856)=1,\"\",\"YES\"),\"\"))","v":""},"",""]
[null,null,null,null,null,null,{"$f":"IF(E857=\"\",\"\",IF(COUNTIF(E:E,E857)>1,IF(COUNTIF(E$6:E857,E857)=1,\"\",\"YES\"),\"\"))","v":""},"",""]
[null,null,null,null,null,null,{"$f":"IF(E858=\"\",\"\",IF(COUNTIF(E:E,E858)>1,IF(COUNTIF(E$6:E858,E858)=1,\"\",\"YES\"),\"\"))","v":""},"",""]
[null,null,null,null,null,null,{"$f":"IF(E859=\"\",\"\",IF(COUNTIF(E:E,E859)>1,IF(COUNTIF(E$6:E859,E859)=1,\"\",\"YES\"),\"\"))","v":""},"",""]
[null,null,null,null,null,null,{"$f":"IF(E860=\"\",\"\",IF(COUNTIF(E:E,E860)>1,IF(COUNTIF(E$6:E860,E860)=1,\"\",\"YES\"),\"\"))","v":""},"",""]
[null,null,null,null,null,null,{"$f":"IF(E861=\"\",\"\",IF(COUNTIF(E:E,E861)>1,IF(COUNTIF(E$6:E861,E861)=1,\"\",\"YES\"),\"\"))","v":""},{"$f":"IF(B861=\"\",\"\", IF(VALUE(LEFT(B861,1))=A$1,\"\",IF(AND(A$2=\"Yes\",VALUE(LEFT(B861))<A$1),\"Expiring\",\"\")))","v":""},""]
[null,null,null,null,null,null,{"$f":"IF(E862=\"\",\"\",IF(COUNTIF(E:E,E862)>1,IF(COUNTIF(E$6:E862,E862)=1,\"\",\"YES\"),\"\"))","v":""},"",""]
[null,null,null,null,null,null,{"$f":"IF(E863=\"\",\"\",IF(COUNTIF(E:E,E863)>1,IF(COUNTIF(E$6:E863,E863)=1,\"\",\"YES\"),\"\"))","v":""},"",""]
[null,null,null,null,null,null,{"$f":"IF(E864=\"\",\"\",IF(COUNTIF(E:E,E864)>1,IF(COUNTIF(E$6:E864,E864)=1,\"\",\"YES\"),\"\"))","v":""},"",""]
[null,null,null,null,null,null,{"$f":"IF(E865=\"\",\"\",IF(COUNTIF(E:E,E865)>1,IF(COUNTIF(E$6:E865,E865)=1,\"\",\"YES\"),\"\"))","v":""},"",""]
[null,null,null,null,null,null,{"$f":"IF(E866=\"\",\"\",IF(COUNTIF(E:E,E866)>1,IF(COUNTIF(E$6:E866,E866)=1,\"\",\"YES\"),\"\"))","v":""},"",""]
[null,null,null,null,null,null,{"$f":"IF(E867=\"\",\"\",IF(COUNTIF(E:E,E867)>1,IF(COUNTIF(E$6:E867,E867)=1,\"\",\"YES\"),\"\"))","v":""},"",""]
[null,null,null,null,null,null,{"$f":"IF(E868=\"\",\"\",IF(COUNTIF(E:E,E868)>1,IF(COUNTIF(E$6:E868,E868)=1,\"\",\"YES\"),\"\"))","v":""},"",""]
[null,null,null,null,null,null,{"$f":"IF(E869=\"\",\"\",IF(COUNTIF(E:E,E869)>1,IF(COUNTIF(E$6:E869,E869)=1,\"\",\"YES\"),\"\"))","v":""},"",""]
[null,null,null,null,null,null,{"$f":"IF(E870=\"\",\"\",IF(COUNTIF(E:E,E870)>1,IF(COUNTIF(E$6:E870,E870)=1,\"\",\"YES\"),\"\"))","v":""},"",""]
[null,null,null,null,null,null,{"$f":"IF(E871=\"\",\"\",IF(COUNTIF(E:E,E871)>1,IF(COUNTIF(E$6:E871,E871)=1,\"\",\"YES\"),\"\"))","v":""},"",""]
[null,null,null,null,null,null,{"$f":"IF(E872=\"\",\"\",IF(COUNTIF(E:E,E872)>1,IF(COUNTIF(E$6:E872,E872)=1,\"\",\"YES\"),\"\"))","v":""},"",""]
[null,null,null,null,null,null,{"$f":"IF(E873=\"\",\"\",IF(COUNTIF(E:E,E873)>1,IF(COUNTIF(E$6:E873,E873)=1,\"\",\"YES\"),\"\"))","v":""},"",""]
[null,null,null,null,null,null,{"$f":"IF(E874=\"\",\"\",IF(COUNTIF(E:E,E874)>1,IF(COUNTIF(E$6:E874,E874)=1,\"\",\"YES\"),\"\"))","v":""},"",""]
[null,null,null,null,null,null,{"$f":"IF(E875=\"\",\"\",IF(COUNTIF(E:E,E875)>1,IF(COUNTIF(E$6:E875,E875)=1,\"\",\"YES\"),\"\"))","v":""},"",""]
[null,null,null,null,null,null,{"$f":"IF(E876=\"\",\"\",IF(COUNTIF(E:E,E876)>1,IF(COUNTIF(E$6:E876,E876)=1,\"\",\"YES\"),\"\"))","v":""},"",""]
[null,null,null,null,null,null,{"$f":"IF(E877=\"\",\"\",IF(COUNTIF(E:E,E877)>1,IF(COUNTIF(E$6:E877,E877)=1,\"\",\"YES\"),\"\"))","v":""},"",""]
[null,null,null,null,null,null,{"$f":"IF(E878=\"\",\"\",IF(COUNTIF(E:E,E878)>1,IF(COUNTIF(E$6:E878,E878)=1,\"\",\"YES\"),\"\"))","v":""},"",""]
[null,null,null,null,null,null,{"$f":"IF(E879=\"\",\"\",IF(COUNTIF(E:E,E879)>1,IF(COUNTIF(E$6:E879,E879)=1,\"\",\"YES\"),\"\"))","v":""},"",""]
[null,null,null,null,null,null,{"$f":"IF(E880=\"\",\"\",IF(COUNTIF(E:E,E880)>1,IF(COUNTIF(E$6:E880,E880)=1,\"\",\"YES\"),\"\"))","v":""},"",""]
[null,null,null,null,null,null,{"$f":"IF(E881=\"\",\"\",IF(COUNTIF(E:E,E881)>1,IF(COUNTIF(E$6:E881,E881)=1,\"\",\"YES\"),\"\"))","v":""},"",""]
[null,null,null,null,null,null,{"$f":"IF(E882=\"\",\"\",IF(COUNTIF(E:E,E882)>1,IF(COUNTIF(E$6:E882,E882)=1,\"\",\"YES\"),\"\"))","v":""},"",""]
[null,null,null,null,null,null,{"$f":"IF(E883=\"\",\"\",IF(COUNTIF(E:E,E883)>1,IF(COUNTIF(E$6:E883,E883)=1,\"\",\"YES\"),\"\"))","v":""},"",""]
[null,null,null,null,null,null,{"$f":"IF(E884=\"\",\"\",IF(COUNTIF(E:E,E884)>1,IF(COUNTIF(E$6:E884,E884)=1,\"\",\"YES\"),\"\"))","v":""},"",""]
[null,null,null,null,null,null,{"$f":"IF(E885=\"\",\"\",IF(COUNTIF(E:E,E885)>1,IF(COUNTIF(E$6:E885,E885)=1,\"\",\"YES\"),\"\"))","v":""},"",""]
[null,null,null,null,null,null,{"$f":"IF(E886=\"\",\"\",IF(COUNTIF(E:E,E886)>1,IF(COUNTIF(E$6:E886,E886)=1,\"\",\"YES\"),\"\"))","v":""},"",""]
[null,null,null,null,null,null,{"$f":"IF(E887=\"\",\"\",IF(COUNTIF(E:E,E887)>1,IF(COUNTIF(E$6:E887,E887)=1,\"\",\"YES\"),\"\"))","v":""},"",""]
[null,null,null,null,null,null,{"$f":"IF(E888=\"\",\"\",IF(COUNTIF(E:E,E888)>1,IF(COUNTIF(E$6:E888,E888)=1,\"\",\"YES\"),\"\"))","v":""},"",""]
[null,null,null,null,null,null,{"$f":"IF(E889=\"\",\"\",IF(COUNTIF(E:E,E889)>1,IF(COUNTIF(E$6:E889,E889)=1,\"\",\"YES\"),\"\"))","v":""},"",""]
[null,null,null,null,null,null,{"$f":"IF(E890=\"\",\"\",IF(COUNTIF(E:E,E890)>1,IF(COUNTIF(E$6:E890,E890)=1,\"\",\"YES\"),\"\"))","v":""},"",""]
[null,null,null,null,null,null,{"$f":"IF(E891=\"\",\"\",IF(COUNTIF(E:E,E891)>1,IF(COUNTIF(E$6:E891,E891)=1,\"\",\"YES\"),\"\"))","v":""},"",""]
[null,null,null,null,null,null,{"$f":"IF(E892=\"\",\"\",IF(COUNTIF(E:E,E892)>1,IF(COUNTIF(E$6:E892,E892)=1,\"\",\"YES\"),\"\"))","v":""},"",""]
[null,null,null,null,null,null,{"$f":"IF(E893=\"\",\"\",IF(COUNTIF(E:E,E893)>1,IF(COUNTIF(E$6:E893,E893)=1,\"\",\"YES\"),\"\"))","v":""},"",{"$f":"IF(B893=\"\",\"\",IF(OR(G893=\"YES\",H893=\"EXPIRING\"),\"YES\",\"NO\"))","v":""}]
[null,null,null,null,null,null,{"$f":"IF(E894=\"\",\"\",IF(COUNTIF(E:E,E894)>1,IF(COUNTIF(E$6:E894,E894)=1,\"\",\"YES\"),\"\"))","v":""},"",""]
[null,null,null,null,null,null,{"$f":"IF(E895=\"\",\"\",IF(COUNTIF(E:E,E895)>1,IF(COUNTIF(E$6:E895,E895)=1,\"\",\"YES\"),\"\"))","v":""},"",""]
[null,null,null,null,null,null,{"$f":"IF(E896=\"\",\"\",IF(COUNTIF(E:E,E896)>1,IF(COUNTIF(E$6:E896,E896)=1,\"\",\"YES\"),\"\"))","v":""},"",""]
[null,null,null,null,null,null,{"$f":"IF(E897=\"\",\"\",IF(COUNTIF(E:E,E897)>1,IF(COUNTIF(E$6:E897,E897)=1,\"\",\"YES\"),\"\"))","v":""},"",""]
[null,null,null,null,null,null,{"$f":"IF(E898=\"\",\"\",IF(COUNTIF(E:E,E898)>1,IF(COUNTIF(E$6:E898,E898)=1,\"\",\"YES\"),\"\"))","v":""},"",""]
[null,null,null,null,null,null,{"$f":"IF(E899=\"\",\"\",IF(COUNTIF(E:E,E899)>1,IF(COUNTIF(E$6:E899,E899)=1,\"\",\"YES\"),\"\"))","v":""},"",""]
[null,null,null,null,null,null,{"$f":"IF(E900=\"\",\"\",IF(COUNTIF(E:E,E900)>1,IF(COUNTIF(E$6:E900,E900)=1,\"\",\"YES\"),\"\"))","v":""},"",""]
[null,null,null,null,null,null,{"$f":"IF(E901=\"\",\"\",IF(COUNTIF(E:E,E901)>1,IF(COUNTIF(E$6:E901,E901)=1,\"\",\"YES\"),\"\"))","v":""},"",""]
[null,null,null,null,null,null,{"$f":"IF(E902=\"\",\"\",IF(COUNTIF(E:E,E902)>1,IF(COUNTIF(E$6:E902,E902)=1,\"\",\"YES\"),\"\"))","v":""},"",""]
[null,null,null,null,null,null,{"$f":"IF(E903=\"\",\"\",IF(COUNTIF(E:E,E903)>1,IF(COUNTIF(E$6:E903,E903)=1,\"\",\"YES\"),\"\"))","v":""},"",""]
[null,null,null,null,null,null,{"$f":"IF(E904=\"\",\"\",IF(COUNTIF(E:E,E904)>1,IF(COUNTIF(E$6:E904,E904)=1,\"\",\"YES\"),\"\"))","v":""},"",""]
[null,null,null,null,null,null,{"$f":"IF(E905=\"\",\"\",IF(COUNTIF(E:E,E905)>1,IF(COUNTIF(E$6:E905,E905)=1,\"\",\"YES\"),\"\"))","v":""},"",""]
[null,null,null,null,null,null,{"$f":"IF(E906=\"\",\"\",IF(COUNTIF(E:E,E906)>1,IF(COUNTIF(E$6:E906,E906)=1,\"\",\"YES\"),\"\"))","v":""},"",""]
[null,null,null,null,null,null,{"$f":"IF(E907=\"\",\"\",IF(COUNTIF(E:E,E907)>1,IF(COUNTIF(E$6:E907,E907)=1,\"\",\"YES\"),\"\"))","v":""},"",""]
[null,null,null,null,null,null,{"$f":"IF(E908=\"\",\"\",IF(COUNTIF(E:E,E908)>1,IF(COUNTIF(E$6:E908,E908)=1,\"\",\"YES\"),\"\"))","v":""},"",""]
[null,null,null,null,null,null,{"$f":"IF(E909=\"\",\"\",IF(COUNTIF(E:E,E909)>1,IF(COUNTIF(E$6:E909,E909)=1,\"\",\"YES\"),\"\"))","v":""},"",""]
[null,null,null,null,null,null,{"$f":"IF(E910=\"\",\"\",IF(COUNTIF(E:E,E910)>1,IF(COUNTIF(E$6:E910,E910)=1,\"\",\"YES\"),\"\"))","v":""},"",""]
[null,null,null,null,null,null,{"$f":"IF(E911=\"\",\"\",IF(COUNTIF(E:E,E911)>1,IF(COUNTIF(E$6:E911,E911)=1,\"\",\"YES\"),\"\"))","v":""},"",""]
[null,null,null,null,null,null,{"$f":"IF(E912=\"\",\"\",IF(COUNTIF(E:E,E912)>1,IF(COUNTIF(E$6:E912,E912)=1,\"\",\"YES\"),\"\"))","v":""},"",""]
[null,null,null,null,null,null,{"$f":"IF(E913=\"\",\"\",IF(COUNTIF(E:E,E913)>1,IF(COUNTIF(E$6:E913,E913)=1,\"\",\"YES\"),\"\"))","v":""},"",""]
[null,null,null,null,null,null,{"$f":"IF(E914=\"\",\"\",IF(COUNTIF(E:E,E914)>1,IF(COUNTIF(E$6:E914,E914)=1,\"\",\"YES\"),\"\"))","v":""},"",""]
[null,null,null,null,null,null,{"$f":"IF(E915=\"\",\"\",IF(COUNTIF(E:E,E915)>1,IF(COUNTIF(E$6:E915,E915)=1,\"\",\"YES\"),\"\"))","v":""},"",""]
[null,null,null,null,null,null,{"$f":"IF(E916=\"\",\"\",IF(COUNTIF(E:E,E916)>1,IF(COUNTIF(E$6:E916,E916)=1,\"\",\"YES\"),\"\"))","v":""},"",""]
[null,null,null,null,null,null,{"$f":"IF(E917=\"\",\"\",IF(COUNTIF(E:E,E917)>1,IF(COUNTIF(E$6:E917,E917)=1,\"\",\"YES\"),\"\"))","v":""},"",""]
[null,null,null,null,null,null,{"$f":"IF(E918=\"\",\"\",IF(COUNTIF(E:E,E918)>1,IF(COUNTIF(E$6:E918,E918)=1,\"\",\"YES\"),\"\"))","v":""},"",""]
[null,null,null,null,null,null,{"$f":"IF(E919=\"\",\"\",IF(COUNTIF(E:E,E919)>1,IF(COUNTIF(E$6:E919,E919)=1,\"\",\"YES\"),\"\"))","v":""},"",""]
[null,null,null,null,null,null,{"$f":"IF(E920=\"\",\"\",IF(COUNTIF(E:E,E920)>1,IF(COUNTIF(E$6:E920,E920)=1,\"\",\"YES\"),\"\"))","v":""},"",""]
[null,null,null,null,null,null,{"$f":"IF(E921=\"\",\"\",IF(COUNTIF(E:E,E921)>1,IF(COUNTIF(E$6:E921,E921)=1,\"\",\"YES\"),\"\"))","v":""},"",""]
[null,null,null,null,null,null,{"$f":"IF(E922=\"\",\"\",IF(COUNTIF(E:E,E922)>1,IF(COUNTIF(E$6:E922,E922)=1,\"\",\"YES\"),\"\"))","v":""},"",""]
[null,null,null,null,null,null,{"$f":"IF(E923=\"\",\"\",IF(COUNTIF(E:E,E923)>1,IF(COUNTIF(E$6:E923,E923)=1,\"\",\"YES\"),\"\"))","v":""},"",""]
[null,null,null,null,null,null,{"$f":"IF(E924=\"\",\"\",IF(COUNTIF(E:E,E924)>1,IF(COUNTIF(E$6:E924,E924)=1,\"\",\"YES\"),\"\"))","v":""},"",""]
[null,null,null,null,null,null,{"$f":"IF(E925=\"\",\"\",IF(COUNTIF(E:E,E925)>1,IF(COUNTIF(E$6:E925,E925)=1,\"\",\"YES\"),\"\"))","v":""},{"$f":"IF(B925=\"\",\"\", IF(VALUE(LEFT(B925,1))=A$1,\"\",IF(AND(A$2=\"Yes\",VALUE(LEFT(B925))<A$1),\"Expiring\",\"\")))","v":""},""]
[null,null,null,null,null,null,{"$f":"IF(E926=\"\",\"\",IF(COUNTIF(E:E,E926)>1,IF(COUNTIF(E$6:E926,E926)=1,\"\",\"YES\"),\"\"))","v":""},"",""]
[null,null,null,null,null,null,{"$f":"IF(E927=\"\",\"\",IF(COUNTIF(E:E,E927)>1,IF(COUNTIF(E$6:E927,E927)=1,\"\",\"YES\"),\"\"))","v":""},"",""]
[null,null,null,null,null,null,{"$f":"IF(E928=\"\",\"\",IF(COUNTIF(E:E,E928)>1,IF(COUNTIF(E$6:E928,E928)=1,\"\",\"YES\"),\"\"))","v":""},"",""]
[null,null,null,null,null,null,{"$f":"IF(E929=\"\",\"\",IF(COUNTIF(E:E,E929)>1,IF(COUNTIF(E$6:E929,E929)=1,\"\",\"YES\"),\"\"))","v":""},"",""]
[null,null,null,null,null,null,{"$f":"IF(E930=\"\",\"\",IF(COUNTIF(E:E,E930)>1,IF(COUNTIF(E$6:E930,E930)=1,\"\",\"YES\"),\"\"))","v":""},"",""]
[null,null,null,null,null,null,{"$f":"IF(E931=\"\",\"\",IF(COUNTIF(E:E,E931)>1,IF(COUNTIF(E$6:E931,E931)=1,\"\",\"YES\"),\"\"))","v":""},"",""]
[null,null,null,null,null,null,{"$f":"IF(E932=\"\",\"\",IF(COUNTIF(E:E,E932)>1,IF(COUNTIF(E$6:E932,E932)=1,\"\",\"YES\"),\"\"))","v":""},"",""]
[null,null,null,null,null,null,{"$f":"IF(E933=\"\",\"\",IF(COUNTIF(E:E,E933)>1,IF(COUNTIF(E$6:E933,E933)=1,\"\",\"YES\"),\"\"))","v":""},"",""]
[null,null,null,null,null,null,{"$f":"IF(E934=\"\",\"\",IF(COUNTIF(E:E,E934)>1,IF(COUNTIF(E$6:E934,E934)=1,\"\",\"YES\"),\"\"))","v":""},"",""]
[null,null,null,null,null,null,{"$f":"IF(E935=\"\",\"\",IF(COUNTIF(E:E,E935)>1,IF(COUNTIF(E$6:E935,E935)=1,\"\",\"YES\"),\"\"))","v":""},"",""]
[null,null,null,null,null,null,{"$f":"IF(E936=\"\",\"\",IF(COUNTIF(E:E,E936)>1,IF(COUNTIF(E$6:E936,E936)=1,\"\",\"YES\"),\"\"))","v":""},"",""]
[null,null,null,null,null,null,{"$f":"IF(E937=\"\",\"\",IF(COUNTIF(E:E,E937)>1,IF(COUNTIF(E$6:E937,E937)=1,\"\",\"YES\"),\"\"))","v":""},"",""]
[null,null,null,null,null,null,{"$f":"IF(E938=\"\",\"\",IF(COUNTIF(E:E,E938)>1,IF(COUNTIF(E$6:E938,E938)=1,\"\",\"YES\"),\"\"))","v":""},"",""]
[null,null,null,null,null,null,{"$f":"IF(E939=\"\",\"\",IF(COUNTIF(E:E,E939)>1,IF(COUNTIF(E$6:E939,E939)=1,\"\",\"YES\"),\"\"))","v":""},"",""]
[null,null,null,null,null,null,{"$f":"IF(E940=\"\",\"\",IF(COUNTIF(E:E,E940)>1,IF(COUNTIF(E$6:E940,E940)=1,\"\",\"YES\"),\"\"))","v":""},"",""]
[null,null,null,null,null,null,{"$f":"IF(E941=\"\",\"\",IF(COUNTIF(E:E,E941)>1,IF(COUNTIF(E$6:E941,E941)=1,\"\",\"YES\"),\"\"))","v":""},"",""]
[null,null,null,null,null,null,{"$f":"IF(E942=\"\",\"\",IF(COUNTIF(E:E,E942)>1,IF(COUNTIF(E$6:E942,E942)=1,\"\",\"YES\"),\"\"))","v":""},"",""]
[null,null,null,null,null,null,{"$f":"IF(E943=\"\",\"\",IF(COUNTIF(E:E,E943)>1,IF(COUNTIF(E$6:E943,E943)=1,\"\",\"YES\"),\"\"))","v":""},"",""]
[null,null,null,null,null,null,{"$f":"IF(E944=\"\",\"\",IF(COUNTIF(E:E,E944)>1,IF(COUNTIF(E$6:E944,E944)=1,\"\",\"YES\"),\"\"))","v":""},"",""]
[null,null,null,null,null,null,{"$f":"IF(E945=\"\",\"\",IF(COUNTIF(E:E,E945)>1,IF(COUNTIF(E$6:E945,E945)=1,\"\",\"YES\"),\"\"))","v":""},"",""]
[null,null,null,null,null,null,{"$f":"IF(E946=\"\",\"\",IF(COUNTIF(E:E,E946)>1,IF(COUNTIF(E$6:E946,E946)=1,\"\",\"YES\"),\"\"))","v":""},"",""]
[null,null,null,null,null,null,{"$f":"IF(E947=\"\",\"\",IF(COUNTIF(E:E,E947)>1,IF(COUNTIF(E$6:E947,E947)=1,\"\",\"YES\"),\"\"))","v":""},"",""]
[null,null,null,null,null,null,{"$f":"IF(E948=\"\",\"\",IF(COUNTIF(E:E,E948)>1,IF(COUNTIF(E$6:E948,E948)=1,\"\",\"YES\"),\"\"))","v":""},"",""]
[null,null,null,null,null,null,{"$f":"IF(E949=\"\",\"\",IF(COUNTIF(E:E,E949)>1,IF(COUNTIF(E$6:E949,E949)=1,\"\",\"YES\"),\"\"))","v":""},"",""]
[null,null,null,null,null,null,{"$f":"IF(E950=\"\",\"\",IF(COUNTIF(E:E,E950)>1,IF(COUNTIF(E$6:E950,E950)=1,\"\",\"YES\"),\"\"))","v":""},"",""]
[null,null,null,null,null,null,{"$f":"IF(E951=\"\",\"\",IF(COUNTIF(E:E,E951)>1,IF(COUNTIF(E$6:E951,E951)=1,\"\",\"YES\"),\"\"))","v":""},"",""]
[null,null,null,null,null,null,{"$f":"IF(E952=\"\",\"\",IF(COUNTIF(E:E,E952)>1,IF(COUNTIF(E$6:E952,E952)=1,\"\",\"YES\"),\"\"))","v":""},"",""]
[null,null,null,null,null,null,{"$f":"IF(E953=\"\",\"\",IF(COUNTIF(E:E,E953)>1,IF(COUNTIF(E$6:E953,E953)=1,\"\",\"YES\"),\"\"))","v":""},"",""]
[null,null,null,null,null,null,{"$f":"IF(E954=\"\",\"\",IF(COUNTIF(E:E,E954)>1,IF(COUNTIF(E$6:E954,E954)=1,\"\",\"YES\"),\"\"))","v":""},"",""]
[null,null,null,null,null,null,{"$f":"IF(E955=\"\",\"\",IF(COUNTIF(E:E,E955)>1,IF(COUNTIF(E$6:E955,E955)=1,\"\",\"YES\"),\"\"))","v":""},"",""]
[null,null,null,null,null,null,{"$f":"IF(E956=\"\",\"\",IF(COUNTIF(E:E,E956)>1,IF(COUNTIF(E$6:E956,E956)=1,\"\",\"YES\"),\"\"))","v":""},"",""]
[null,null,null,null,null,null,{"$f":"IF(E957=\"\",\"\",IF(COUNTIF(E:E,E957)>1,IF(COUNTIF(E$6:E957,E957)=1,\"\",\"YES\"),\"\"))","v":""},"",{"$f":"IF(B957=\"\",\"\",IF(OR(G957=\"YES\",H957=\"EXPIRING\"),\"YES\",\"NO\"))","v":""}]
[null,null,null,null,null,null,{"$f":"IF(E958=\"\",\"\",IF(COUNTIF(E:E,E958)>1,IF(COUNTIF(E$6:E958,E958)=1,\"\",\"YES\"),\"\"))","v":""},"",""]
[null,null,null,null,null,null,{"$f":"IF(E959=\"\",\"\",IF(COUNTIF(E:E,E959)>1,IF(COUNTIF(E$6:E959,E959)=1,\"\",\"YES\"),\"\"))","v":""},"",""]
[null,null,null,null,null,null,{"$f":"IF(E960=\"\",\"\",IF(COUNTIF(E:E,E960)>1,IF(COUNTIF(E$6:E960,E960)=1,\"\",\"YES\"),\"\"))","v":""},"",""]
[null,null,null,null,null,null,{"$f":"IF(E961=\"\",\"\",IF(COUNTIF(E:E,E961)>1,IF(COUNTIF(E$6:E961,E961)=1,\"\",\"YES\"),\"\"))","v":""},"",""]
[null,null,null,null,null,null,{"$f":"IF(E962=\"\",\"\",IF(COUNTIF(E:E,E962)>1,IF(COUNTIF(E$6:E962,E962)=1,\"\",\"YES\"),\"\"))","v":""},"",""]
[null,null,null,null,null,null,{"$f":"IF(E963=\"\",\"\",IF(COUNTIF(E:E,E963)>1,IF(COUNTIF(E$6:E963,E963)=1,\"\",\"YES\"),\"\"))","v":""},"",""]
[null,null,null,null,null,null,{"$f":"IF(E964=\"\",\"\",IF(COUNTIF(E:E,E964)>1,IF(COUNTIF(E$6:E964,E964)=1,\"\",\"YES\"),\"\"))","v":""},"",""]
[null,null,null,null,null,null,{"$f":"IF(E965=\"\",\"\",IF(COUNTIF(E:E,E965)>1,IF(COUNTIF(E$6:E965,E965)=1,\"\",\"YES\"),\"\"))","v":""},"",""]
[null,null,null,null,null,null,{"$f":"IF(E966=\"\",\"\",IF(COUNTIF(E:E,E966)>1,IF(COUNTIF(E$6:E966,E966)=1,\"\",\"YES\"),\"\"))","v":""},"",""]
[null,null,null,null,null,null,{"$f":"IF(E967=\"\",\"\",IF(COUNTIF(E:E,E967)>1,IF(COUNTIF(E$6:E967,E967)=1,\"\",\"YES\"),\"\"))","v":""},"",""]
[null,null,null,null,null,null,{"$f":"IF(E968=\"\",\"\",IF(COUNTIF(E:E,E968)>1,IF(COUNTIF(E$6:E968,E968)=1,\"\",\"YES\"),\"\"))","v":""},"",""]
[null,null,null,null,null,null,{"$f":"IF(E969=\"\",\"\",IF(COUNTIF(E:E,E969)>1,IF(COUNTIF(E$6:E969,E969)=1,\"\",\"YES\"),\"\"))","v":""},"",""]
[null,null,null,null,null,null,{"$f":"IF(E970=\"\",\"\",IF(COUNTIF(E:E,E970)>1,IF(COUNTIF(E$6:E970,E970)=1,\"\",\"YES\"),\"\"))","v":""},"",""]
[null,null,null,null,null,null,{"$f":"IF(E971=\"\",\"\",IF(COUNTIF(E:E,E971)>1,IF(COUNTIF(E$6:E971,E971)=1,\"\",\"YES\"),\"\"))","v":""},"",""]
[null,null,null,null,null,null,{"$f":"IF(E972=\"\",\"\",IF(COUNTIF(E:E,E972)>1,IF(COUNTIF(E$6:E972,E972)=1,\"\",\"YES\"),\"\"))","v":""},"",""]
[null,null,null,null,null,null,{"$f":"IF(E973=\"\",\"\",IF(COUNTIF(E:E,E973)>1,IF(COUNTIF(E$6:E973,E973)=1,\"\",\"YES\"),\"\"))","v":""},"",""]
[null,null,null,null,null,null,{"$f":"IF(E974=\"\",\"\",IF(COUNTIF(E:E,E974)>1,IF(COUNTIF(E$6:E974,E974)=1,\"\",\"YES\"),\"\"))","v":""},"",""]
[null,null,null,null,null,null,{"$f":"IF(E975=\"\",\"\",IF(COUNTIF(E:E,E975)>1,IF(COUNTIF(E$6:E975,E975)=1,\"\",\"YES\"),\"\"))","v":""},"",""]
[null,null,null,null,null,null,{"$f":"IF(E976=\"\",\"\",IF(COUNTIF(E:E,E976)>1,IF(COUNTIF(E$6:E976,E976)=1,\"\",\"YES\"),\"\"))","v":""},"",""]
[null,null,null,null,null,null,{"$f":"IF(E977=\"\",\"\",IF(COUNTIF(E:E,E977)>1,IF(COUNTIF(E$6:E977,E977)=1,\"\",\"YES\"),\"\"))","v":""},"",""]
[null,null,null,null,null,null,{"$f":"IF(E978=\"\",\"\",IF(COUNTIF(E:E,E978)>1,IF(COUNTIF(E$6:E978,E978)=1,\"\",\"YES\"),\"\"))","v":""},"",""]
[null,null,null,null,null,null,{"$f":"IF(E979=\"\",\"\",IF(COUNTIF(E:E,E979)>1,IF(COUNTIF(E$6:E979,E979)=1,\"\",\"YES\"),\"\"))","v":""},"",""]
[null,null,null,null,null,null,{"$f":"IF(E980=\"\",\"\",IF(COUNTIF(E:E,E980)>1,IF(COUNTIF(E$6:E980,E980)=1,\"\",\"YES\"),\"\"))","v":""},"",""]
[null,null,null,null,null,null,{"$f":"IF(E981=\"\",\"\",IF(COUNTIF(E:E,E981)>1,IF(COUNTIF(E$6:E981,E981)=1,\"\",\"YES\"),\"\"))","v":""},"",""]
[null,null,null,null,null,null,{"$f":"IF(E982=\"\",\"\",IF(COUNTIF(E:E,E982)>1,IF(COUNTIF(E$6:E982,E982)=1,\"\",\"YES\"),\"\"))","v":""},"",""]
[null,null,null,null,null,null,{"$f":"IF(E983=\"\",\"\",IF(COUNTIF(E:E,E983)>1,IF(COUNTIF(E$6:E983,E983)=1,\"\",\"YES\"),\"\"))","v":""},"",""]
[null,null,null,null,null,null,{"$f":"IF(E984=\"\",\"\",IF(COUNTIF(E:E,E984)>1,IF(COUNTIF(E$6:E984,E984)=1,\"\",\"YES\"),\"\"))","v":""},"",""]
[null,null,null,null,null,null,{"$f":"IF(E985=\"\",\"\",IF(COUNTIF(E:E,E985)>1,IF(COUNTIF(E$6:E985,E985)=1,\"\",\"YES\"),\"\"))","v":""},"",""]
[null,null,null,null,null,null,{"$f":"IF(E986=\"\",\"\",IF(COUNTIF(E:E,E986)>1,IF(COUNTIF(E$6:E986,E986)=1,\"\",\"YES\"),\"\"))","v":""},"",""]
[null,null,null,null,null,null,{"$f":"IF(E987=\"\",\"\",IF(COUNTIF(E:E,E987)>1,IF(COUNTIF(E$6:E987,E987)=1,\"\",\"YES\"),\"\"))","v":""},"",""]
[null,null,null,null,null,null,{"$f":"IF(E988=\"\",\"\",IF(COUNTIF(E:E,E988)>1,IF(COUNTIF(E$6:E988,E988)=1,\"\",\"YES\"),\"\"))","v":""},"",""]
[null,null,null,null,null,null,{"$f":"IF(E989=\"\",\"\",IF(COUNTIF(E:E,E989)>1,IF(COUNTIF(E$6:E989,E989)=1,\"\",\"YES\"),\"\"))","v":""},{"$f":"IF(B989=\"\",\"\", IF(VALUE(LEFT(B989,1))=A$1,\"\",IF(AND(A$2=\"Yes\",VALUE(LEFT(B989))<A$1),\"Expiring\",\"\")))","v":""},""]
[null,null,null,null,null,null,{"$f":"IF(E990=\"\",\"\",IF(COUNTIF(E:E,E990)>1,IF(COUNTIF(E$6:E990,E990)=1,\"\",\"YES\"),\"\"))","v":""},"",""]
[null,null,null,null,null,null,{"$f":"IF(E991=\"\",\"\",IF(COUNTIF(E:E,E991)>1,IF(COUNTIF(E$6:E991,E991)=1,\"\",\"YES\"),\"\"))","v":""},"",""]
[null,null,null,null,null,null,{"$f":"IF(E992=\"\",\"\",IF(COUNTIF(E:E,E992)>1,IF(COUNTIF(E$6:E992,E992)=1,\"\",\"YES\"),\"\"))","v":""},"",""]
[null,null,null,null,null,null,{"$f":"IF(E993=\"\",\"\",IF(COUNTIF(E:E,E993)>1,IF(COUNTIF(E$6:E993,E993)=1,\"\",\"YES\"),\"\"))","v":""},"",""]
[null,null,null,null,null,null,{"$f":"IF(E994=\"\",\"\",IF(COUNTIF(E:E,E994)>1,IF(COUNTIF(E$6:E994,E994)=1,\"\",\"YES\"),\"\"))","v":""},"",""]
[null,null,null,null,null,null,{"$f":"IF(E995=\"\",\"\",IF(COUNTIF(E:E,E995)>1,IF(COUNTIF(E$6:E995,E995)=1,\"\",\"YES\"),\"\"))","v":""},"",""]
[null,null,null,null,null,null,{"$f":"IF(E996=\"\",\"\",IF(COUNTIF(E:E,E996)>1,IF(COUNTIF(E$6:E996,E996)=1,\"\",\"YES\"),\"\"))","v":""},"",""]
[null,null,null,null,null,null,{"$f":"IF(E997=\"\",\"\",IF(COUNTIF(E:E,E997)>1,IF(COUNTIF(E$6:E997,E997)=1,\"\",\"YES\"),\"\"))","v":""},"",""]
[null,null,null,null,null,null,{"$f":"IF(E998=\"\",\"\",IF(COUNTIF(E:E,E998)>1,IF(COUNTIF(E$6:E998,E998)=1,\"\",\"YES\"),\"\"))","v":""},"",""]
[null,null,null,null,null,null,{"$f":"IF(E999=\"\",\"\",IF(COUNTIF(E:E,E999)>1,IF(COUNTIF(E$6:E999,E999)=1,\"\",\"YES\"),\"\"))","v":""},"",""]
[null,null,null,null,null,null,{"$f":"IF(E1000=\"\",\"\",IF(COUNTIF(E:E,E1000)>1,IF(COUNTIF(E$6:E1000,E1000)=1,\"\",\"YES\"),\"\"))","v":""},"",""]
[null,null,null,null,null,null,{"$f":"IF(E1001=\"\",\"\",IF(COUNTIF(E:E,E1001)>1,IF(COUNTIF(E$6:E1001,E1001)=1,\"\",\"YES\"),\"\"))","v":""},"",""]
[null,null,null,null,null,null,{"$f":"IF(E1002=\"\",\"\",IF(COUNTIF(E:E,E1002)>1,IF(COUNTIF(E$6:E1002,E1002)=1,\"\",\"YES\"),\"\"))","v":""},"",""]
[null,null,null,null,null,null,{"$f":"IF(E1003=\"\",\"\",IF(COUNTIF(E:E,E1003)>1,IF(COUNTIF(E$6:E1003,E1003)=1,\"\",\"YES\"),\"\"))","v":""},"",""]
[null,null,null,null,null,null,{"$f":"IF(E1004=\"\",\"\",IF(COUNTIF(E:E,E1004)>1,IF(COUNTIF(E$6:E1004,E1004)=1,\"\",\"YES\"),\"\"))","v":""},"",""]
[null,null,null,null,null,null,{"$f":"IF(E1005=\"\",\"\",IF(COUNTIF(E:E,E1005)>1,IF(COUNTIF(E$6:E1005,E1005)=1,\"\",\"YES\"),\"\"))","v":""},"",""]
[null,null,null,null,null,null,{"$f":"IF(E1006=\"\",\"\",IF(COUNTIF(E:E,E1006)>1,IF(COUNTIF(E$6:E1006,E1006)=1,\"\",\"YES\"),\"\"))","v":""},"",""]
[null,null,null,null,null,null,{"$f":"IF(E1007=\"\",\"\",IF(COUNTIF(E:E,E1007)>1,IF(COUNTIF(E$6:E1007,E1007)=1,\"\",\"YES\"),\"\"))","v":""},"",""]
[null,null,null,null,null,null,{"$f":"IF(E1008=\"\",\"\",IF(COUNTIF(E:E,E1008)>1,IF(COUNTIF(E$6:E1008,E1008)=1,\"\",\"YES\"),\"\"))","v":""},"",""]
[null,null,null,null,null,null,{"$f":"IF(E1009=\"\",\"\",IF(COUNTIF(E:E,E1009)>1,IF(COUNTIF(E$6:E1009,E1009)=1,\"\",\"YES\"),\"\"))","v":""},"",""]
[null,null,null,null,null,null,{"$f":"IF(E1010=\"\",\"\",IF(COUNTIF(E:E,E1010)>1,IF(COUNTIF(E$6:E1010,E1010)=1,\"\",\"YES\"),\"\"))","v":""},"",""]
[null,null,null,null,null,null,{"$f":"IF(E1011=\"\",\"\",IF(COUNTIF(E:E,E1011)>1,IF(COUNTIF(E$6:E1011,E1011)=1,\"\",\"YES\"),\"\"))","v":""},"",""]
[null,null,null,null,null,null,{"$f":"IF(E1012=\"\",\"\",IF(COUNTIF(E:E,E1012)>1,IF(COUNTIF(E$6:E1012,E1012)=1,\"\",\"YES\"),\"\"))","v":""},"",""]
[null,null,null,null,null,null,{"$f":"IF(E1013=\"\",\"\",IF(COUNTIF(E:E,E1013)>1,IF(COUNTIF(E$6:E1013,E1013)=1,\"\",\"YES\"),\"\"))","v":""},"",""]
[null,null,null,null,null,null,{"$f":"IF(E1014=\"\",\"\",IF(COUNTIF(E:E,E1014)>1,IF(COUNTIF(E$6:E1014,E1014)=1,\"\",\"YES\"),\"\"))","v":""},"",""]
[null,null,null,null,null,null,{"$f":"IF(E1015=\"\",\"\",IF(COUNTIF(E:E,E1015)>1,IF(COUNTIF(E$6:E1015,E1015)=1,\"\",\"YES\"),\"\"))","v":""},"",""]
[null,null,null,null,null,null,{"$f":"IF(E1016=\"\",\"\",IF(COUNTIF(E:E,E1016)>1,IF(COUNTIF(E$6:E1016,E1016)=1,\"\",\"YES\"),\"\"))","v":""},"",""]
[null,null,null,null,null,null,{"$f":"IF(E1017=\"\",\"\",IF(COUNTIF(E:E,E1017)>1,IF(COUNTIF(E$6:E1017,E1017)=1,\"\",\"YES\"),\"\"))","v":""},"",""]
[null,null,null,null,null,null,{"$f":"IF(E1018=\"\",\"\",IF(COUNTIF(E:E,E1018)>1,IF(COUNTIF(E$6:E1018,E1018)=1,\"\",\"YES\"),\"\"))","v":""},"",""]
[null,null,null,null,null,null,{"$f":"IF(E1019=\"\",\"\",IF(COUNTIF(E:E,E1019)>1,IF(COUNTIF(E$6:E1019,E1019)=1,\"\",\"YES\"),\"\"))","v":""},"",""]
[null,null,null,null,null,null,{"$f":"IF(E1020=\"\",\"\",IF(COUNTIF(E:E,E1020)>1,IF(COUNTIF(E$6:E1020,E1020)=1,\"\",\"YES\"),\"\"))","v":""},"",""]
[null,null,null,null,null,null,{"$f":"IF(E1021=\"\",\"\",IF(COUNTIF(E:E,E1021)>1,IF(COUNTIF(E$6:E1021,E1021)=1,\"\",\"YES\"),\"\"))","v":""},"",{"$f":"IF(B1021=\"\",\"\",IF(OR(G1021=\"YES\",H1021=\"EXPIRING\"),\"YES\",\"NO\"))","v":""}]
[null,null,null,null,null,null,{"$f":"IF(E1022=\"\",\"\",IF(COUNTIF(E:E,E1022)>1,IF(COUNTIF(E$6:E1022,E1022)=1,\"\",\"YES\"),\"\"))","v":""},"",""]
[null,null,null,null,null,null,{"$f":"IF(E1023=\"\",\"\",IF(COUNTIF(E:E,E1023)>1,IF(COUNTIF(E$6:E1023,E1023)=1,\"\",\"YES\"),\"\"))","v":""},"",""]
[null,null,null,null,null,null,{"$f":"IF(E1024=\"\",\"\",IF(COUNTIF(E:E,E1024)>1,IF(COUNTIF(E$6:E1024,E1024)=1,\"\",\"YES\"),\"\"))","v":""},"",""]
[null,null,null,null,null,null,{"$f":"IF(E1025=\"\",\"\",IF(COUNTIF(E:E,E1025)>1,IF(COUNTIF(E$6:E1025,E1025)=1,\"\",\"YES\"),\"\"))","v":""},"",""]
[null,null,null,null,null,null,{"$f":"IF(E1026=\"\",\"\",IF(COUNTIF(E:E,E1026)>1,IF(COUNTIF(E$6:E1026,E1026)=1,\"\",\"YES\"),\"\"))","v":""},"",""]
[null,null,null,null,null,null,{"$f":"IF(E1027=\"\",\"\",IF(COUNTIF(E:E,E1027)>1,IF(COUNTIF(E$6:E1027,E1027)=1,\"\",\"YES\"),\"\"))","v":""},"",""]
[null,null,null,null,null,null,{"$f":"IF(E1028=\"\",\"\",IF(COUNTIF(E:E,E1028)>1,IF(COUNTIF(E$6:E1028,E1028)=1,\"\",\"YES\"),\"\"))","v":""},"",""]
[null,null,null,null,null,null,{"$f":"IF(E1029=\"\",\"\",IF(COUNTIF(E:E,E1029)>1,IF(COUNTIF(E$6:E1029,E1029)=1,\"\",\"YES\"),\"\"))","v":""},"",""]
[null,null,null,null,null,null,{"$f":"IF(E1030=\"\",\"\",IF(COUNTIF(E:E,E1030)>1,IF(COUNTIF(E$6:E1030,E1030)=1,\"\",\"YES\"),\"\"))","v":""},"",""]
[null,null,null,null,null,null,{"$f":"IF(E1031=\"\",\"\",IF(COUNTIF(E:E,E1031)>1,IF(COUNTIF(E$6:E1031,E1031)=1,\"\",\"YES\"),\"\"))","v":""},"",""]
[null,null,null,null,null,null,{"$f":"IF(E1032=\"\",\"\",IF(COUNTIF(E:E,E1032)>1,IF(COUNTIF(E$6:E1032,E1032)=1,\"\",\"YES\"),\"\"))","v":""},"",""]
[null,null,null,null,null,null,{"$f":"IF(E1033=\"\",\"\",IF(COUNTIF(E:E,E1033)>1,IF(COUNTIF(E$6:E1033,E1033)=1,\"\",\"YES\"),\"\"))","v":""},"",""]
[null,null,null,null,null,null,{"$f":"IF(E1034=\"\",\"\",IF(COUNTIF(E:E,E1034)>1,IF(COUNTIF(E$6:E1034,E1034)=1,\"\",\"YES\"),\"\"))","v":""},"",""]
[null,null,null,null,null,null,{"$f":"IF(E1035=\"\",\"\",IF(COUNTIF(E:E,E1035)>1,IF(COUNTIF(E$6:E1035,E1035)=1,\"\",\"YES\"),\"\"))","v":""},"",""]
[null,null,null,null,null,null,{"$f":"IF(E1036=\"\",\"\",IF(COUNTIF(E:E,E1036)>1,IF(COUNTIF(E$6:E1036,E1036)=1,\"\",\"YES\"),\"\"))","v":""},"",""]
[null,null,null,null,null,null,{"$f":"IF(E1037=\"\",\"\",IF(COUNTIF(E:E,E1037)>1,IF(COUNTIF(E$6:E1037,E1037)=1,\"\",\"YES\"),\"\"))","v":""},"",""]
[null,null,null,null,null,null,{"$f":"IF(E1038=\"\",\"\",IF(COUNTIF(E:E,E1038)>1,IF(COUNTIF(E$6:E1038,E1038)=1,\"\",\"YES\"),\"\"))","v":""},"",""]
[null,null,null,null,null,null,{"$f":"IF(E1039=\"\",\"\",IF(COUNTIF(E:E,E1039)>1,IF(COUNTIF(E$6:E1039,E1039)=1,\"\",\"YES\"),\"\"))","v":""},"",""]
[null,null,null,null,null,null,{"$f":"IF(E1040=\"\",\"\",IF(COUNTIF(E:E,E1040)>1,IF(COUNTIF(E$6:E1040,E1040)=1,\"\",\"YES\"),\"\"))","v":""},"",""]
[null,null,null,null,null,null,{"$f":"IF(E1041=\"\",\"\",IF(COUNTIF(E:E,E1041)>1,IF(COUNTIF(E$6:E1041,E1041)=1,\"\",\"YES\"),\"\"))","v":""},"",""]
[null,null,null,null,null,null,{"$f":"IF(E1042=\"\",\"\",IF(COUNTIF(E:E,E1042)>1,IF(COUNTIF(E$6:E1042,E1042)=1,\"\",\"YES\"),\"\"))","v":""},"",""]
[null,null,null,null,null,null,{"$f":"IF(E1043=\"\",\"\",IF(COUNTIF(E:E,E1043)>1,IF(COUNTIF(E$6:E1043,E1043)=1,\"\",\"YES\"),\"\"))","v":""},"",""]
[null,null,null,null,null,null,{"$f":"IF(E1044=\"\",\"\",IF(COUNTIF(E:E,E1044)>1,IF(COUNTIF(E$6:E1044,E1044)=1,\"\",\"YES\"),\"\"))","v":""},"",""]
[null,null,null,null,null,null,{"$f":"IF(E1045=\"\",\"\",IF(COUNTIF(E:E,E1045)>1,IF(COUNTIF(E$6:E1045,E1045)=1,\"\",\"YES\"),\"\"))","v":""},"",""]
[null,null,null,null,null,null,{"$f":"IF(E1046=\"\",\"\",IF(COUNTIF(E:E,E1046)>1,IF(COUNTIF(E$6:E1046,E1046)=1,\"\",\"YES\"),\"\"))","v":""},"",""]
[null,null,null,null,null,null,{"$f":"IF(E1047=\"\",\"\",IF(COUNTIF(E:E,E1047)>1,IF(COUNTIF(E$6:E1047,E1047)=1,\"\",\"YES\"),\"\"))","v":""},"",""]
[null,null,null,null,null,null,{"$f":"IF(E1048=\"\",\"\",IF(COUNTIF(E:E,E1048)>1,IF(COUNTIF(E$6:E1048,E1048)=1,\"\",\"YES\"),\"\"))","v":""},"",""]
[null,null,null,null,null,null,{"$f":"IF(E1049=\"\",\"\",IF(COUNTIF(E:E,E1049)>1,IF(COUNTIF(E$6:E1049,E1049)=1,\"\",\"YES\"),\"\"))","v":""},"",""]
[null,null,null,null,null,null,{"$f":"IF(E1050=\"\",\"\",IF(COUNTIF(E:E,E1050)>1,IF(COUNTIF(E$6:E1050,E1050)=1,\"\",\"YES\"),\"\"))","v":""},"",""]
[null,null,null,null,null,null,{"$f":"IF(E1051=\"\",\"\",IF(COUNTIF(E:E,E1051)>1,IF(COUNTIF(E$6:E1051,E1051)=1,\"\",\"YES\"),\"\"))","v":""},"",""]
[null,null,null,null,null,null,{"$f":"IF(E1052=\"\",\"\",IF(COUNTIF(E:E,E1052)>1,IF(COUNTIF(E$6:E1052,E1052)=1,\"\",\"YES\"),\"\"))","v":""},"",""]
[null,null,null,null,null,null,{"$f":"IF(E1053=\"\",\"\",IF(COUNTIF(E:E,E1053)>1,IF(COUNTIF(E$6:E1053,E1053)=1,\"\",\"YES\"),\"\"))","v":""},{"$f":"IF(B1053=\"\",\"\", IF(VALUE(LEFT(B1053,1))=A$1,\"\",IF(AND(A$2=\"Yes\",VALUE(LEFT(B1053))<A$1),\"Expiring\",\"\")))","v":""},""]
[null,null,null,null,null,null,{"$f":"IF(E1054=\"\",\"\",IF(COUNTIF(E:E,E1054)>1,IF(COUNTIF(E$6:E1054,E1054)=1,\"\",\"YES\"),\"\"))","v":""},"",""]
[null,null,null,null,null,null,{"$f":"IF(E1055=\"\",\"\",IF(COUNTIF(E:E,E1055)>1,IF(COUNTIF(E$6:E1055,E1055)=1,\"\",\"YES\"),\"\"))","v":""},"",""]
[null,null,null,null,null,null,{"$f":"IF(E1056=\"\",\"\",IF(COUNTIF(E:E,E1056)>1,IF(COUNTIF(E$6:E1056,E1056)=1,\"\",\"YES\"),\"\"))","v":""},"",""]
[null,null,null,null,null,null,{"$f":"IF(E1057=\"\",\"\",IF(COUNTIF(E:E,E1057)>1,IF(COUNTIF(E$6:E1057,E1057)=1,\"\",\"YES\"),\"\"))","v":""},"",""]
[null,null,null,null,null,null,{"$f":"IF(E1058=\"\",\"\",IF(COUNTIF(E:E,E1058)>1,IF(COUNTIF(E$6:E1058,E1058)=1,\"\",\"YES\"),\"\"))","v":""},"",""]
[null,null,null,null,null,null,{"$f":"IF(E1059=\"\",\"\",IF(COUNTIF(E:E,E1059)>1,IF(COUNTIF(E$6:E1059,E1059)=1,\"\",\"YES\"),\"\"))","v":""},"",""]
[null,null,null,null,null,null,{"$f":"IF(E1060=\"\",\"\",IF(COUNTIF(E:E,E1060)>1,IF(COUNTIF(E$6:E1060,E1060)=1,\"\",\"YES\"),\"\"))","v":""},"",""]
[null,null,null,null,null,null,{"$f":"IF(E1061=\"\",\"\",IF(COUNTIF(E:E,E1061)>1,IF(COUNTIF(E$6:E1061,E1061)=1,\"\",\"YES\"),\"\"))","v":""},"",""]
[null,null,null,null,null,null,{"$f":"IF(E1062=\"\",\"\",IF(COUNTIF(E:E,E1062)>1,IF(COUNTIF(E$6:E1062,E1062)=1,\"\",\"YES\"),\"\"))","v":""},"",""]
[null,null,null,null,null,null,{"$f":"IF(E1063=\"\",\"\",IF(COUNTIF(E:E,E1063)>1,IF(COUNTIF(E$6:E1063,E1063)=1,\"\",\"YES\"),\"\"))","v":""},"",""]
[null,null,null,null,null,null,{"$f":"IF(E1064=\"\",\"\",IF(COUNTIF(E:E,E1064)>1,IF(COUNTIF(E$6:E1064,E1064)=1,\"\",\"YES\"),\"\"))","v":""},"",""]
[null,null,null,null,null,null,{"$f":"IF(E1065=\"\",\"\",IF(COUNTIF(E:E,E1065)>1,IF(COUNTIF(E$6:E1065,E1065)=1,\"\",\"YES\"),\"\"))","v":""},"",""]
[null,null,null,null,null,null,{"$f":"IF(E1066=\"\",\"\",IF(COUNTIF(E:E,E1066)>1,IF(COUNTIF(E$6:E1066,E1066)=1,\"\",\"YES\"),\"\"))","v":""},"",""]
[null,null,null,null,null,null,{"$f":"IF(E1067=\"\",\"\",IF(COUNTIF(E:E,E1067)>1,IF(COUNTIF(E$6:E1067,E1067)=1,\"\",\"YES\"),\"\"))","v":""},"",""]
[null,null,null,null,null,null,{"$f":"IF(E1068=\"\",\"\",IF(COUNTIF(E:E,E1068)>1,IF(COUNTIF(E$6:E1068,E1068)=1,\"\",\"YES\"),\"\"))","v":""},"",""]
[null,null,null,null,null,null,{"$f":"IF(E1069=\"\",\"\",IF(COUNTIF(E:E,E1069)>1,IF(COUNTIF(E$6:E1069,E1069)=1,\"\",\"YES\"),\"\"))","v":""},"",""]
[null,null,null,null,null,null,{"$f":"IF(E1070=\"\",\"\",IF(COUNTIF(E:E,E1070)>1,IF(COUNTIF(E$6:E1070,E1070)=1,\"\",\"YES\"),\"\"))","v":""},"",""]
[null,null,null,null,null,null,{"$f":"IF(E1071=\"\",\"\",IF(COUNTIF(E:E,E1071)>1,IF(COUNTIF(E$6:E1071,E1071)=1,\"\",\"YES\"),\"\"))","v":""},"",""]
[null,null,null,null,null,null,{"$f":"IF(E1072=\"\",\"\",IF(COUNTIF(E:E,E1072)>1,IF(COUNTIF(E$6:E1072,E1072)=1,\"\",\"YES\"),\"\"))","v":""},"",""]
[null,null,null,null,null,null,{"$f":"IF(E1073=\"\",\"\",IF(COUNTIF(E:E,E1073)>1,IF(COUNTIF(E$6:E1073,E1073)=1,\"\",\"YES\"),\"\"))","v":""},"",""]
[null,null,null,null,null,null,{"$f":"IF(E1074=\"\",\"\",IF(COUNTIF(E:E,E1074)>1,IF(COUNTIF(E$6:E1074,E1074)=1,\"\",\"YES\"),\"\"))","v":""},"",""]
[null,null,null,null,null,null,{"$f":"IF(E1075=\"\",\"\",IF(COUNTIF(E:E,E1075)>1,IF(COUNTIF(E$6:E1075,E1075)=1,\"\",\"YES\"),\"\"))","v":""},"",""]
[null,null,null,null,null,null,{"$f":"IF(E1076=\"\",\"\",IF(COUNTIF(E:E,E1076)>1,IF(COUNTIF(E$6:E1076,E1076)=1,\"\",\"YES\"),\"\"))","v":""},"",""]
[null,null,null,null,null,null,{"$f":"IF(E1077=\"\",\"\",IF(COUNTIF(E:E,E1077)>1,IF(COUNTIF(E$6:E1077,E1077)=1,\"\",\"YES\"),\"\"))","v":""},"",""]
[null,null,null,null,null,null,{"$f":"IF(E1078=\"\",\"\",IF(COUNTIF(E:E,E1078)>1,IF(COUNTIF(E$6:E1078,E1078)=1,\"\",\"YES\"),\"\"))","v":""},"",""]
[null,null,null,null,null,null,{"$f":"IF(E1079=\"\",\"\",IF(COUNTIF(E:E,E1079)>1,IF(COUNTIF(E$6:E1079,E1079)=1,\"\",\"YES\"),\"\"))","v":""},"",""]
[null,null,null,null,null,null,{"$f":"IF(E1080=\"\",\"\",IF(COUNTIF(E:E,E1080)>1,IF(COUNTIF(E$6:E1080,E1080)=1,\"\",\"YES\"),\"\"))","v":""},"",""]
[null,null,null,null,null,null,{"$f":"IF(E1081=\"\",\"\",IF(COUNTIF(E:E,E1081)>1,IF(COUNTIF(E$6:E1081,E1081)=1,\"\",\"YES\"),\"\"))","v":""},"",""]
[null,null,null,null,null,null,{"$f":"IF(E1082=\"\",\"\",IF(COUNTIF(E:E,E1082)>1,IF(COUNTIF(E$6:E1082,E1082)=1,\"\",\"YES\"),\"\"))","v":""},"",""]
[null,null,null,null,null,null,{"$f":"IF(E1083=\"\",\"\",IF(COUNTIF(E:E,E1083)>1,IF(COUNTIF(E$6:E1083,E1083)=1,\"\",\"YES\"),\"\"))","v":""},"",""]
[null,null,null,null,null,null,{"$f":"IF(E1084=\"\",\"\",IF(COUNTIF(E:E,E1084)>1,IF(COUNTIF(E$6:E1084,E1084)=1,\"\",\"YES\"),\"\"))","v":""},"",""]
[null,null,null,null,null,null,{"$f":"IF(E1085=\"\",\"\",IF(COUNTIF(E:E,E1085)>1,IF(COUNTIF(E$6:E1085,E1085)=1,\"\",\"YES\"),\"\"))","v":""},"",{"$f":"IF(B1085=\"\",\"\",IF(OR(G1085=\"YES\",H1085=\"EXPIRING\"),\"YES\",\"NO\"))","v":""}]
[null,null,null,null,null,null,{"$f":"IF(E1086=\"\",\"\",IF(COUNTIF(E:E,E1086)>1,IF(COUNTIF(E$6:E1086,E1086)=1,\"\",\"YES\"),\"\"))","v":""},"",""]
[null,null,null,null,null,null,{"$f":"IF(E1087=\"\",\"\",IF(COUNTIF(E:E,E1087)>1,IF(COUNTIF(E$6:E1087,E1087)=1,\"\",\"YES\"),\"\"))","v":""},"",""]
[null,null,null,null,null,null,{"$f":"IF(E1088=\"\",\"\",IF(COUNTIF(E:E,E1088)>1,IF(COUNTIF(E$6:E1088,E1088)=1,\"\",\"YES\"),\"\"))","v":""},"",""]
[null,null,null,null,null,null,{"$f":"IF(E1089=\"\",\"\",IF(COUNTIF(E:E,E1089)>1,IF(COUNTIF(E$6:E1089,E1089)=1,\"\",\"YES\"),\"\"))","v":""},"",""]
[null,null,null,null,null,null,{"$f":"IF(E1090=\"\",\"\",IF(COUNTIF(E:E,E1090)>1,IF(COUNTIF(E$6:E1090,E1090)=1,\"\",\"YES\"),\"\"))","v":""},"",""]
[null,null,null,null,null,null,{"$f":"IF(E1091=\"\",\"\",IF(COUNTIF(E:E,E1091)>1,IF(COUNTIF(E$6:E1091,E1091)=1,\"\",\"YES\"),\"\"))","v":""},"",""]
[null,null,null,null,null,null,{"$f":"IF(E1092=\"\",\"\",IF(COUNTIF(E:E,E1092)>1,IF(COUNTIF(E$6:E1092,E1092)=1,\"\",\"YES\"),\"\"))","v":""},"",""]
[null,null,null,null,null,null,{"$f":"IF(E1093=\"\",\"\",IF(COUNTIF(E:E,E1093)>1,IF(COUNTIF(E$6:E1093,E1093)=1,\"\",\"YES\"),\"\"))","v":""},"",""]
[null,null,null,null,null,null,{"$f":"IF(E1094=\"\",\"\",IF(COUNTIF(E:E,E1094)>1,IF(COUNTIF(E$6:E1094,E1094)=1,\"\",\"YES\"),\"\"))","v":""},"",""]
[null,null,null,null,null,null,{"$f":"IF(E1095=\"\",\"\",IF(COUNTIF(E:E,E1095)>1,IF(COUNTIF(E$6:E1095,E1095)=1,\"\",\"YES\"),\"\"))","v":""},"",""]
[null,null,null,null,null,null,{"$f":"IF(E1096=\"\",\"\",IF(COUNTIF(E:E,E1096)>1,IF(COUNTIF(E$6:E1096,E1096)=1,\"\",\"YES\"),\"\"))","v":""},"",""]
[null,null,null,null,null,null,{"$f":"IF(E1097=\"\",\"\",IF(COUNTIF(E:E,E1097)>1,IF(COUNTIF(E$6:E1097,E1097)=1,\"\",\"YES\"),\"\"))","v":""},"",""]
[null,null,null,null,null,null,{"$f":"IF(E1098=\"\",\"\",IF(COUNTIF(E:E,E1098)>1,IF(COUNTIF(E$6:E1098,E1098)=1,\"\",\"YES\"),\"\"))","v":""},"",""]
[null,null,null,null,null,null,{"$f":"IF(E1099=\"\",\"\",IF(COUNTIF(E:E,E1099)>1,IF(COUNTIF(E$6:E1099,E1099)=1,\"\",\"YES\"),\"\"))","v":""},"",""]
[null,null,null,null,null,null,{"$f":"IF(E1100=\"\",\"\",IF(COUNTIF(E:E,E1100)>1,IF(COUNTIF(E$6:E1100,E1100)=1,\"\",\"YES\"),\"\"))","v":""},"",""]
[null,null,null,null,null,null,{"$f":"IF(E1101=\"\",\"\",IF(COUNTIF(E:E,E1101)>1,IF(COUNTIF(E$6:E1101,E1101)=1,\"\",\"YES\"),\"\"))","v":""},"",""]
[null,null,null,null,null,null,{"$f":"IF(E1102=\"\",\"\",IF(COUNTIF(E:E,E1102)>1,IF(COUNTIF(E$6:E1102,E1102)=1,\"\",\"YES\"),\"\"))","v":""},"",""]
[null,null,null,null,null,null,{"$f":"IF(E1103=\"\",\"\",IF(COUNTIF(E:E,E1103)>1,IF(COUNTIF(E$6:E1103,E1103)=1,\"\",\"YES\"),\"\"))","v":""},"",""]
[null,null,null,null,null,null,{"$f":"IF(E1104=\"\",\"\",IF(COUNTIF(E:E,E1104)>1,IF(COUNTIF(E$6:E1104,E1104)=1,\"\",\"YES\"),\"\"))","v":""},"",""]
[null,null,null,null,null,null,{"$f":"IF(E1105=\"\",\"\",IF(COUNTIF(E:E,E1105)>1,IF(COUNTIF(E$6:E1105,E1105)=1,\"\",\"YES\"),\"\"))","v":""},"",""]
[null,null,null,null,null,null,{"$f":"IF(E1106=\"\",\"\",IF(COUNTIF(E:E,E1106)>1,IF(COUNTIF(E$6:E1106,E1106)=1,\"\",\"YES\"),\"\"))","v":""},"",""]
[null,null,null,null,null,null,{"$f":"IF(E1107=\"\",\"\",IF(COUNTIF(E:E,E1107)>1,IF(COUNTIF(E$6:E1107,E1107)=1,\"\",\"YES\"),\"\"))","v":""},"",""]
[null,null,null,null,null,null,{"$f":"IF(E1108=\"\",\"\",IF(COUNTIF(E:E,E1108)>1,IF(COUNTIF(E$6:E1108,E1108)=1,\"\",\"YES\"),\"\"))","v":""},"",""]
[null,null,null,null,null,null,{"$f":"IF(E1109=\"\",\"\",IF(COUNTIF(E:E,E1109)>1,IF(COUNTIF(E$6:E1109,E1109)=1,\"\",\"YES\"),\"\"))","v":""},"",""]
[null,null,null,null,null,null,{"$f":"IF(E1110=\"\",\"\",IF(COUNTIF(E:E,E1110)>1,IF(COUNTIF(E$6:E1110,E1110)=1,\"\",\"YES\"),\"\"))","v":""},"",""]
[null,null,null,null,null,null,{"$f":"IF(E1111=\"\",\"\",IF(COUNTIF(E:E,E1111)>1,IF(COUNTIF(E$6:E1111,E1111)=1,\"\",\"YES\"),\"\"))","v":""},"",""]
[null,null,null,null,null,null,{"$f":"IF(E1112=\"\",\"\",IF(COUNTIF(E:E,E1112)>1,IF(COUNTIF(E$6:E1112,E1112)=1,\"\",\"YES\"),\"\"))","v":""},"",""]
[null,null,null,null,null,null,{"$f":"IF(E1113=\"\",\"\",IF(COUNTIF(E:E,E1113)>1,IF(COUNTIF(E$6:E1113,E1113)=1,\"\",\"YES\"),\"\"))","v":""},"",""]
[null,null,null,null,null,null,{"$f":"IF(E1114=\"\",\"\",IF(COUNTIF(E:E,E1114)>1,IF(COUNTIF(E$6:E1114,E1114)=1,\"\",\"YES\"),\"\"))","v":""},"",""]
[null,null,null,null,null,null,{"$f":"IF(E1115=\"\",\"\",IF(COUNTIF(E:E,E1115)>1,IF(COUNTIF(E$6:E1115,E1115)=1,\"\",\"YES\"),\"\"))","v":""},"",""]
[null,null,null,null,null,null,{"$f":"IF(E1116=\"\",\"\",IF(COUNTIF(E:E,E1116)>1,IF(COUNTIF(E$6:E1116,E1116)=1,\"\",\"YES\"),\"\"))","v":""},"",""]
[null,null,null,null,null,null,{"$f":"IF(E1117=\"\",\"\",IF(COUNTIF(E:E,E1117)>1,IF(COUNTIF(E$6:E1117,E1117)=1,\"\",\"YES\"),\"\"))","v":""},{"$f":"IF(B1117=\"\",\"\", IF(VALUE(LEFT(B1117,1))=A$1,\"\",IF(AND(A$2=\"Yes\",VALUE(LEFT(B1117))<A$1),\"Expiring\",\"\")))","v":""},""]
[null,null,null,null,null,null,{"$f":"IF(E1118=\"\",\"\",IF(COUNTIF(E:E,E1118)>1,IF(COUNTIF(E$6:E1118,E1118)=1,\"\",\"YES\"),\"\"))","v":""},"",""]
[null,null,null,null,null,null,{"$f":"IF(E1119=\"\",\"\",IF(COUNTIF(E:E,E1119)>1,IF(COUNTIF(E$6:E1119,E1119)=1,\"\",\"YES\"),\"\"))","v":""},"",""]
[null,null,null,null,null,null,{"$f":"IF(E1120=\"\",\"\",IF(COUNTIF(E:E,E1120)>1,IF(COUNTIF(E$6:E1120,E1120)=1,\"\",\"YES\"),\"\"))","v":""},"",""]
[null,null,null,null,null,null,{"$f":"IF(E1121=\"\",\"\",IF(COUNTIF(E:E,E1121)>1,IF(COUNTIF(E$6:E1121,E1121)=1,\"\",\"YES\"),\"\"))","v":""},"",""]
[null,null,null,null,null,null,{"$f":"IF(E1122=\"\",\"\",IF(COUNTIF(E:E,E1122)>1,IF(COUNTIF(E$6:E1122,E1122)=1,\"\",\"YES\"),\"\"))","v":""},"",""]
[null,null,null,null,null,null,{"$f":"IF(E1123=\"\",\"\",IF(COUNTIF(E:E,E1123)>1,IF(COUNTIF(E$6:E1123,E1123)=1,\"\",\"YES\"),\"\"))","v":""},"",""]
[null,null,null,null,null,null,{"$f":"IF(E1124=\"\",\"\",IF(COUNTIF(E:E,E1124)>1,IF(COUNTIF(E$6:E1124,E1124)=1,\"\",\"YES\"),\"\"))","v":""},"",""]
[null,null,null,null,null,null,{"$f":"IF(E1125=\"\",\"\",IF(COUNTIF(E:E,E1125)>1,IF(COUNTIF(E$6:E1125,E1125)=1,\"\",\"YES\"),\"\"))","v":""},"",""]
[null,null,null,null,null,null,{"$f":"IF(E1126=\"\",\"\",IF(COUNTIF(E:E,E1126)>1,IF(COUNTIF(E$6:E1126,E1126)=1,\"\",\"YES\"),\"\"))","v":""},"",""]
[null,null,null,null,null,null,{"$f":"IF(E1127=\"\",\"\",IF(COUNTIF(E:E,E1127)>1,IF(COUNTIF(E$6:E1127,E1127)=1,\"\",\"YES\"),\"\"))","v":""},"",""]
[null,null,null,null,null,null,{"$f":"IF(E1128=\"\",\"\",IF(COUNTIF(E:E,E1128)>1,IF(COUNTIF(E$6:E1128,E1128)=1,\"\",\"YES\"),\"\"))","v":""},"",""]
[null,null,null,null,null,null,{"$f":"IF(E1129=\"\",\"\",IF(COUNTIF(E:E,E1129)>1,IF(COUNTIF(E$6:E1129,E1129)=1,\"\",\"YES\"),\"\"))","v":""},"",""]
[null,null,null,null,null,null,{"$f":"IF(E1130=\"\",\"\",IF(COUNTIF(E:E,E1130)>1,IF(COUNTIF(E$6:E1130,E1130)=1,\"\",\"YES\"),\"\"))","v":""},"",""]
[null,null,null,null,null,null,{"$f":"IF(E1131=\"\",\"\",IF(COUNTIF(E:E,E1131)>1,IF(COUNTIF(E$6:E1131,E1131)=1,\"\",\"YES\"),\"\"))","v":""},"",""]
[null,null,null,null,null,null,{"$f":"IF(E1132=\"\",\"\",IF(COUNTIF(E:E,E1132)>1,IF(COUNTIF(E$6:E1132,E1132)=1,\"\",\"YES\"),\"\"))","v":""},"",""]
[null,null,null,null,null,null,{"$f":"IF(E1133=\"\",\"\",IF(COUNTIF(E:E,E1133)>1,IF(COUNTIF(E$6:E1133,E1133)=1,\"\",\"YES\"),\"\"))","v":""},"",""]
[null,null,null,null,null,null,{"$f":"IF(E1134=\"\",\"\",IF(COUNTIF(E:E,E1134)>1,IF(COUNTIF(E$6:E1134,E1134)=1,\"\",\"YES\"),\"\"))","v":""},"",""]
[null,null,null,null,null,null,{"$f":"IF(E1135=\"\",\"\",IF(COUNTIF(E:E,E1135)>1,IF(COUNTIF(E$6:E1135,E1135)=1,\"\",\"YES\"),\"\"))","v":""},"",""]
[null,null,null,null,null,null,{"$f":"IF(E1136=\"\",\"\",IF(COUNTIF(E:E,E1136)>1,IF(COUNTIF(E$6:E1136,E1136)=1,\"\",\"YES\"),\"\"))","v":""},"",""]
[null,null,null,null,null,null,{"$f":"IF(E1137=\"\",\"\",IF(COUNTIF(E:E,E1137)>1,IF(COUNTIF(E$6:E1137,E1137)=1,\"\",\"YES\"),\"\"))","v":""},"",""]
[null,null,null,null,null,null,{"$f":"IF(E1138=\"\",\"\",IF(COUNTIF(E:E,E1138)>1,IF(COUNTIF(E$6:E1138,E1138)=1,\"\",\"YES\"),\"\"))","v":""},"",""]
[null,null,null,null,null,null,{"$f":"IF(E1139=\"\",\"\",IF(COUNTIF(E:E,E1139)>1,IF(COUNTIF(E$6:E1139,E1139)=1,\"\",\"YES\"),\"\"))","v":""},"",""]
[null,null,null,null,null,null,{"$f":"IF(E1140=\"\",\"\",IF(COUNTIF(E:E,E1140)>1,IF(COUNTIF(E$6:E1140,E1140)=1,\"\",\"YES\"),\"\"))","v":""},"",""]
[null,null,null,null,null,null,{"$f":"IF(E1141=\"\",\"\",IF(COUNTIF(E:E,E1141)>1,IF(COUNTIF(E$6:E1141,E1141)=1,\"\",\"YES\"),\"\"))","v":""},"",""]
[null,null,null,null,null,null,{"$f":"IF(E1142=\"\",\"\",IF(COUNTIF(E:E,E1142)>1,IF(COUNTIF(E$6:E1142,E1142)=1,\"\",\"YES\"),\"\"))","v":""},"",""]
[null,null,null,null,null,null,{"$f":"IF(E1143=\"\",\"\",IF(COUNTIF(E:E,E1143)>1,IF(COUNTIF(E$6:E1143,E1143)=1,\"\",\"YES\"),\"\"))","v":""},"",""]
[null,null,null,null,null,null,{"$f":"IF(E1144=\"\",\"\",IF(COUNTIF(E:E,E1144)>1,IF(COUNTIF(E$6:E1144,E1144)=1,\"\",\"YES\"),\"\"))","v":""},"",""]
[null,null,null,null,null,null,{"$f":"IF(E1145=\"\",\"\",IF(COUNTIF(E:E,E1145)>1,IF(COUNTIF(E$6:E1145,E1145)=1,\"\",\"YES\"),\"\"))","v":""},"",""]
[null,null,null,null,null,null,{"$f":"IF(E1146=\"\",\"\",IF(COUNTIF(E:E,E1146)>1,IF(COUNTIF(E$6:E1146,E1146)=1,\"\",\"YES\"),\"\"))","v":""},"",""]
[null,null,null,null,null,null,{"$f":"IF(E1147=\"\",\"\",IF(COUNTIF(E:E,E1147)>1,IF(COUNTIF(E$6:E1147,E1147)=1,\"\",\"YES\"),\"\"))","v":""},"",""]
[null,null,null,null,null,null,{"$f":"IF(E1148=\"\",\"\",IF(COUNTIF(E:E,E1148)>1,IF(COUNTIF(E$6:E1148,E1148)=1,\"\",\"YES\"),\"\"))","v":""},"",""]
[null,null,null,null,null,null,{"$f":"IF(E1149=\"\",\"\",IF(COUNTIF(E:E,E1149)>1,IF(COUNTIF(E$6:E1149,E1149)=1,\"\",\"YES\"),\"\"))","v":""},"",{"$f":"IF(B1149=\"\",\"\",IF(OR(G1149=\"YES\",H1149=\"EXPIRING\"),\"YES\",\"NO\"))","v":""}]
[null,null,null,null,null,null,{"$f":"IF(E1150=\"\",\"\",IF(COUNTIF(E:E,E1150)>1,IF(COUNTIF(E$6:E1150,E1150)=1,\"\",\"YES\"),\"\"))","v":""},"",""]
[null,null,null,null,null,null,{"$f":"IF(E1151=\"\",\"\",IF(COUNTIF(E:E,E1151)>1,IF(COUNTIF(E$6:E1151,E1151)=1,\"\",\"YES\"),\"\"))","v":""},"",""]
[null,null,null,null,null,null,{"$f":"IF(E1152=\"\",\"\",IF(COUNTIF(E:E,E1152)>1,IF(COUNTIF(E$6:E1152,E1152)=1,\"\",\"YES\"),\"\"))","v":""},"",""]
[null,null,null,null,null,null,{"$f":"IF(E1153=\"\",\"\",IF(COUNTIF(E:E,E1153)>1,IF(COUNTIF(E$6:E1153,E1153)=1,\"\",\"YES\"),\"\"))","v":""},"",""]
[null,null,null,null,null,null,{"$f":"IF(E1154=\"\",\"\",IF(COUNTIF(E:E,E1154)>1,IF(COUNTIF(E$6:E1154,E1154)=1,\"\",\"YES\"),\"\"))","v":""},"",""]
[null,null,null,null,null,null,{"$f":"IF(E1155=\"\",\"\",IF(COUNTIF(E:E,E1155)>1,IF(COUNTIF(E$6:E1155,E1155)=1,\"\",\"YES\"),\"\"))","v":""},"",""]
[null,null,null,null,null,null,{"$f":"IF(E1156=\"\",\"\",IF(COUNTIF(E:E,E1156)>1,IF(COUNTIF(E$6:E1156,E1156)=1,\"\",\"YES\"),\"\"))","v":""},"",""]
[null,null,null,null,null,null,{"$f":"IF(E1157=\"\",\"\",IF(COUNTIF(E:E,E1157)>1,IF(COUNTIF(E$6:E1157,E1157)=1,\"\",\"YES\"),\"\"))","v":""},"",""]
[null,null,null,null,null,null,{"$f":"IF(E1158=\"\",\"\",IF(COUNTIF(E:E,E1158)>1,IF(COUNTIF(E$6:E1158,E1158)=1,\"\",\"YES\"),\"\"))","v":""},"",""]
[null,null,null,null,null,null,{"$f":"IF(E1159=\"\",\"\",IF(COUNTIF(E:E,E1159)>1,IF(COUNTIF(E$6:E1159,E1159)=1,\"\",\"YES\"),\"\"))","v":""},"",""]
[null,null,null,null,null,null,{"$f":"IF(E1160=\"\",\"\",IF(COUNTIF(E:E,E1160)>1,IF(COUNTIF(E$6:E1160,E1160)=1,\"\",\"YES\"),\"\"))","v":""},"",""]
[null,null,null,null,null,null,{"$f":"IF(E1161=\"\",\"\",IF(COUNTIF(E:E,E1161)>1,IF(COUNTIF(E$6:E1161,E1161)=1,\"\",\"YES\"),\"\"))","v":""},"",""]
[null,null,null,null,null,null,{"$f":"IF(E1162=\"\",\"\",IF(COUNTIF(E:E,E1162)>1,IF(COUNTIF(E$6:E1162,E1162)=1,\"\",\"YES\"),\"\"))","v":""},"",""]
[null,null,null,null,null,null,{"$f":"IF(E1163=\"\",\"\",IF(COUNTIF(E:E,E1163)>1,IF(COUNTIF(E$6:E1163,E1163)=1,\"\",\"YES\"),\"\"))","v":""},"",""]
[null,null,null,null,null,null,{"$f":"IF(E1164=\"\",\"\",IF(COUNTIF(E:E,E1164)>1,IF(COUNTIF(E$6:E1164,E1164)=1,\"\",\"YES\"),\"\"))","v":""},"",""]
[null,null,null,null,null,null,{"$f":"IF(E1165=\"\",\"\",IF(COUNTIF(E:E,E1165)>1,IF(COUNTIF(E$6:E1165,E1165)=1,\"\",\"YES\"),\"\"))","v":""},"",""]
[null,null,null,null,null,null,{"$f":"IF(E1166=\"\",\"\",IF(COUNTIF(E:E,E1166)>1,IF(COUNTIF(E$6:E1166,E1166)=1,\"\",\"YES\"),\"\"))","v":""},"",""]
[null,null,null,null,null,null,{"$f":"IF(E1167=\"\",\"\",IF(COUNTIF(E:E,E1167)>1,IF(COUNTIF(E$6:E1167,E1167)=1,\"\",\"YES\"),\"\"))","v":""},"",""]
[null,null,null,null,null,null,{"$f":"IF(E1168=\"\",\"\",IF(COUNTIF(E:E,E1168)>1,IF(COUNTIF(E$6:E1168,E1168)=1,\"\",\"YES\"),\"\"))","v":""},"",""]
[null,null,null,null,null,null,{"$f":"IF(E1169=\"\",\"\",IF(COUNTIF(E:E,E1169)>1,IF(COUNTIF(E$6:E1169,E1169)=1,\"\",\"YES\"),\"\"))","v":""},"",""]
[null,null,null,null,null,null,{"$f":"IF(E1170=\"\",\"\",IF(COUNTIF(E:E,E1170)>1,IF(COUNTIF(E$6:E1170,E1170)=1,\"\",\"YES\"),\"\"))","v":""},"",""]
[null,null,null,null,null,null,{"$f":"IF(E1171=\"\",\"\",IF(COUNTIF(E:E,E1171)>1,IF(COUNTIF(E$6:E1171,E1171)=1,\"\",\"YES\"),\"\"))","v":""},"",""]
[null,null,null,null,null,null,{"$f":"IF(E1172=\"\",\"\",IF(COUNTIF(E:E,E1172)>1,IF(COUNTIF(E$6:E1172,E1172)=1,\"\",\"YES\"),\"\"))","v":""},"",""]
[null,null,null,null,null,null,{"$f":"IF(E1173=\"\",\"\",IF(COUNTIF(E:E,E1173)>1,IF(COUNTIF(E$6:E1173,E1173)=1,\"\",\"YES\"),\"\"))","v":""},"",""]
[null,null,null,null,null,null,{"$f":"IF(E1174=\"\",\"\",IF(COUNTIF(E:E,E1174)>1,IF(COUNTIF(E$6:E1174,E1174)=1,\"\",\"YES\"),\"\"))","v":""},"",""]
[null,null,null,null,null,null,{"$f":"IF(E1175=\"\",\"\",IF(COUNTIF(E:E,E1175)>1,IF(COUNTIF(E$6:E1175,E1175)=1,\"\",\"YES\"),\"\"))","v":""},"",""]
[null,null,null,null,null,null,{"$f":"IF(E1176=\"\",\"\",IF(COUNTIF(E:E,E1176)>1,IF(COUNTIF(E$6:E1176,E1176)=1,\"\",\"YES\"),\"\"))","v":""},"",""]
[null,null,null,null,null,null,{"$f":"IF(E1177=\"\",\"\",IF(COUNTIF(E:E,E1177)>1,IF(COUNTIF(E$6:E1177,E1177)=1,\"\",\"YES\"),\"\"))","v":""},"",""]
[null,null,null,null,null,null,{"$f":"IF(E1178=\"\",\"\",IF(COUNTIF(E:E,E1178)>1,IF(COUNTIF(E$6:E1178,E1178)=1,\"\",\"YES\"),\"\"))","v":""},"",""]
[null,null,null,null,null,null,{"$f":"IF(E1179=\"\",\"\",IF(COUNTIF(E:E,E1179)>1,IF(COUNTIF(E$6:E1179,E1179)=1,\"\",\"YES\"),\"\"))","v":""},"",""]
[null,null,null,null,null,null,{"$f":"IF(E1180=\"\",\"\",IF(COUNTIF(E:E,E1180)>1,IF(COUNTIF(E$6:E1180,E1180)=1,\"\",\"YES\"),\"\"))","v":""},"",""]
[null,null,null,null,null,null,{"$f":"IF(E1181=\"\",\"\",IF(COUNTIF(E:E,E1181)>1,IF(COUNTIF(E$6:E1181,E1181)=1,\"\",\"YES\"),\"\"))","v":""},{"$f":"IF(B1181=\"\",\"\", IF(VALUE(LEFT(B1181,1))=A$1,\"\",IF(AND(A$2=\"Yes\",VALUE(LEFT(B1181))<A$1),\"Expiring\",\"\")))","v":""},""]
[null,null,null,null,null,null,{"$f":"IF(E1182=\"\",\"\",IF(COUNTIF(E:E,E1182)>1,IF(COUNTIF(E$6:E1182,E1182)=1,\"\",\"YES\"),\"\"))","v":""},"",""]
[null,null,null,null,null,null,{"$f":"IF(E1183=\"\",\"\",IF(COUNTIF(E:E,E1183)>1,IF(COUNTIF(E$6:E1183,E1183)=1,\"\",\"YES\"),\"\"))","v":""},"",""]
[null,null,null,null,null,null,{"$f":"IF(E1184=\"\",\"\",IF(COUNTIF(E:E,E1184)>1,IF(COUNTIF(E$6:E1184,E1184)=1,\"\",\"YES\"),\"\"))","v":""},"",""]
[null,null,null,null,null,null,{"$f":"IF(E1185=\"\",\"\",IF(COUNTIF(E:E,E1185)>1,IF(COUNTIF(E$6:E1185,E1185)=1,\"\",\"YES\"),\"\"))","v":""},"",""]
[null,null,null,null,null,null,{"$f":"IF(E1186=\"\",\"\",IF(COUNTIF(E:E,E1186)>1,IF(COUNTIF(E$6:E1186,E1186)=1,\"\",\"YES\"),\"\"))","v":""},"",""]
[null,null,null,null,null,null,{"$f":"IF(E1187=\"\",\"\",IF(COUNTIF(E:E,E1187)>1,IF(COUNTIF(E$6:E1187,E1187)=1,\"\",\"YES\"),\"\"))","v":""},"",""]
[null,null,null,null,null,null,{"$f":"IF(E1188=\"\",\"\",IF(COUNTIF(E:E,E1188)>1,IF(COUNTIF(E$6:E1188,E1188)=1,\"\",\"YES\"),\"\"))","v":""},"",""]
[null,null,null,null,null,null,{"$f":"IF(E1189=\"\",\"\",IF(COUNTIF(E:E,E1189)>1,IF(COUNTIF(E$6:E1189,E1189)=1,\"\",\"YES\"),\"\"))","v":""},"",""]
[null,null,null,null,null,null,{"$f":"IF(E1190=\"\",\"\",IF(COUNTIF(E:E,E1190)>1,IF(COUNTIF(E$6:E1190,E1190)=1,\"\",\"YES\"),\"\"))","v":""},"",""]
[null,null,null,null,null,null,{"$f":"IF(E1191=\"\",\"\",IF(COUNTIF(E:E,E1191)>1,IF(COUNTIF(E$6:E1191,E1191)=1,\"\",\"YES\"),\"\"))","v":""},"",""]
[null,null,null,null,null,null,{"$f":"IF(E1192=\"\",\"\",IF(COUNTIF(E:E,E1192)>1,IF(COUNTIF(E$6:E1192,E1192)=1,\"\",\"YES\"),\"\"))","v":""},"",""]
[null,null,null,null,null,null,{"$f":"IF(E1193=\"\",\"\",IF(COUNTIF(E:E,E1193)>1,IF(COUNTIF(E$6:E1193,E1193)=1,\"\",\"YES\"),\"\"))","v":""},"",""]
[null,null,null,null,null,null,{"$f":"IF(E1194=\"\",\"\",IF(COUNTIF(E:E,E1194)>1,IF(COUNTIF(E$6:E1194,E1194)=1,\"\",\"YES\"),\"\"))","v":""},"",""]
[null,null,null,null,null,null,{"$f":"IF(E1195=\"\",\"\",IF(COUNTIF(E:E,E1195)>1,IF(COUNTIF(E$6:E1195,E1195)=1,\"\",\"YES\"),\"\"))","v":""},"",""]
[null,null,null,null,null,null,{"$f":"IF(E1196=\"\",\"\",IF(COUNTIF(E:E,E1196)>1,IF(COUNTIF(E$6:E1196,E1196)=1,\"\",\"YES\"),\"\"))","v":""},"",""]
[null,null,null,null,null,null,{"$f":"IF(E1197=\"\",\"\",IF(COUNTIF(E:E,E1197)>1,IF(COUNTIF(E$6:E1197,E1197)=1,\"\",\"YES\"),\"\"))","v":""},"",""]
[null,null,null,null,null,null,{"$f":"IF(E1198=\"\",\"\",IF(COUNTIF(E:E,E1198)>1,IF(COUNTIF(E$6:E1198,E1198)=1,\"\",\"YES\"),\"\"))","v":""},"",""]
[null,null,null,null,null,null,{"$f":"IF(E1199=\"\",\"\",IF(COUNTIF(E:E,E1199)>1,IF(COUNTIF(E$6:E1199,E1199)=1,\"\",\"YES\"),\"\"))","v":""},"",""]
[null,null,null,null,null,null,{"$f":"IF(E1200=\"\",\"\",IF(COUNTIF(E:E,E1200)>1,IF(COUNTIF(E$6:E1200,E1200)=1,\"\",\"YES\"),\"\"))","v":""},"",""]
[null,null,null,null,null,null,{"$f":"IF(E1201=\"\",\"\",IF(COUNTIF(E:E,E1201)>1,IF(COUNTIF(E$6:E1201,E1201)=1,\"\",\"YES\"),\"\"))","v":""},"",""]
[null,null,null,null,null,null,{"$f":"IF(E1202=\"\",\"\",IF(COUNTIF(E:E,E1202)>1,IF(COUNTIF(E$6:E1202,E1202)=1,\"\",\"YES\"),\"\"))","v":""},"",""]
[null,null,null,null,null,null,{"$f":"IF(E1203=\"\",\"\",IF(COUNTIF(E:E,E1203)>1,IF(COUNTIF(E$6:E1203,E1203)=1,\"\",\"YES\"),\"\"))","v":""},"",""]
[null,null,null,null,null,null,{"$f":"IF(E1204=\"\",\"\",IF(COUNTIF(E:E,E1204)>1,IF(COUNTIF(E$6:E1204,E1204)=1,\"\",\"YES\"),\"\"))","v":""},"",""]
[null,null,null,null,null,null,{"$f":"IF(E1205=\"\",\"\",IF(COUNTIF(E:E,E1205)>1,IF(COUNTIF(E$6:E1205,E1205)=1,\"\",\"YES\"),\"\"))","v":""},"",""]
[null,null,null,null,null,null,{"$f":"IF(E1206=\"\",\"\",IF(COUNTIF(E:E,E1206)>1,IF(COUNTIF(E$6:E1206,E1206)=1,\"\",\"YES\"),\"\"))","v":""},"",""]
[null,null,null,null,null,null,{"$f":"IF(E1207=\"\",\"\",IF(COUNTIF(E:E,E1207)>1,IF(COUNTIF(E$6:E1207,E1207)=1,\"\",\"YES\"),\"\"))","v":""},"",""]
[null,null,null,null,null,null,{"$f":"IF(E1208=\"\",\"\",IF(COUNTIF(E:E,E1208)>1,IF(COUNTIF(E$6:E1208,E1208)=1,\"\",\"YES\"),\"\"))","v":""},"",""]
[null,null,null,null,null,null,{"$f":"IF(E1209=\"\",\"\",IF(COUNTIF(E:E,E1209)>1,IF(COUNTIF(E$6:E1209,E1209)=1,\"\",\"YES\"),\"\"))","v":""},"",""]
[null,null,null,null,null,null,{"$f":"IF(E1210=\"\",\"\",IF(COUNTIF(E:E,E1210)>1,IF(COUNTIF(E$6:E1210,E1210)=1,\"\",\"YES\"),\"\"))","v":""},"",""]
[null,null,null,null,null,null,{"$f":"IF(E1211=\"\",\"\",IF(COUNTIF(E:E,E1211)>1,IF(COUNTIF(E$6:E1211,E1211)=1,\"\",\"YES\"),\"\"))","v":""},"",""]
[null,null,null,null,null,null,{"$f":"IF(E1212=\"\",\"\",IF(COUNTIF(E:E,E1212)>1,IF(COUNTIF(E$6:E1212,E1212)=1,\"\",\"YES\"),\"\"))","v":""},"",""]
[null,null,null,null,null,null,{"$f":"IF(E1213=\"\",\"\",IF(COUNTIF(E:E,E1213)>1,IF(COUNTIF(E$6:E1213,E1213)=1,\"\",\"YES\"),\"\"))","v":""},"",{"$f":"IF(B1213=\"\",\"\",IF(OR(G1213=\"YES\",H1213=\"EXPIRING\"),\"YES\",\"NO\"))","v":""}]
[null,null,null,null,null,null,{"$f":"IF(E1214=\"\",\"\",IF(COUNTIF(E:E,E1214)>1,IF(COUNTIF(E$6:E1214,E1214)=1,\"\",\"YES\"),\"\"))","v":""},"",""]
[null,null,null,null,null,null,{"$f":"IF(E1215=\"\",\"\",IF(COUNTIF(E:E,E1215)>1,IF(COUNTIF(E$6:E1215,E1215)=1,\"\",\"YES\"),\"\"))","v":""},"",""]
[null,null,null,null,null,null,{"$f":"IF(E1216=\"\",\"\",IF(COUNTIF(E:E,E1216)>1,IF(COUNTIF(E$6:E1216,E1216)=1,\"\",\"YES\"),\"\"))","v":""},"",""]
[null,null,null,null,null,null,{"$f":"IF(E1217=\"\",\"\",IF(COUNTIF(E:E,E1217)>1,IF(COUNTIF(E$6:E1217,E1217)=1,\"\",\"YES\"),\"\"))","v":""},"",""]
[null,null,null,null,null,null,{"$f":"IF(E1218=\"\",\"\",IF(COUNTIF(E:E,E1218)>1,IF(COUNTIF(E$6:E1218,E1218)=1,\"\",\"YES\"),\"\"))","v":""},"",""]
[null,null,null,null,null,null,{"$f":"IF(E1219=\"\",\"\",IF(COUNTIF(E:E,E1219)>1,IF(COUNTIF(E$6:E1219,E1219)=1,\"\",\"YES\"),\"\"))","v":""},"",""]
[null,null,null,null,null,null,{"$f":"IF(E1220=\"\",\"\",IF(COUNTIF(E:E,E1220)>1,IF(COUNTIF(E$6:E1220,E1220)=1,\"\",\"YES\"),\"\"))","v":""},"",""]
[null,null,null,null,null,null,{"$f":"IF(E1221=\"\",\"\",IF(COUNTIF(E:E,E1221)>1,IF(COUNTIF(E$6:E1221,E1221)=1,\"\",\"YES\"),\"\"))","v":""},"",""]
[null,null,null,null,null,null,{"$f":"IF(E1222=\"\",\"\",IF(COUNTIF(E:E,E1222)>1,IF(COUNTIF(E$6:E1222,E1222)=1,\"\",\"YES\"),\"\"))","v":""},"",""]
[null,null,null,null,null,null,{"$f":"IF(E1223=\"\",\"\",IF(COUNTIF(E:E,E1223)>1,IF(COUNTIF(E$6:E1223,E1223)=1,\"\",\"YES\"),\"\"))","v":""},"",""]
[null,null,null,null,null,null,{"$f":"IF(E1224=\"\",\"\",IF(COUNTIF(E:E,E1224)>1,IF(COUNTIF(E$6:E1224,E1224)=1,\"\",\"YES\"),\"\"))","v":""},"",""]
[null,null,null,null,null,null,{"$f":"IF(E1225=\"\",\"\",IF(COUNTIF(E:E,E1225)>1,IF(COUNTIF(E$6:E1225,E1225)=1,\"\",\"YES\"),\"\"))","v":""},"",""]
[null,null,null,null,null,null,{"$f":"IF(E1226=\"\",\"\",IF(COUNTIF(E:E,E1226)>1,IF(COUNTIF(E$6:E1226,E1226)=1,\"\",\"YES\"),\"\"))","v":""},"",""]
[null,null,null,null,null,null,{"$f":"IF(E1227=\"\",\"\",IF(COUNTIF(E:E,E1227)>1,IF(COUNTIF(E$6:E1227,E1227)=1,\"\",\"YES\"),\"\"))","v":""},"",""]
[null,null,null,null,null,null,{"$f":"IF(E1228=\"\",\"\",IF(COUNTIF(E:E,E1228)>1,IF(COUNTIF(E$6:E1228,E1228)=1,\"\",\"YES\"),\"\"))","v":""},"",""]
[null,null,null,null,null,null,{"$f":"IF(E1229=\"\",\"\",IF(COUNTIF(E:E,E1229)>1,IF(COUNTIF(E$6:E1229,E1229)=1,\"\",\"YES\"),\"\"))","v":""},"",""]
[null,null,null,null,null,null,{"$f":"IF(E1230=\"\",\"\",IF(COUNTIF(E:E,E1230)>1,IF(COUNTIF(E$6:E1230,E1230)=1,\"\",\"YES\"),\"\"))","v":""},"",""]
[null,null,null,null,null,null,{"$f":"IF(E1231=\"\",\"\",IF(COUNTIF(E:E,E1231)>1,IF(COUNTIF(E$6:E1231,E1231)=1,\"\",\"YES\"),\"\"))","v":""},"",""]
[null,null,null,null,null,null,{"$f":"IF(E1232=\"\",\"\",IF(COUNTIF(E:E,E1232)>1,IF(COUNTIF(E$6:E1232,E1232)=1,\"\",\"YES\"),\"\"))","v":""},"",""]
[null,null,null,null,null,null,{"$f":"IF(E1233=\"\",\"\",IF(COUNTIF(E:E,E1233)>1,IF(COUNTIF(E$6:E1233,E1233)=1,\"\",\"YES\"),\"\"))","v":""},"",""]
[null,null,null,null,null,null,{"$f":"IF(E1234=\"\",\"\",IF(COUNTIF(E:E,E1234)>1,IF(COUNTIF(E$6:E1234,E1234)=1,\"\",\"YES\"),\"\"))","v":""},"",""]
[null,null,null,null,null,null,{"$f":"IF(E1235=\"\",\"\",IF(COUNTIF(E:E,E1235)>1,IF(COUNTIF(E$6:E1235,E1235)=1,\"\",\"YES\"),\"\"))","v":""},"",""]
[null,null,null,null,null,null,{"$f":"IF(E1236=\"\",\"\",IF(COUNTIF(E:E,E1236)>1,IF(COUNTIF(E$6:E1236,E1236)=1,\"\",\"YES\"),\"\"))","v":""},"",""]
[null,null,null,null,null,null,{"$f":"IF(E1237=\"\",\"\",IF(COUNTIF(E:E,E1237)>1,IF(COUNTIF(E$6:E1237,E1237)=1,\"\",\"YES\"),\"\"))","v":""},"",""]
[null,null,null,null,null,null,{"$f":"IF(E1238=\"\",\"\",IF(COUNTIF(E:E,E1238)>1,IF(COUNTIF(E$6:E1238,E1238)=1,\"\",\"YES\"),\"\"))","v":""},"",""]
[null,null,null,null,null,null,{"$f":"IF(E1239=\"\",\"\",IF(COUNTIF(E:E,E1239)>1,IF(COUNTIF(E$6:E1239,E1239)=1,\"\",\"YES\"),\"\"))","v":""},"",""]
[null,null,null,null,null,null,{"$f":"IF(E1240=\"\",\"\",IF(COUNTIF(E:E,E1240)>1,IF(COUNTIF(E$6:E1240,E1240)=1,\"\",\"YES\"),\"\"))","v":""},"",""]
[null,null,null,null,null,null,{"$f":"IF(E1241=\"\",\"\",IF(COUNTIF(E:E,E1241)>1,IF(COUNTIF(E$6:E1241,E1241)=1,\"\",\"YES\"),\"\"))","v":""},"",""]
[null,null,null,null,null,null,{"$f":"IF(E1242=\"\",\"\",IF(COUNTIF(E:E,E1242)>1,IF(COUNTIF(E$6:E1242,E1242)=1,\"\",\"YES\"),\"\"))","v":""},"",""]
[null,null,null,null,null,null,{"$f":"IF(E1243=\"\",\"\",IF(COUNTIF(E:E,E1243)>1,IF(COUNTIF(E$6:E1243,E1243)=1,\"\",\"YES\"),\"\"))","v":""},"",""]
[null,null,null,null,null,null,{"$f":"IF(E1244=\"\",\"\",IF(COUNTIF(E:E,E1244)>1,IF(COUNTIF(E$6:E1244,E1244)=1,\"\",\"YES\"),\"\"))","v":""},"",""]
[null,null,null,null,null,null,{"$f":"IF(E1245=\"\",\"\",IF(COUNTIF(E:E,E1245)>1,IF(COUNTIF(E$6:E1245,E1245)=1,\"\",\"YES\"),\"\"))","v":""},{"$f":"IF(B1245=\"\",\"\", IF(VALUE(LEFT(B1245,1))=A$1,\"\",IF(AND(A$2=\"Yes\",VALUE(LEFT(B1245))<A$1),\"Expiring\",\"\")))","v":""},""]
[null,null,null,null,null,null,{"$f":"IF(E1246=\"\",\"\",IF(COUNTIF(E:E,E1246)>1,IF(COUNTIF(E$6:E1246,E1246)=1,\"\",\"YES\"),\"\"))","v":""},"",""]
[null,null,null,null,null,null,{"$f":"IF(E1247=\"\",\"\",IF(COUNTIF(E:E,E1247)>1,IF(COUNTIF(E$6:E1247,E1247)=1,\"\",\"YES\"),\"\"))","v":""},"",""]
[null,null,null,null,null,null,{"$f":"IF(E1248=\"\",\"\",IF(COUNTIF(E:E,E1248)>1,IF(COUNTIF(E$6:E1248,E1248)=1,\"\",\"YES\"),\"\"))","v":""},"",""]
[null,null,null,null,null,null,{"$f":"IF(E1249=\"\",\"\",IF(COUNTIF(E:E,E1249)>1,IF(COUNTIF(E$6:E1249,E1249)=1,\"\",\"YES\"),\"\"))","v":""},"",""]
[null,null,null,null,null,null,{"$f":"IF(E1250=\"\",\"\",IF(COUNTIF(E:E,E1250)>1,IF(COUNTIF(E$6:E1250,E1250)=1,\"\",\"YES\"),\"\"))","v":""},"",""]
[null,null,null,null,null,null,{"$f":"IF(E1251=\"\",\"\",IF(COUNTIF(E:E,E1251)>1,IF(COUNTIF(E$6:E1251,E1251)=1,\"\",\"YES\"),\"\"))","v":""},"",""]
[null,null,null,null,null,null,{"$f":"IF(E1252=\"\",\"\",IF(COUNTIF(E:E,E1252)>1,IF(COUNTIF(E$6:E1252,E1252)=1,\"\",\"YES\"),\"\"))","v":""},"",""]
[null,null,null,null,null,null,{"$f":"IF(E1253=\"\",\"\",IF(COUNTIF(E:E,E1253)>1,IF(COUNTIF(E$6:E1253,E1253)=1,\"\",\"YES\"),\"\"))","v":""},"",""]
[null,null,null,null,null,null,{"$f":"IF(E1254=\"\",\"\",IF(COUNTIF(E:E,E1254)>1,IF(COUNTIF(E$6:E1254,E1254)=1,\"\",\"YES\"),\"\"))","v":""},"",""]
[null,null,null,null,null,null,{"$f":"IF(E1255=\"\",\"\",IF(COUNTIF(E:E,E1255)>1,IF(COUNTIF(E$6:E1255,E1255)=1,\"\",\"YES\"),\"\"))","v":""},"",""]
[null,null,null,null,null,null,{"$f":"IF(E1256=\"\",\"\",IF(COUNTIF(E:E,E1256)>1,IF(COUNTIF(E$6:E1256,E1256)=1,\"\",\"YES\"),\"\"))","v":""},"",""]
[null,null,null,null,null,null,{"$f":"IF(E1257=\"\",\"\",IF(COUNTIF(E:E,E1257)>1,IF(COUNTIF(E$6:E1257,E1257)=1,\"\",\"YES\"),\"\"))","v":""},"",""]
[null,null,null,null,null,null,{"$f":"IF(E1258=\"\",\"\",IF(COUNTIF(E:E,E1258)>1,IF(COUNTIF(E$6:E1258,E1258)=1,\"\",\"YES\"),\"\"))","v":""},"",""]
[null,null,null,null,null,null,{"$f":"IF(E1259=\"\",\"\",IF(COUNTIF(E:E,E1259)>1,IF(COUNTIF(E$6:E1259,E1259)=1,\"\",\"YES\"),\"\"))","v":""},"",""]
[null,null,null,null,null,null,{"$f":"IF(E1260=\"\",\"\",IF(COUNTIF(E:E,E1260)>1,IF(COUNTIF(E$6:E1260,E1260)=1,\"\",\"YES\"),\"\"))","v":""},"",""]
[null,null,null,null,null,null,{"$f":"IF(E1261=\"\",\"\",IF(COUNTIF(E:E,E1261)>1,IF(COUNTIF(E$6:E1261,E1261)=1,\"\",\"YES\"),\"\"))","v":""},"",""]
[null,null,null,null,null,null,{"$f":"IF(E1262=\"\",\"\",IF(COUNTIF(E:E,E1262)>1,IF(COUNTIF(E$6:E1262,E1262)=1,\"\",\"YES\"),\"\"))","v":""},"",""]
[null,null,null,null,null,null,{"$f":"IF(E1263=\"\",\"\",IF(COUNTIF(E:E,E1263)>1,IF(COUNTIF(E$6:E1263,E1263)=1,\"\",\"YES\"),\"\"))","v":""},"",""]
[null,null,null,null,null,null,{"$f":"IF(E1264=\"\",\"\",IF(COUNTIF(E:E,E1264)>1,IF(COUNTIF(E$6:E1264,E1264)=1,\"\",\"YES\"),\"\"))","v":""},"",""]
[null,null,null,null,null,null,{"$f":"IF(E1265=\"\",\"\",IF(COUNTIF(E:E,E1265)>1,IF(COUNTIF(E$6:E1265,E1265)=1,\"\",\"YES\"),\"\"))","v":""},"",""]
[null,null,null,null,null,null,{"$f":"IF(E1266=\"\",\"\",IF(COUNTIF(E:E,E1266)>1,IF(COUNTIF(E$6:E1266,E1266)=1,\"\",\"YES\"),\"\"))","v":""},"",""]
[null,null,null,null,null,null,{"$f":"IF(E1267=\"\",\"\",IF(COUNTIF(E:E,E1267)>1,IF(COUNTIF(E$6:E1267,E1267)=1,\"\",\"YES\"),\"\"))","v":""},"",""]
[null,null,null,null,null,null,{"$f":"IF(E1268=\"\",\"\",IF(COUNTIF(E:E,E1268)>1,IF(COUNTIF(E$6:E1268,E1268)=1,\"\",\"YES\"),\"\"))","v":""},"",""]
[null,null,null,null,null,null,{"$f":"IF(E1269=\"\",\"\",IF(COUNTIF(E:E,E1269)>1,IF(COUNTIF(E$6:E1269,E1269)=1,\"\",\"YES\"),\"\"))","v":""},"",""]
[null,null,null,null,null,null,{"$f":"IF(E1270=\"\",\"\",IF(COUNTIF(E:E,E1270)>1,IF(COUNTIF(E$6:E1270,E1270)=1,\"\",\"YES\"),\"\"))","v":""},"",""]
[null,null,null,null,null,null,{"$f":"IF(E1271=\"\",\"\",IF(COUNTIF(E:E,E1271)>1,IF(COUNTIF(E$6:E1271,E1271)=1,\"\",\"YES\"),\"\"))","v":""},"",""]
[null,null,null,null,null,null,{"$f":"IF(E1272=\"\",\"\",IF(COUNTIF(E:E,E1272)>1,IF(COUNTIF(E$6:E1272,E1272)=1,\"\",\"YES\"),\"\"))","v":""},"",""]
[null,null,null,null,null,null,{"$f":"IF(E1273=\"\",\"\",IF(COUNTIF(E:E,E1273)>1,IF(COUNTIF(E$6:E1273,E1273)=1,\"\",\"YES\"),\"\"))","v":""},"",""]
[null,null,null,null,null,null,{"$f":"IF(E1274=\"\",\"\",IF(COUNTIF(E:E,E1274)>1,IF(COUNTIF(E$6:E1274,E1274)=1,\"\",\"YES\"),\"\"))","v":""},"",""]
[null,null,null,null,null,null,{"$f":"IF(E1275=\"\",\"\",IF(COUNTIF(E:E,E1275)>1,IF(COUNTIF(E$6:E1275,E1275)=1,\"\",\"YES\"),\"\"))","v":""},"",""]
[null,null,null,null,null,null,{"$f":"IF(E1276=\"\",\"\",IF(COUNTIF(E:E,E1276)>1,IF(COUNTIF(E$6:E1276,E1276)=1,\"\",\"YES\"),\"\"))","v":""},"",""]
[null,null,null,null,null,null,{"$f":"IF(E1277=\"\",\"\",IF(COUNTIF(E:E,E1277)>1,IF(COUNTIF(E$6:E1277,E1277)=1,\"\",\"YES\"),\"\"))","v":""},"",{"$f":"IF(B1277=\"\",\"\",IF(OR(G1277=\"YES\",H1277=\"EXPIRING\"),\"YES\",\"NO\"))","v":""}]
[null,null,null,null,null,null,{"$f":"IF(E1278=\"\",\"\",IF(COUNTIF(E:E,E1278)>1,IF(COUNTIF(E$6:E1278,E1278)=1,\"\",\"YES\"),\"\"))","v":""},"",""]
[null,null,null,null,null,null,{"$f":"IF(E1279=\"\",\"\",IF(COUNTIF(E:E,E1279)>1,IF(COUNTIF(E$6:E1279,E1279)=1,\"\",\"YES\"),\"\"))","v":""},"",""]
[null,null,null,null,null,null,{"$f":"IF(E1280=\"\",\"\",IF(COUNTIF(E:E,E1280)>1,IF(COUNTIF(E$6:E1280,E1280)=1,\"\",\"YES\"),\"\"))","v":""},"",""]
[null,null,null,null,null,null,{"$f":"IF(E1281=\"\",\"\",IF(COUNTIF(E:E,E1281)>1,IF(COUNTIF(E$6:E1281,E1281)=1,\"\",\"YES\"),\"\"))","v":""},"",""]
[null,null,null,null,null,null,{"$f":"IF(E1282=\"\",\"\",IF(COUNTIF(E:E,E1282)>1,IF(COUNTIF(E$6:E1282,E1282)=1,\"\",\"YES\"),\"\"))","v":""},"",""]
[null,null,null,null,null,null,{"$f":"IF(E1283=\"\",\"\",IF(COUNTIF(E:E,E1283)>1,IF(COUNTIF(E$6:E1283,E1283)=1,\"\",\"YES\"),\"\"))","v":""},"",""]
[null,null,null,null,null,null,{"$f":"IF(E1284=\"\",\"\",IF(COUNTIF(E:E,E1284)>1,IF(COUNTIF(E$6:E1284,E1284)=1,\"\",\"YES\"),\"\"))","v":""},"",""]
[null,null,null,null,null,null,{"$f":"IF(E1285=\"\",\"\",IF(COUNTIF(E:E,E1285)>1,IF(COUNTIF(E$6:E1285,E1285)=1,\"\",\"YES\"),\"\"))","v":""},"",""]
[null,null,null,null,null,null,{"$f":"IF(E1286=\"\",\"\",IF(COUNTIF(E:E,E1286)>1,IF(COUNTIF(E$6:E1286,E1286)=1,\"\",\"YES\"),\"\"))","v":""},"",""]
[null,null,null,null,null,null,{"$f":"IF(E1287=\"\",\"\",IF(COUNTIF(E:E,E1287)>1,IF(COUNTIF(E$6:E1287,E1287)=1,\"\",\"YES\"),\"\"))","v":""},"",""]
[null,null,null,null,null,null,{"$f":"IF(E1288=\"\",\"\",IF(COUNTIF(E:E,E1288)>1,IF(COUNTIF(E$6:E1288,E1288)=1,\"\",\"YES\"),\"\"))","v":""},"",""]
[null,null,null,null,null,null,{"$f":"IF(E1289=\"\",\"\",IF(COUNTIF(E:E,E1289)>1,IF(COUNTIF(E$6:E1289,E1289)=1,\"\",\"YES\"),\"\"))","v":""},"",""]
[null,null,null,null,null,null,{"$f":"IF(E1290=\"\",\"\",IF(COUNTIF(E:E,E1290)>1,IF(COUNTIF(E$6:E1290,E1290)=1,\"\",\"YES\"),\"\"))","v":""},"",""]
[null,null,null,null,null,null,{"$f":"IF(E1291=\"\",\"\",IF(COUNTIF(E:E,E1291)>1,IF(COUNTIF(E$6:E1291,E1291)=1,\"\",\"YES\"),\"\"))","v":""},"",""]
[null,null,null,null,null,null,{"$f":"IF(E1292=\"\",\"\",IF(COUNTIF(E:E,E1292)>1,IF(COUNTIF(E$6:E1292,E1292)=1,\"\",\"YES\"),\"\"))","v":""},"",""]
[null,null,null,null,null,null,{"$f":"IF(E1293=\"\",\"\",IF(COUNTIF(E:E,E1293)>1,IF(COUNTIF(E$6:E1293,E1293)=1,\"\",\"YES\"),\"\"))","v":""},"",""]
[null,null,null,null,null,null,{"$f":"IF(E1294=\"\",\"\",IF(COUNTIF(E:E,E1294)>1,IF(COUNTIF(E$6:E1294,E1294)=1,\"\",\"YES\"),\"\"))","v":""},"",""]
[null,null,null,null,null,null,{"$f":"IF(E1295=\"\",\"\",IF(COUNTIF(E:E,E1295)>1,IF(COUNTIF(E$6:E1295,E1295)=1,\"\",\"YES\"),\"\"))","v":""},"",""]
[null,null,null,null,null,null,{"$f":"IF(E1296=\"\",\"\",IF(COUNTIF(E:E,E1296)>1,IF(COUNTIF(E$6:E1296,E1296)=1,\"\",\"YES\"),\"\"))","v":""},"",""]
[null,null,null,null,null,null,{"$f":"IF(E1297=\"\",\"\",IF(COUNTIF(E:E,E1297)>1,IF(COUNTIF(E$6:E1297,E1297)=1,\"\",\"YES\"),\"\"))","v":""},"",""]
[null,null,null,null,null,null,{"$f":"IF(E1298=\"\",\"\",IF(COUNTIF(E:E,E1298)>1,IF(COUNTIF(E$6:E1298,E1298)=1,\"\",\"YES\"),\"\"))","v":""},"",""]
[null,null,null,null,null,null,{"$f":"IF(E1299=\"\",\"\",IF(COUNTIF(E:E,E1299)>1,IF(COUNTIF(E$6:E1299,E1299)=1,\"\",\"YES\"),\"\"))","v":""},"",""]
[null,null,null,null,null,null,{"$f":"IF(E1300=\"\",\"\",IF(COUNTIF(E:E,E1300)>1,IF(COUNTIF(E$6:E1300,E1300)=1,\"\",\"YES\"),\"\"))","v":""},"",""]
[null,null,null,null,null,null,{"$f":"IF(E1301=\"\",\"\",IF(COUNTIF(E:E,E1301)>1,IF(COUNTIF(E$6:E1301,E1301)=1,\"\",\"YES\"),\"\"))","v":""},"",""]
[null,null,null,null,null,null,{"$f":"IF(E1302=\"\",\"\",IF(COUNTIF(E:E,E1302)>1,IF(COUNTIF(E$6:E1302,E1302)=1,\"\",\"YES\"),\"\"))","v":""},"",""]
[null,null,null,null,null,null,{"$f":"IF(E1303=\"\",\"\",IF(COUNTIF(E:E,E1303)>1,IF(COUNTIF(E$6:E1303,E1303)=1,\"\",\"YES\"),\"\"))","v":""},"",""]
[null,null,null,null,null,null,{"$f":"IF(E1304=\"\",\"\",IF(COUNTIF(E:E,E1304)>1,IF(COUNTIF(E$6:E1304,E1304)=1,\"\",\"YES\"),\"\"))","v":""},"",""]
[null,null,null,null,null,null,{"$f":"IF(E1305=\"\",\"\",IF(COUNTIF(E:E,E1305)>1,IF(COUNTIF(E$6:E1305,E1305)=1,\"\",\"YES\"),\"\"))","v":""},"",""]
[null,null,null,null,null,null,{"$f":"IF(E1306=\"\",\"\",IF(COUNTIF(E:E,E1306)>1,IF(COUNTIF(E$6:E1306,E1306)=1,\"\",\"YES\"),\"\"))","v":""},"",""]
[null,null,null,null,null,null,{"$f":"IF(E1307=\"\",\"\",IF(COUNTIF(E:E,E1307)>1,IF(COUNTIF(E$6:E1307,E1307)=1,\"\",\"YES\"),\"\"))","v":""},"",""]
[null,null,null,null,null,null,{"$f":"IF(E1308=\"\",\"\",IF(COUNTIF(E:E,E1308)>1,IF(COUNTIF(E$6:E1308,E1308)=1,\"\",\"YES\"),\"\"))","v":""},"",""]
[null,null,null,null,null,null,{"$f":"IF(E1309=\"\",\"\",IF(COUNTIF(E:E,E1309)>1,IF(COUNTIF(E$6:E1309,E1309)=1,\"\",\"YES\"),\"\"))","v":""},{"$f":"IF(B1309=\"\",\"\", IF(VALUE(LEFT(B1309,1))=A$1,\"\",IF(AND(A$2=\"Yes\",VALUE(LEFT(B1309))<A$1),\"Expiring\",\"\")))","v":""},""]
[null,null,null,null,null,null,{"$f":"IF(E1310=\"\",\"\",IF(COUNTIF(E:E,E1310)>1,IF(COUNTIF(E$6:E1310,E1310)=1,\"\",\"YES\"),\"\"))","v":""},"",""]
[null,null,null,null,null,null,{"$f":"IF(E1311=\"\",\"\",IF(COUNTIF(E:E,E1311)>1,IF(COUNTIF(E$6:E1311,E1311)=1,\"\",\"YES\"),\"\"))","v":""},"",""]
[null,null,null,null,null,null,{"$f":"IF(E1312=\"\",\"\",IF(COUNTIF(E:E,E1312)>1,IF(COUNTIF(E$6:E1312,E1312)=1,\"\",\"YES\"),\"\"))","v":""},"",""]
[null,null,null,null,null,null,{"$f":"IF(E1313=\"\",\"\",IF(COUNTIF(E:E,E1313)>1,IF(COUNTIF(E$6:E1313,E1313)=1,\"\",\"YES\"),\"\"))","v":""},"",""]
[null,null,null,null,null,null,{"$f":"IF(E1314=\"\",\"\",IF(COUNTIF(E:E,E1314)>1,IF(COUNTIF(E$6:E1314,E1314)=1,\"\",\"YES\"),\"\"))","v":""},"",""]
[null,null,null,null,null,null,{"$f":"IF(E1315=\"\",\"\",IF(COUNTIF(E:E,E1315)>1,IF(COUNTIF(E$6:E1315,E1315)=1,\"\",\"YES\"),\"\"))","v":""},"",""]
[null,null,null,null,null,null,{"$f":"IF(E1316=\"\",\"\",IF(COUNTIF(E:E,E1316)>1,IF(COUNTIF(E$6:E1316,E1316)=1,\"\",\"YES\"),\"\"))","v":""},"",""]
[null,null,null,null,null,null,{"$f":"IF(E1317=\"\",\"\",IF(COUNTIF(E:E,E1317)>1,IF(COUNTIF(E$6:E1317,E1317)=1,\"\",\"YES\"),\"\"))","v":""},"",""]
[null,null,null,null,null,null,{"$f":"IF(E1318=\"\",\"\",IF(COUNTIF(E:E,E1318)>1,IF(COUNTIF(E$6:E1318,E1318)=1,\"\",\"YES\"),\"\"))","v":""},"",""]
[null,null,null,null,null,null,{"$f":"IF(E1319=\"\",\"\",IF(COUNTIF(E:E,E1319)>1,IF(COUNTIF(E$6:E1319,E1319)=1,\"\",\"YES\"),\"\"))","v":""},"",""]
[null,null,null,null,null,null,{"$f":"IF(E1320=\"\",\"\",IF(COUNTIF(E:E,E1320)>1,IF(COUNTIF(E$6:E1320,E1320)=1,\"\",\"YES\"),\"\"))","v":""},"",""]
[null,null,null,null,null,null,{"$f":"IF(E1321=\"\",\"\",IF(COUNTIF(E:E,E1321)>1,IF(COUNTIF(E$6:E1321,E1321)=1,\"\",\"YES\"),\"\"))","v":""},"",""]
[null,null,null,null,null,null,{"$f":"IF(E1322=\"\",\"\",IF(COUNTIF(E:E,E1322)>1,IF(COUNTIF(E$6:E1322,E1322)=1,\"\",\"YES\"),\"\"))","v":""},"",""]
[null,null,null,null,null,null,{"$f":"IF(E1323=\"\",\"\",IF(COUNTIF(E:E,E1323)>1,IF(COUNTIF(E$6:E1323,E1323)=1,\"\",\"YES\"),\"\"))","v":""},"",""]
[null,null,null,null,null,null,{"$f":"IF(E1324=\"\",\"\",IF(COUNTIF(E:E,E1324)>1,IF(COUNTIF(E$6:E1324,E1324)=1,\"\",\"YES\"),\"\"))","v":""},"",""]
[null,null,null,null,null,null,{"$f":"IF(E1325=\"\",\"\",IF(COUNTIF(E:E,E1325)>1,IF(COUNTIF(E$6:E1325,E1325)=1,\"\",\"YES\"),\"\"))","v":""},"",""]
[null,null,null,null,null,null,{"$f":"IF(E1326=\"\",\"\",IF(COUNTIF(E:E,E1326)>1,IF(COUNTIF(E$6:E1326,E1326)=1,\"\",\"YES\"),\"\"))","v":""},"",""]
[null,null,null,null,null,null,{"$f":"IF(E1327=\"\",\"\",IF(COUNTIF(E:E,E1327)>1,IF(COUNTIF(E$6:E1327,E1327)=1,\"\",\"YES\"),\"\"))","v":""},"",""]
[null,null,null,null,null,null,{"$f":"IF(E1328=\"\",\"\",IF(COUNTIF(E:E,E1328)>1,IF(COUNTIF(E$6:E1328,E1328)=1,\"\",\"YES\"),\"\"))","v":""},"",""]
[null,null,null,null,null,null,{"$f":"IF(E1329=\"\",\"\",IF(COUNTIF(E:E,E1329)>1,IF(COUNTIF(E$6:E1329,E1329)=1,\"\",\"YES\"),\"\"))","v":""},"",""]
[null,null,null,null,null,null,{"$f":"IF(E1330=\"\",\"\",IF(COUNTIF(E:E,E1330)>1,IF(COUNTIF(E$6:E1330,E1330)=1,\"\",\"YES\"),\"\"))","v":""},"",""]
[null,null,null,null,null,null,{"$f":"IF(E1331=\"\",\"\",IF(COUNTIF(E:E,E1331)>1,IF(COUNTIF(E$6:E1331,E1331)=1,\"\",\"YES\"),\"\"))","v":""},"",""]
[null,null,null,null,null,null,{"$f":"IF(E1332=\"\",\"\",IF(COUNTIF(E:E,E1332)>1,IF(COUNTIF(E$6:E1332,E1332)=1,\"\",\"YES\"),\"\"))","v":""},"",""]
[null,null,null,null,null,null,{"$f":"IF(E1333=\"\",\"\",IF(COUNTIF(E:E,E1333)>1,IF(COUNTIF(E$6:E1333,E1333)=1,\"\",\"YES\"),\"\"))","v":""},"",""]
[null,null,null,null,null,null,{"$f":"IF(E1334=\"\",\"\",IF(COUNTIF(E:E,E1334)>1,IF(COUNTIF(E$6:E1334,E1334)=1,\"\",\"YES\"),\"\"))","v":""},"",""]
[null,null,null,null,null,null,{"$f":"IF(E1335=\"\",\"\",IF(COUNTIF(E:E,E1335)>1,IF(COUNTIF(E$6:E1335,E1335)=1,\"\",\"YES\"),\"\"))","v":""},"",""]
[null,null,null,null,null,null,{"$f":"IF(E1336=\"\",\"\",IF(COUNTIF(E:E,E1336)>1,IF(COUNTIF(E$6:E1336,E1336)=1,\"\",\"YES\"),\"\"))","v":""},"",""]
[null,null,null,null,null,null,{"$f":"IF(E1337=\"\",\"\",IF(COUNTIF(E:E,E1337)>1,IF(COUNTIF(E$6:E1337,E1337)=1,\"\",\"YES\"),\"\"))","v":""},"",""]
[null,null,null,null,null,null,{"$f":"IF(E1338=\"\",\"\",IF(COUNTIF(E:E,E1338)>1,IF(COUNTIF(E$6:E1338,E1338)=1,\"\",\"YES\"),\"\"))","v":""},"",""]
[null,null,null,null,null,null,{"$f":"IF(E1339=\"\",\"\",IF(COUNTIF(E:E,E1339)>1,IF(COUNTIF(E$6:E1339,E1339)=1,\"\",\"YES\"),\"\"))","v":""},"",""]
[null,null,null,null,null,null,{"$f":"IF(E1340=\"\",\"\",IF(COUNTIF(E:E,E1340)>1,IF(COUNTIF(E$6:E1340,E1340)=1,\"\",\"YES\"),\"\"))","v":""},"",""]
[null,null,null,null,null,null,{"$f":"IF(E1341=\"\",\"\",IF(COUNTIF(E:E,E1341)>1,IF(COUNTIF(E$6:E1341,E1341)=1,\"\",\"YES\"),\"\"))","v":""},"",{"$f":"IF(B1341=\"\",\"\",IF(OR(G1341=\"YES\",H1341=\"EXPIRING\"),\"YES\",\"NO\"))","v":""}]
[null,null,null,null,null,null,{"$f":"IF(E1342=\"\",\"\",IF(COUNTIF(E:E,E1342)>1,IF(COUNTIF(E$6:E1342,E1342)=1,\"\",\"YES\"),\"\"))","v":""},"",""]
[null,null,null,null,null,null,{"$f":"IF(E1343=\"\",\"\",IF(COUNTIF(E:E,E1343)>1,IF(COUNTIF(E$6:E1343,E1343)=1,\"\",\"YES\"),\"\"))","v":""},"",""]
[null,null,null,null,null,null,{"$f":"IF(E1344=\"\",\"\",IF(COUNTIF(E:E,E1344)>1,IF(COUNTIF(E$6:E1344,E1344)=1,\"\",\"YES\"),\"\"))","v":""},"",""]
[null,null,null,null,null,null,{"$f":"IF(E1345=\"\",\"\",IF(COUNTIF(E:E,E1345)>1,IF(COUNTIF(E$6:E1345,E1345)=1,\"\",\"YES\"),\"\"))","v":""},"",""]
[null,null,null,null,null,null,{"$f":"IF(E1346=\"\",\"\",IF(COUNTIF(E:E,E1346)>1,IF(COUNTIF(E$6:E1346,E1346)=1,\"\",\"YES\"),\"\"))","v":""},"",""]
[null,null,null,null,null,null,{"$f":"IF(E1347=\"\",\"\",IF(COUNTIF(E:E,E1347)>1,IF(COUNTIF(E$6:E1347,E1347)=1,\"\",\"YES\"),\"\"))","v":""},"",""]
[null,null,null,null,null,null,{"$f":"IF(E1348=\"\",\"\",IF(COUNTIF(E:E,E1348)>1,IF(COUNTIF(E$6:E1348,E1348)=1,\"\",\"YES\"),\"\"))","v":""},"",""]
[null,null,null,null,null,null,{"$f":"IF(E1349=\"\",\"\",IF(COUNTIF(E:E,E1349)>1,IF(COUNTIF(E$6:E1349,E1349)=1,\"\",\"YES\"),\"\"))","v":""},"",""]
[null,null,null,null,null,null,{"$f":"IF(E1350=\"\",\"\",IF(COUNTIF(E:E,E1350)>1,IF(COUNTIF(E$6:E1350,E1350)=1,\"\",\"YES\"),\"\"))","v":""},"",""]
[null,null,null,null,null,null,{"$f":"IF(E1351=\"\",\"\",IF(COUNTIF(E:E,E1351)>1,IF(COUNTIF(E$6:E1351,E1351)=1,\"\",\"YES\"),\"\"))","v":""},"",""]
[null,null,null,null,null,null,{"$f":"IF(E1352=\"\",\"\",IF(COUNTIF(E:E,E1352)>1,IF(COUNTIF(E$6:E1352,E1352)=1,\"\",\"YES\"),\"\"))","v":""},"",""]
[null,null,null,null,null,null,{"$f":"IF(E1353=\"\",\"\",IF(COUNTIF(E:E,E1353)>1,IF(COUNTIF(E$6:E1353,E1353)=1,\"\",\"YES\"),\"\"))","v":""},"",""]
[null,null,null,null,null,null,{"$f":"IF(E1354=\"\",\"\",IF(COUNTIF(E:E,E1354)>1,IF(COUNTIF(E$6:E1354,E1354)=1,\"\",\"YES\"),\"\"))","v":""},"",""]
[null,null,null,null,null,null,{"$f":"IF(E1355=\"\",\"\",IF(COUNTIF(E:E,E1355)>1,IF(COUNTIF(E$6:E1355,E1355)=1,\"\",\"YES\"),\"\"))","v":""},"",""]
[null,null,null,null,null,null,{"$f":"IF(E1356=\"\",\"\",IF(COUNTIF(E:E,E1356)>1,IF(COUNTIF(E$6:E1356,E1356)=1,\"\",\"YES\"),\"\"))","v":""},"",""]
[null,null,null,null,null,null,{"$f":"IF(E1357=\"\",\"\",IF(COUNTIF(E:E,E1357)>1,IF(COUNTIF(E$6:E1357,E1357)=1,\"\",\"YES\"),\"\"))","v":""},"",""]
[null,null,null,null,null,null,{"$f":"IF(E1358=\"\",\"\",IF(COUNTIF(E:E,E1358)>1,IF(COUNTIF(E$6:E1358,E1358)=1,\"\",\"YES\"),\"\"))","v":""},"",""]
[null,null,null,null,null,null,{"$f":"IF(E1359=\"\",\"\",IF(COUNTIF(E:E,E1359)>1,IF(COUNTIF(E$6:E1359,E1359)=1,\"\",\"YES\"),\"\"))","v":""},"",""]
[null,null,null,null,null,null,{"$f":"IF(E1360=\"\",\"\",IF(COUNTIF(E:E,E1360)>1,IF(COUNTIF(E$6:E1360,E1360)=1,\"\",\"YES\"),\"\"))","v":""},"",""]
[null,null,null,null,null,null,{"$f":"IF(E1361=\"\",\"\",IF(COUNTIF(E:E,E1361)>1,IF(COUNTIF(E$6:E1361,E1361)=1,\"\",\"YES\"),\"\"))","v":""},"",""]
[null,null,null,null,null,null,{"$f":"IF(E1362=\"\",\"\",IF(COUNTIF(E:E,E1362)>1,IF(COUNTIF(E$6:E1362,E1362)=1,\"\",\"YES\"),\"\"))","v":""},"",""]
[null,null,null,null,null,null,{"$f":"IF(E1363=\"\",\"\",IF(COUNTIF(E:E,E1363)>1,IF(COUNTIF(E$6:E1363,E1363)=1,\"\",\"YES\"),\"\"))","v":""},"",""]
[null,null,null,null,null,null,{"$f":"IF(E1364=\"\",\"\",IF(COUNTIF(E:E,E1364)>1,IF(COUNTIF(E$6:E1364,E1364)=1,\"\",\"YES\"),\"\"))","v":""},"",""]
[null,null,null,null,null,null,{"$f":"IF(E1365=\"\",\"\",IF(COUNTIF(E:E,E1365)>1,IF(COUNTIF(E$6:E1365,E1365)=1,\"\",\"YES\"),\"\"))","v":""},"",""]
[null,null,null,null,null,null,{"$f":"IF(E1366=\"\",\"\",IF(COUNTIF(E:E,E1366)>1,IF(COUNTIF(E$6:E1366,E1366)=1,\"\",\"YES\"),\"\"))","v":""},"",""]
[null,null,null,null,null,null,{"$f":"IF(E1367=\"\",\"\",IF(COUNTIF(E:E,E1367)>1,IF(COUNTIF(E$6:E1367,E1367)=1,\"\",\"YES\"),\"\"))","v":""},"",""]
[null,null,null,null,null,null,{"$f":"IF(E1368=\"\",\"\",IF(COUNTIF(E:E,E1368)>1,IF(COUNTIF(E$6:E1368,E1368)=1,\"\",\"YES\"),\"\"))","v":""},"",""]
[null,null,null,null,null,null,{"$f":"IF(E1369=\"\",\"\",IF(COUNTIF(E:E,E1369)>1,IF(COUNTIF(E$6:E1369,E1369)=1,\"\",\"YES\"),\"\"))","v":""},"",""]
[null,null,null,null,null,null,{"$f":"IF(E1370=\"\",\"\",IF(COUNTIF(E:E,E1370)>1,IF(COUNTIF(E$6:E1370,E1370)=1,\"\",\"YES\"),\"\"))","v":""},"",""]
[null,null,null,null,null,null,{"$f":"IF(E1371=\"\",\"\",IF(COUNTIF(E:E,E1371)>1,IF(COUNTIF(E$6:E1371,E1371)=1,\"\",\"YES\"),\"\"))","v":""},"",""]
[null,null,null,null,null,null,{"$f":"IF(E1372=\"\",\"\",IF(COUNTIF(E:E,E1372)>1,IF(COUNTIF(E$6:E1372,E1372)=1,\"\",\"YES\"),\"\"))","v":""},"",""]
[null,null,null,null,null,null,{"$f":"IF(E1373=\"\",\"\",IF(COUNTIF(E:E,E1373)>1,IF(COUNTIF(E$6:E1373,E1373)=1,\"\",\"YES\"),\"\"))","v":""},{"$f":"IF(B1373=\"\",\"\", IF(VALUE(LEFT(B1373,1))=A$1,\"\",IF(AND(A$2=\"Yes\",VALUE(LEFT(B1373))<A$1),\"Expiring\",\"\")))","v":""},""]
[null,null,null,null,null,null,{"$f":"IF(E1374=\"\",\"\",IF(COUNTIF(E:E,E1374)>1,IF(COUNTIF(E$6:E1374,E1374)=1,\"\",\"YES\"),\"\"))","v":""},"",""]
[null,null,null,null,null,null,{"$f":"IF(E1375=\"\",\"\",IF(COUNTIF(E:E,E1375)>1,IF(COUNTIF(E$6:E1375,E1375)=1,\"\",\"YES\"),\"\"))","v":""},"",""]
[null,null,null,null,null,null,{"$f":"IF(E1376=\"\",\"\",IF(COUNTIF(E:E,E1376)>1,IF(COUNTIF(E$6:E1376,E1376)=1,\"\",\"YES\"),\"\"))","v":""},"",""]
[null,null,null,null,null,null,{"$f":"IF(E1377=\"\",\"\",IF(COUNTIF(E:E,E1377)>1,IF(COUNTIF(E$6:E1377,E1377)=1,\"\",\"YES\"),\"\"))","v":""},"",""]
[null,null,null,null,null,null,{"$f":"IF(E1378=\"\",\"\",IF(COUNTIF(E:E,E1378)>1,IF(COUNTIF(E$6:E1378,E1378)=1,\"\",\"YES\"),\"\"))","v":""},"",""]
[null,null,null,null,null,null,{"$f":"IF(E1379=\"\",\"\",IF(COUNTIF(E:E,E1379)>1,IF(COUNTIF(E$6:E1379,E1379)=1,\"\",\"YES\"),\"\"))","v":""},"",""]
[null,null,null,null,null,null,{"$f":"IF(E1380=\"\",\"\",IF(COUNTIF(E:E,E1380)>1,IF(COUNTIF(E$6:E1380,E1380)=1,\"\",\"YES\"),\"\"))","v":""},"",""]
[null,null,null,null,null,null,{"$f":"IF(E1381=\"\",\"\",IF(COUNTIF(E:E,E1381)>1,IF(COUNTIF(E$6:E1381,E1381)=1,\"\",\"YES\"),\"\"))","v":""},"",""]
[null,null,null,null,null,null,{"$f":"IF(E1382=\"\",\"\",IF(COUNTIF(E:E,E1382)>1,IF(COUNTIF(E$6:E1382,E1382)=1,\"\",\"YES\"),\"\"))","v":""},"",""]
[null,null,null,null,null,null,{"$f":"IF(E1383=\"\",\"\",IF(COUNTIF(E:E,E1383)>1,IF(COUNTIF(E$6:E1383,E1383)=1,\"\",\"YES\"),\"\"))","v":""},"",""]
[null,null,null,null,null,null,{"$f":"IF(E1384=\"\",\"\",IF(COUNTIF(E:E,E1384)>1,IF(COUNTIF(E$6:E1384,E1384)=1,\"\",\"YES\"),\"\"))","v":""},"",""]
[null,null,null,null,null,null,{"$f":"IF(E1385=\"\",\"\",IF(COUNTIF(E:E,E1385)>1,IF(COUNTIF(E$6:E1385,E1385)=1,\"\",\"YES\"),\"\"))","v":""},"",""]
[null,null,null,null,null,null,{"$f":"IF(E1386=\"\",\"\",IF(COUNTIF(E:E,E1386)>1,IF(COUNTIF(E$6:E1386,E1386)=1,\"\",\"YES\"),\"\"))","v":""},"",""]
[null,null,null,null,null,null,{"$f":"IF(E1387=\"\",\"\",IF(COUNTIF(E:E,E1387)>1,IF(COUNTIF(E$6:E1387,E1387)=1,\"\",\"YES\"),\"\"))","v":""},"",""]
[null,null,null,null,null,null,{"$f":"IF(E1388=\"\",\"\",IF(COUNTIF(E:E,E1388)>1,IF(COUNTIF(E$6:E1388,E1388)=1,\"\",\"YES\"),\"\"))","v":""},"",""]
[null,null,null,null,null,null,{"$f":"IF(E1389=\"\",\"\",IF(COUNTIF(E:E,E1389)>1,IF(COUNTIF(E$6:E1389,E1389)=1,\"\",\"YES\"),\"\"))","v":""},"",""]
[null,null,null,null,null,null,{"$f":"IF(E1390=\"\",\"\",IF(COUNTIF(E:E,E1390)>1,IF(COUNTIF(E$6:E1390,E1390)=1,\"\",\"YES\"),\"\"))","v":""},"",""]
[null,null,null,null,null,null,{"$f":"IF(E1391=\"\",\"\",IF(COUNTIF(E:E,E1391)>1,IF(COUNTIF(E$6:E1391,E1391)=1,\"\",\"YES\"),\"\"))","v":""},"",""]
[null,null,null,null,null,null,{"$f":"IF(E1392=\"\",\"\",IF(COUNTIF(E:E,E1392)>1,IF(COUNTIF(E$6:E1392,E1392)=1,\"\",\"YES\"),\"\"))","v":""},"",""]
[null,null,null,null,null,null,{"$f":"IF(E1393=\"\",\"\",IF(COUNTIF(E:E,E1393)>1,IF(COUNTIF(E$6:E1393,E1393)=1,\"\",\"YES\"),\"\"))","v":""},"",""]
[null,null,null,null,null,null,{"$f":"IF(E1394=\"\",\"\",IF(COUNTIF(E:E,E1394)>1,IF(COUNTIF(E$6:E1394,E1394)=1,\"\",\"YES\"),\"\"))","v":""},"",""]
[null,null,null,null,null,null,{"$f":"IF(E1395=\"\",\"\",IF(COUNTIF(E:E,E1395)>1,IF(COUNTIF(E$6:E1395,E1395)=1,\"\",\"YES\"),\"\"))","v":""},"",""]
[null,null,null,null,null,null,{"$f":"IF(E1396=\"\",\"\",IF(COUNTIF(E:E,E1396)>1,IF(COUNTIF(E$6:E1396,E1396)=1,\"\",\"YES\"),\"\"))","v":""},"",""]
[null,null,null,null,null,null,{"$f":"IF(E1397=\"\",\"\",IF(COUNTIF(E:E,E1397)>1,IF(COUNTIF(E$6:E1397,E1397)=1,\"\",\"YES\"),\"\"))","v":""},"",""]
[null,null,null,null,null,null,{"$f":"IF(B1398=\"\",\"\",IF(COUNTIF(B:B,B1398)>1,IF(COUNTIF(B$6:B1398,B1398)=1,\"\",\"YES\"),\"\"))","v":""},"",""]
[null,null,null,null,null,null,{"$f":"IF(B1399=\"\",\"\",IF(COUNTIF(B:B,B1399)>1,IF(COUNTIF(B$6:B1399,B1399)=1,\"\",\"YES\"),\"\"))","v":""},"",""]
[null,null,null,null,null,null,{"$f":"IF(B1400=\"\",\"\",IF(COUNTIF(B:B,B1400)>1,IF(COUNTIF(B$6:B1400,B1400)=1,\"\",\"YES\"),\"\"))","v":""},"",""]
[null,null,null,null,null,null,{"$f":"IF(B1401=\"\",\"\",IF(COUNTIF(B:B,B1401)>1,IF(COUNTIF(B$6:B1401,B1401)=1,\"\",\"YES\"),\"\"))","v":""},"",""]

{"sheet":"Filter - non relevant ","index":5,"n_rows":6,"n_cols":10,"rows_kept":6,"cut":false,"hidden":false,"merged":[[2,1,2,4]]}
[1,1,{"$f":"Summary!B7","v":"Data Centre Management"},null,{"$f":"Summary!B6","v":"2018-05-23"},null,"Non Relevant",{"$f":"COUNTIF(F6:F9944,\"NO\")","v":0},"Relevant",{"$f":"COUNTIF(F6:F9944,\"YES\")","v":0}]
[1,1]
["Filter 2",null,null,null,null,null,"Suppliers",{"$f":"SUM(IF(FREQUENCY(IF(LEN(D7:D9944)>0,MATCH(D7:D9944,D7:D9944,0),\"\"), IF(LEN(D7:D9944)>0,MATCH(D7:D9944,D7:D9944,0),\"\"))>0,1))","v":0},"Services",{"$f":"SUM(IF(FREQUENCY(IF(LEN(C7:C9944)>0,MATCH(C7:C9944,C7:C9944,0),\"\"), IF(LEN(C7:C9944)>0,MATCH(C7:C9944,C7:C9944,0),\"\"))>0,1))","v":0}]
[1,1,1,null,1,1,1,1,1,1]
["Search Term","Cloud","Service Title","Supplier","Service ID","Relevant?","Rationale"]
["Search Term","Cloud","Service Title","Supplier","Service ID"]

{"sheet":"Step 2 - Filtered (Long List)","index":6,"n_rows":6,"n_cols":6,"rows_kept":6,"cut":false,"hidden":false,"merged":[[2,1,2,4]]}
["Step 2 - Filtered (Long List)","Long list",{"$f":"Summary!B7","v":"Data Centre Management"},null,{"$f":"Summary!B6","v":"2018-05-23"}]
[1,1,1]
["Step 2 - Filtered","The services that form the Long List",null,null,null,{"$f":"SUM(IF(FREQUENCY(IF(LEN(E6:E9998)>0,MATCH(E6:E9998,E6:E9998,0),\"\"), IF(LEN(E6:E9998)>0,MATCH(E6:E9998,E6:E9998,0),\"\"))>0,1))","v":1}]
[1,1,1]
["Search Term","Cloud","Service Title","Supplier","Service ID"]
["Azure, Amazon Web Services, \"Managed Cloud Infrastructure\"",9,"Managed Cloud Infrastructure","Vysiion",913495630981500]

{"sheet":"Qualify","index":7,"n_rows":797,"n_cols":16,"rows_kept":797,"cut":false,"hidden":false,"merged":[[2,0,2,1],[2,2,2,7],[3,7,3,13],[3,5,3,6]]}
[11,"Long list",{"$f":"Summary!B7","v":"Data Centre Management"},null,{"$f":"Summary!B6","v":"2018-05-23"},null,null,"Withdrawn?",{"$f":"COUNTIF(G6:G91,\"NO\")","v":0}]
[1]
["Qualify;Confirmed if service offered via the DMP, under G-Cloud, meets our technical, financial & legal checks, including key service criteria;",null,{"$f":"TRIM(ConcatUniq(H5:N5, \" \"))","v":""}]
[1,null,null,null,null,null,null,"TECHINICAL KNOCKOUTS"]
["Search Term","Cloud","Service Title","Supplier","Service ID","Qualified?","Replied?",null,null,null,null,null,null,null,"FVRA","Ts&Cs Review"]
["Azure, Amazon Web Services, \"Managed Cloud Infrastructure\"",9,"Managed Cloud Infrastructure","Vysiion",913495630981500,{"$f":"IF(C6=\"\",\"\",IF(COUNT(MATCH(\"NO\",G6:N6,0)),\"NO\",\"YES\"))","v":"YES"},"Yes"]
[null,null,null,null,null,""]
[null,null,null,null,null,""]
[null,null,null,null,null,""]
[null,null,null,null,null,""]
[null,null,null,null,null,""]
[null,null,null,null,null,""]
[null,null,null,null,null,""]
[null,null,null,null,null,""]
[null,null,null,null,null,""]
[null,null,null,null,null,""]
[null,null,null,null,null,{"$f":"IF(C17=\"\",\"\",IF(COUNT(MATCH(\"NO\",G17:N17,0)),\"NO\",\"YES\"))","v":""}]
[null,null,null,null,null,""]
[null,null,null,null,null,""]
[null,null,null,null,null,""]
[null,null,null,null,null,""]
[null,null,null,null,null,""]
[null,null,null,null,null,""]
[null,null,null,null,null,""]
[null,null,null,null,null,""]
[null,null,null,null,null,""]
[null,null,null,null,null,""]
[null,null,null,null,null,""]
[null,null,null,null,null,""]
[null,null,null,null,null,""]
[null,null,null,null,null,""]
[null,null,null,null,null,""]
[null,null,null,null,null,""]
[null,null,null,null,null,""]
[null,null,null,null,null,""]
[null,null,null,null,null,""]
[null,null,null,null,null,""]
[null,null,null,null,null,""]
[null,null,null,null,null,""]
[null,null,null,null,null,""]
[null,null,null,null,null,""]
[null,null,null,null,null,""]
[null,null,null,null,null,""]
[null,null,null,null,null,""]
[null,null,null,null,null,""]
[null,null,null,null,null,""]
[null,null,null,null,null,""]
[null,null,null,null,null,""]
[null,null,null,null,null,""]
[null,null,null,null,null,""]
[null,null,null,null,null,""]
[null,null,null,null,null,""]
[null,null,null,null,null,""]
[null,null,null,null,null,""]
[null,null,null,null,null,""]
[null,null,null,null,null,""]
[null,null,null,null,null,""]
[null,null,null,null,null,""]
[null,null,null,null,null,""]
[null,null,null,null,null,""]
[null,null,null,null,null,{"$f":"IF(C61=\"\",\"\",IF(COUNT(MATCH(\"NO\",G61:N61,0)),\"NO\",\"YES\"))","v":""}]
[null,null,null,null,null,""]
[null,null,null,null,null,""]
[null,null,null,null,null,""]
[null,null,null,null,null,""]
[null,null,null,null,null,""]
[null,null,null,null,null,""]
[null,null,null,null,null,""]
[null,null,null,null,null,""]
[null,null,null,null,null,""]
[null,null,null,null,null,""]
[null,null,null,null,null,""]
[null,null,null,null,null,""]
[null,null,null,null,null,""]
[null,null,null,null,null,""]
[null,null,null,null,null,""]
[null,null,null,null,null,""]
[null,null,null,null,null,""]
[null,null,null,null,null,""]
[null,null,null,null,null,""]
[null,null,null,null,null,""]
[null,null,null,null,null,""]
[null,null,null,null,null,""]
[null,null,null,null,null,""]
[null,null,null,null,null,""]
[null,null,null,null,null,""]
[null,null,null,null,null,""]
[null,null,null,null,null,""]
[null,null,null,null,null,""]
[null,null,null,null,null,""]
[null,null,null,null,null,""]
[null,null,null,null,null,""]
[null,null,null,null,null,""]
[null,null,null,null,null,""]
[null,null,null,null,null,""]
[null,null,null,null,null,""]
[null,null,null,null,null,""]
[null,null,null,null,null,""]
[null,null,null,null,null,""]
[null,null,null,null,null,""]
[null,null,null,null,null,""]
[null,null,null,null,null,""]
[null,null,null,null,null,""]
[null,null,null,null,null,""]
[null,null,null,null,null,""]
[null,null,null,null,null,""]
[null,null,null,null,null,""]
[null,null,null,null,null,""]
[null,null,null,null,null,""]
[null,null,null,null,null,""]
[null,null,null,null,null,""]
[null,null,null,null,null,""]
[null,null,null,null,null,""]
[null,null,null,null,null,""]
[null,null,null,null,null,""]
[null,null,null,null,null,""]
[null,null,null,null,null,""]
[null,null,null,null,null,""]
[null,null,null,null,null,""]
[null,null,null,null,null,""]
[null,null,null,null,null,""]
[null,null,null,null,null,""]
[null,null,null,null,null,""]
[null,null,null,null,null,""]
[null,null,null,null,null,{"$f":"IF(C125=\"\",\"\",IF(COUNT(MATCH(\"NO\",G125:N125,0)),\"NO\",\"YES\"))","v":""}]
[null,null,null,null,null,""]
[null,null,null,null,null,""]
[null,null,null,null,null,""]
[null,null,null,null,null,""]
[null,null,null,null,null,""]
[null,null,null,null,null,""]
[null,null,null,null,null,""]
[null,null,null,null,null,""]
[null,null,null,null,null,""]
[null,null,null,null,null,""]
[null,null,null,null,null,""]
[null,null,null,null,null,""]
[null,null,null,null,null,""]
[null,null,null,null,null,""]
[null,null,null,null,null,""]
[null,null,null,null,null,""]
[null,null,null,null,null,""]
[null,null,null,null,null,""]
[null,null,null,null,null,""]
[null,null,null,null,null,""]
[null,null,null,null,null,""]
[null,null,null,null,null,""]
[null,null,null,null,null,""]
[null,null,null,null,null,""]
[null,null,null,null,null,""]
[null,null,null,null,null,""]
[null,null,null,null,null,""]
[null,null,null,null,null,""]
[null,null,null,null,null,""]
[null,null,null,null,null,""]
[null,null,null,null,null,""]
[null,null,null,null,null,""]
[null,null,null,null,null,""]
[null,null,null,null,null,""]
[null,null,null,null,null,""]
[null,null,null,null,null,""]
[null,null,null,null,null,""]
[null,null,null,null,null,""]
[null,null,null,null,null,""]
[null,null,null,null,null,""]
[null,null,null,null,null,""]
[null,null,null,null,null,""]
[null,null,null,null,null,""]
[null,null,null,null,null,""]
[null,null,null,null,null,""]
[null,null,null,null,null,""]
[null,null,null,null,null,""]
[null,null,null,null,null,""]
[null,null,null,null,null,""]
[null,null,null,null,null,""]
[null,null,null,null,null,""]
[null,null,null,null,null,""]
[null,null,null,null,null,""]
[null,null,null,null,null,""]
[null,null,null,null,null,""]
[null,null,null,null,null,""]
[null,null,null,null,null,""]
[null,null,null,null,null,""]
[null,null,null,null,null,""]
[null,null,null,null,null,""]
[null,null,null,null,null,""]
[null,null,null,null,null,""]
[null,null,null,null,null,""]
[null,null,null,null,null,{"$f":"IF(C189=\"\",\"\",IF(COUNT(MATCH(\"NO\",G189:N189,0)),\"NO\",\"YES\"))","v":""}]
[null,null,null,null,null,""]
[null,null,null,null,null,""]
[null,null,null,null,null,""]
[null,null,null,null,null,""]
[null,null,null,null,null,""]
[null,null,null,null,null,""]
[null,null,null,null,null,""]
[null,null,null,null,null,""]
[null,null,null,null,null,""]
[null,null,null,null,null,""]
[null,null,null,null,null,""]
[null,null,null,null,null,""]
[null,null,null,null,null,""]
[null,null,null,null,null,""]
[null,null,null,null,null,""]
[null,null,null,null,null,""]
[null,null,null,null,null,""]
[null,null,null,null,null,""]
[null,null,null,null,null,""]
[null,null,null,null,null,""]
[null,null,null,null,null,""]
[null,null,null,null,null,""]
[null,null,null,null,null,""]
[null,null,null,null,null,""]
[null,null,null,null,null,""]
[null,null,null,null,null,""]
[null,null,null,null,null,""]
[null,null,null,null,null,""]
[null,null,null,null,null,""]
[null,null,null,null,null,""]
[null,null,null,null,null,""]
[null,null,null,null,null,""]
[null,null,null,null,null,""]
[null,null,null,null,null,""]
[null,null,null,null,null,""]
[null,null,null,null,null,""]
[null,null,null,null,null,""]
[null,null,null,null,null,""]
[null,null,null,null,null,""]
[null,null,null,null,null,""]
[null,null,null,null,null,""]
[null,null,null,null,null,""]
[null,null,null,null,null,""]
[null,null,null,null,null,""]
[null,null,null,null,null,""]
[null,null,null,null,null,""]
[null,null,null,null,null,""]
[null,null,null,null,null,""]
[null,null,null,null,null,""]
[null,null,null,null,null,""]
[null,null,null,null,null,""]
[null,null,null,null,null,""]
[null,null,null,null,null,""]
[null,null,null,null,null,""]
[null,null,null,null,null,""]
[null,null,null,null,null,""]
[null,null,null,null,null,""]
[null,null,null,null,null,""]
[null,null,null,null,null,""]
[null,null,null,null,null,""]
[null,null,null,null,null,""]
[null,null,null,null,null,""]
[null,null,null,null,null,""]
[null,null,null,null,null,{"$f":"IF(C253=\"\",\"\",IF(COUNT(MATCH(\"NO\",G253:N253,0)),\"NO\",\"YES\"))","v":""}]
[null,null,null,null,null,""]
[null,null,null,null,null,""]
[null,null,null,null,null,""]
[null,null,null,null,null,""]
[null,null,null,null,null,""]
[null,null,null,null,null,""]
[null,null,null,null,null,""]
[null,null,null,null,null,""]
[null,null,null,null,null,""]
[null,null,null,null,null,""]
[null,null,null,null,null,""]
[null,null,null,null,null,""]
[null,null,null,null,null,""]
[null,null,null,null,null,""]
[null,null,null,null,null,""]
[null,null,null,null,null,""]
[null,null,null,null,null,""]
[null,null,null,null,null,""]
[null,null,null,null,null,""]
[null,null,null,null,null,""]
[null,null,null,null,null,""]
[null,null,null,null,null,""]
[null,null,null,null,null,""]
[null,null,null,null,null,""]
[null,null,null,null,null,""]
[null,null,null,null,null,""]
[null,null,null,null,null,""]
[null,null,null,null,null,""]
[null,null,null,null,null,""]
[null,null,null,null,null,""]
[null,null,null,null,null,""]
[null,null,null,null,null,""]
[null,null,null,null,null,""]
[null,null,null,null,null,""]
[null,null,null,null,null,""]
[null,null,null,null,null,""]
[null,null,null,null,null,""]
[null,null,null,null,null,""]
[null,null,null,null,null,""]
[null,null,null,null,null,""]
[null,null,null,null,null,""]
[null,null,null,null,null,""]
[null,null,null,null,null,""]
[null,null,null,null,null,""]
[null,null,null,null,null,""]
[null,null,null,null,null,""]
[null,null,null,null,null,""]
[null,null,null,null,null,""]
[null,null,null,null,null,""]
[null,null,null,null,null,""]
[null,null,null,null,null,""]
[null,null,null,null,null,""]
[null,null,null,null,null,""]
[null,null,null,null,null,""]
[null,null,null,null,null,""]
[null,null,null,null,null,""]
[null,null,null,null,null,""]
[null,null,null,null,null,""]
[null,null,null,null,null,""]
[null,null,null,null,null,""]
[null,null,null,null,null,""]
[null,null,null,null,null,""]
[null,null,null,null,null,""]
[null,null,null,null,null,{"$f":"IF(C317=\"\",\"\",IF(COUNT(MATCH(\"NO\",G317:N317,0)),\"NO\",\"YES\"))","v":""}]
[null,null,null,null,null,""]
[null,null,null,null,null,""]
[null,null,null,null,null,""]
[null,null,null,null,null,""]
[null,null,null,null,null,""]
[null,null,null,null,null,""]
[null,null,null,null,null,""]
[null,null,null,null,null,""]
[null,null,null,null,null,""]
[null,null,null,null,null,""]
[null,null,null,null,null,""]
[null,null,null,null,null,""]
[null,null,null,null,null,""]
[null,null,null,null,null,""]
[null,null,null,null,null,""]
[null,null,null,null,null,""]
[null,null,null,null,null,""]
[null,null,null,null,null,""]
[null,null,null,null,null,""]
[null,null,null,null,null,""]
[null,null,null,null,null,""]
[null,null,null,null,null,""]
[null,null,null,null,null,""]
[null,null,null,null,null,""]
[null,null,null,null,null,""]
[null,null,null,null,null,""]
[null,null,null,null,null,""]
[null,null,null,null,null,""]
[null,null,null,null,null,""]
[null,null,null,null,null,""]
[null,null,null,null,null,""]
[null,null,null,null,null,""]
[null,null,null,null,null,""]
[null,null,null,null,null,""]
[null,null,null,null,null,""]
[null,null,null,null,null,""]
[null,null,null,null,null,""]
[null,null,null,null,null,""]
[null,null,null,null,null,""]
[null,null,null,null,null,""]
[null,null,null,null,null,""]
[null,null,null,null,null,""]
[null,null,null,null,null,""]
[null,null,null,null,null,""]
[null,null,null,null,null,""]
[null,null,null,null,null,""]
[null,null,null,null,null,""]
[null,null,null,null,null,""]
[null,null,null,null,null,""]
[null,null,null,null,null,""]
[null,null,null,null,null,""]
[null,null,null,null,null,""]
[null,null,null,null,null,""]
[null,null,null,null,null,""]
[null,null,null,null,null,""]
[null,null,null,null,null,""]
[null,null,null,null,null,""]
[null,null,null,null,null,""]
[null,null,null,null,null,""]
[null,null,null,null,null,""]
[null,null,null,null,null,""]
[null,null,null,null,null,""]
[null,null,null,null,null,""]
[null,null,null,null,null,{"$f":"IF(C381=\"\",\"\",IF(COUNT(MATCH(\"NO\",G381:N381,0)),\"NO\",\"YES\"))","v":""}]
[null,null,null,null,null,""]
[null,null,null,null,null,""]
[null,null,null,null,null,""]
[null,null,null,null,null,""]
[null,null,null,null,null,""]
[null,null,null,null,null,""]
[null,null,null,null,null,""]
[null,null,null,null,null,""]
[null,null,null,null,null,""]
[null,null,null,null,null,""]
[null,null,null,null,null,""]
[null,null,null,null,null,""]
[null,null,null,null,null,""]
[null,null,null,null,null,""]
[null,null,null,null,null,""]
[null,null,null,null,null,""]
[null,null,null,null,null,""]
[null,null,null,null,null,""]
[null,null,null,null,null,""]
[null,null,null,null,null,""]
[null,null,null,null,null,""]
[null,null,null,null,null,""]
[null,null,null,null,null,""]
[null,null,null,null,null,""]
[null,null,null,null,null,""]
[null,null,null,null,null,""]
[null,null,null,null,null,""]
[null,null,null,null,null,""]
[null,null,null,null,null,""]
[null,null,null,null,null,""]
[null,null,null,null,null,""]
[null,null,null,null,null,""]
[null,null,null,null,null,""]
[null,null,null,null,null,""]
[null,null,null,null,null,""]
[null,null,null,null,null,""]
[null,null,null,null,null,""]
[null,null,null,null,null,""]
[null,null,null,null,null,""]
[null,null,null,null,null,""]
[null,null,null,null,null,""]
[null,null,null,null,null,""]
[null,null,null,null,null,""]
[null,null,null,null,null,""]
[null,null,null,null,null,""]
[null,null,null,null,null,""]
[null,null,null,null,null,""]
[null,null,null,null,null,""]
[null,null,null,null,null,""]
[null,null,null,null,null,""]
[null,null,null,null,null,""]
[null,null,null,null,null,""]
[null,null,null,null,null,""]
[null,null,null,null,null,""]
[null,null,null,null,null,""]
[null,null,null,null,null,""]
[null,null,null,null,null,""]
[null,null,null,null,null,""]
[null,null,null,null,null,""]
[null,null,null,null,null,""]
[null,null,null,null,null,""]
[null,null,null,null,null,""]
[null,null,null,null,null,""]
[null,null,null,null,null,{"$f":"IF(C445=\"\",\"\",IF(COUNT(MATCH(\"NO\",G445:N445,0)),\"NO\",\"YES\"))","v":""}]
[null,null,null,null,null,""]
[null,null,null,null,null,""]
[null,null,null,null,null,""]
[null,null,null,null,null,""]
[null,null,null,null,null,""]
[null,null,null,null,null,""]
[null,null,null,null,null,""]
[null,null,null,null,null,""]
[null,null,null,null,null,""]
[null,null,null,null,null,""]
[null,null,null,null,null,""]
[null,null,null,null,null,""]
[null,null,null,null,null,""]
[null,null,null,null,null,""]
[null,null,null,null,null,""]
[null,null,null,null,null,""]
[null,null,null,null,null,""]
[null,null,null,null,null,""]
[null,null,null,null,null,""]
[null,null,null,null,null,""]
[null,null,null,null,null,""]
[null,null,null,null,null,""]
[null,null,null,null,null,""]
[null,null,null,null,null,""]
[null,null,null,null,null,""]
[null,null,null,null,null,""]
[null,null,null,null,null,""]
[null,null,null,null,null,""]
[null,null,null,null,null,""]
[null,null,null,null,null,""]
[null,null,null,null,null,""]
[null,null,null,null,null,""]
[null,null,null,null,null,""]
[null,null,null,null,null,""]
[null,null,null,null,null,""]
[null,null,null,null,null,""]
[null,null,null,null,null,""]
[null,null,null,null,null,""]
[null,null,null,null,null,""]
[null,null,null,null,null,""]
[null,null,null,null,null,""]
[null,null,null,null,null,""]
[null,null,null,null,null,""]
[null,null,null,null,null,""]
[null,null,null,null,null,""]
[null,null,null,null,null,""]
[null,null,null,null,null,""]
[null,null,null,null,null,""]
[null,null,null,null,null,""]
[null,null,null,null,null,""]
[null,null,null,null,null,""]
[null,null,null,null,null,""]
[null,null,null,null,null,""]
[null,null,null,null,null,""]
[null,null,null,null,null,""]
[null,null,null,null,null,""]
[null,null,null,null,null,""]
[null,null,null,null,null,""]
[null,null,null,null,null,""]
[null,null,null,null,null,""]
[null,null,null,null,null,""]
[null,null,null,null,null,""]
[null,null,null,null,null,""]
[null,null,null,null,null,{"$f":"IF(C509=\"\",\"\",IF(COUNT(MATCH(\"NO\",G509:N509,0)),\"NO\",\"YES\"))","v":""}]
[null,null,null,null,null,""]
[null,null,null,null,null,""]
[null,null,null,null,null,""]
[null,null,null,null,null,""]
[null,null,null,null,null,""]
[null,null,null,null,null,""]
[null,null,null,null,null,""]
[null,null,null,null,null,""]
[null,null,null,null,null,""]
[null,null,null,null,null,""]
[null,null,null,null,null,""]
[null,null,null,null,null,""]
[null,null,null,null,null,""]
[null,null,null,null,null,""]
[null,null,null,null,null,""]
[null,null,null,null,null,""]
[null,null,null,null,null,""]
[null,null,null,null,null,""]
[null,null,null,null,null,""]
[null,null,null,null,null,""]
[null,null,null,null,null,""]
[null,null,null,null,null,""]
[null,null,null,null,null,""]
[null,null,null,null,null,""]
[null,null,null,null,null,""]
[null,null,null,null,null,""]
[null,null,null,null,null,""]
[null,null,null,null,null,""]
[null,null,null,null,null,""]
[null,null,null,null,null,""]
[null,null,null,null,null,""]
[null,null,null,null,null,""]
[null,null,null,null,null,""]
[null,null,null,null,null,""]
[null,null,null,null,null,""]
[null,null,null,null,null,""]
[null,null,null,null,null,""]
[null,null,null,null,null,""]
[null,null,null,null,null,""]
[null,null,null,null,null,""]
[null,null,null,null,null,""]
[null,null,null,null,null,""]
[null,null,null,null,null,""]
[null,null,null,null,null,""]
[null,null,null,null,null,""]
[null,null,null,null,null,""]
[null,null,null,null,null,""]
[null,null,null,null,null,""]
[null,null,null,null,null,""]
[null,null,null,null,null,""]
[null,null,null,null,null,""]
[null,null,null,null,null,""]
[null,null,null,null,null,""]
[null,null,null,null,null,""]
[null,null,null,null,null,""]
[null,null,null,null,null,""]
[null,null,null,null,null,""]
[null,null,null,null,null,""]
[null,null,null,null,null,""]
[null,null,null,null,null,""]
[null,null,null,null,null,""]
[null,null,null,null,null,""]
[null,null,null,null,null,""]
[null,null,null,null,null,{"$f":"IF(C573=\"\",\"\",IF(COUNT(MATCH(\"NO\",G573:N573,0)),\"NO\",\"YES\"))","v":""}]
[null,null,null,null,null,""]
[null,null,null,null,null,""]
[null,null,null,null,null,""]
[null,null,null,null,null,""]
[null,null,null,null,null,""]
[null,null,null,null,null,""]
[null,null,null,null,null,""]
[null,null,null,null,null,""]
[null,null,null,null,null,""]
[null,null,null,null,null,""]
[null,null,null,null,null,""]
[null,null,null,null,null,""]
[null,null,null,null,null,""]
[null,null,null,null,null,""]
[null,null,null,null,null,""]
[null,null,null,null,null,""]
[null,null,null,null,null,""]
[null,null,null,null,null,""]
[null,null,null,null,null,""]
[null,null,null,null,null,""]
[null,null,null,null,null,""]
[null,null,null,null,null,""]
[null,null,null,null,null,""]
[null,null,null,null,null,""]
[null,null,null,null,null,""]
[null,null,null,null,null,""]
[null,null,null,null,null,""]
[null,null,null,null,null,""]
[null,null,null,null,null,""]
[null,null,null,null,null,""]
[null,null,null,null,null,""]
[null,null,null,null,null,""]
[null,null,null,null,null,""]
[null,null,null,null,null,""]
[null,null,null,null,null,""]
[null,null,null,null,null,""]
[null,null,null,null,null,""]
[null,null,null,null,null,""]
[null,null,null,null,null,""]
[null,null,null,null,null,""]
[null,null,null,null,null,""]
[null,null,null,null,null,""]
[null,null,null,null,null,""]
[null,null,null,null,null,""]
[null,null,null,null,null,""]
[null,null,null,null,null,""]
[null,null,null,null,null,""]
[null,null,null,null,null,""]
[null,null,null,null,null,""]
[null,null,null,null,null,""]
[null,null,null,null,null,""]
[null,null,null,null,null,""]
[null,null,null,null,null,""]
[null,null,null,null,null,""]
[null,null,null,null,null,""]
[null,null,null,null,null,""]
[null,null,null,null,null,""]
[null,null,null,null,null,""]
[null,null,null,null,null,""]
[null,null,null,null,null,""]
[null,null,null,null,null,""]
[null,null,null,null,null,""]
[null,null,null,null,null,""]
[null,null,null,null,null,{"$f":"IF(C637=\"\",\"\",IF(COUNT(MATCH(\"NO\",G637:N637,0)),\"NO\",\"YES\"))","v":""}]
[null,null,null,null,null,""]
[null,null,null,null,null,""]
[null,null,null,null,null,""]
[null,null,null,null,null,""]
[null,null,null,null,null,""]
[null,null,null,null,null,""]
[null,null,null,null,null,""]
[null,null,null,null,null,""]
[null,null,null,null,null,""]
[null,null,null,null,null,""]
[null,null,null,null,null,""]
[null,null,null,null,null,""]
[null,null,null,null,null,""]
[null,null,null,null,null,""]
[null,null,null,null,null,""]
[null,null,null,null,null,""]
[null,null,null,null,null,""]
[null,null,null,null,null,""]
[null,null,null,null,null,""]
[null,null,null,null,null,""]
[null,null,null,null,null,""]
[null,null,null,null,null,""]
[null,null,null,null,null,""]
[null,null,null,null,null,""]
[null,null,null,null,null,""]
[null,null,null,null,null,""]
[null,null,null,null,null,""]
[null,null,null,null,null,""]
[null,null,null,null,null,""]
[null,null,null,null,null,""]
[null,null,null,null,null,""]
[null,null,null,null,null,""]
[null,null,null,null,null,""]
[null,null,null,null,null,""]
[null,null,null,null,null,""]
[null,null,null,null,null,""]
[null,null,null,null,null,""]
[null,null,null,null,null,""]
[null,null,null,null,null,""]
[null,null,null,null,null,""]
[null,null,null,null,null,""]
[null,null,null,null,null,""]
[null,null,null,null,null,""]
[null,null,null,null,null,""]
[null,null,null,null,null,""]
[null,null,null,null,null,""]
[null,null,null,null,null,""]
[null,null,null,null,null,""]
[null,null,null,null,null,""]
[null,null,null,null,null,""]
[null,null,null,null,null,""]
[null,null,null,null,null,""]
[null,null,null,null,null,""]
[null,null,null,null,null,""]
[null,null,null,null,null,""]
[null,null,null,null,null,""]
[null,null,null,null,null,""]
[null,null,null,null,null,""]
[null,null,null,null,null,""]
[null,null,null,null,null,""]
[null,null,null,null,null,""]
[null,null,null,null,null,""]
[null,null,null,null,null,""]
[null,null,null,null,null,{"$f":"IF(C701=\"\",\"\",IF(COUNT(MATCH(\"NO\",G701:N701,0)),\"NO\",\"YES\"))","v":""}]
[null,null,null,null,null,""]
[null,null,null,null,null,""]
[null,null,null,null,null,""]
[null,null,null,null,null,""]
[null,null,null,null,null,""]
[null,null,null,null,null,""]
[null,null,null,null,null,""]
[null,null,null,null,null,""]
[null,null,null,null,null,""]
[null,null,null,null,null,""]
[null,null,null,null,null,""]
[null,null,null,null,null,""]
[null,null,null,null,null,""]
[null,null,null,null,null,""]
[null,null,null,null,null,""]
[null,null,null,null,null,""]
[null,null,null,null,null,""]
[null,null,null,null,null,""]
[null,null,null,null,null,""]
[null,null,null,null,null,""]
[null,null,null,null,null,""]
[null,null,null,null,null,""]
[null,null,null,null,null,""]
[null,null,null,null,null,""]
[null,null,null,null,null,""]
[null,null,null,null,null,""]
[null,null,null,null,null,""]
[null,null,null,null,null,""]
[null,null,null,null,null,""]
[null,null,null,null,null,""]
[null,null,null,null,null,""]
[null,null,null,null,null,""]
[null,null,null,null,null,""]
[null,null,null,null,null,""]
[null,null,null,null,null,""]
[null,null,null,null,null,""]
[null,null,null,null,null,""]
[null,null,null,null,null,""]
[null,null,null,null,null,""]
[null,null,null,null,null,""]
[null,null,null,null,null,""]
[null,null,null,null,null,""]
[null,null,null,null,null,""]
[null,null,null,null,null,""]
[null,null,null,null,null,""]
[null,null,null,null,null,""]
[null,null,null,null,null,""]
[null,null,null,null,null,""]
[null,null,null,null,null,""]
[null,null,null,null,null,""]
[null,null,null,null,null,""]
[null,null,null,null,null,""]
[null,null,null,null,null,""]
[null,null,null,null,null,""]
[null,null,null,null,null,""]
[null,null,null,null,null,""]
[null,null,null,null,null,""]
[null,null,null,null,null,""]
[null,null,null,null,null,""]
[null,null,null,null,null,""]
[null,null,null,null,null,""]
[null,null,null,null,null,""]
[null,null,null,null,null,""]
[null,null,null,null,null,{"$f":"IF(C765=\"\",\"\",IF(COUNT(MATCH(\"NO\",G765:N765,0)),\"NO\",\"YES\"))","v":""}]
[null,null,null,null,null,""]
[null,null,null,null,null,""]
[null,null,null,null,null,""]
[null,null,null,null,null,""]
[null,null,null,null,null,""]
[null,null,null,null,null,""]
[null,null,null,null,null,""]
[null,null,null,null,null,""]
[null,null,null,null,null,""]
[null,null,null,null,null,""]
[null,null,null,null,null,""]
[null,null,null,null,null,""]
[null,null,null,null,null,""]
[null,null,null,null,null,""]
[null,null,null,null,null,""]
[null,null,null,null,null,""]
[null,null,null,null,null,""]
[null,null,null,null,null,""]
[null,null,null,null,null,""]
[null,null,null,null,null,""]
[null,null,null,null,null,""]
[null,null,null,null,null,""]
[null,null,null,null,null,""]
[null,null,null,null,null,""]
[null,null,null,null,null,""]
[null,null,null,null,null,""]
[null,null,null,null,null,""]
[null,null,null,null,null,""]
[null,null,null,null,null,""]
[null,null,null,null,null,""]
[null,null,null,null,null,""]
[null,null,null,null,null,""]

{"sheet":"Step 3 - Qualified","index":8,"n_rows":6,"n_cols":7,"rows_kept":6,"cut":false,"hidden":false,"merged":[[2,1,2,4]]}
[null,"Qualified List",{"$f":"Summary!B7","v":"Data Centre Management"},null,{"$f":"Summary!B6","v":"2018-05-23"}]
[null,1,1,null,1]
["Step 3 - Qualified",1,null,null,null,{"$f":"SUM(IF(FREQUENCY(IF(LEN(E6:E100)>0,MATCH(E6:E100,E6:E100,0),\"\"), IF(LEN(E6:E100)>0,MATCH(E6:E100,E6:E100,0),\"\"))>0,1))","v":1},{"$f":"SUM(IF(FREQUENCY(IF(LEN(E6:E1001)>0,MATCH(E6:E1001,E6:E1001,0),\"\"), IF(LEN(E6:E1001)>0,MATCH(E6:E1001,E6:E1001,0),\"\"))>0,1))","v":1}]
[1,1]
[2,"Cloud","Service Name","Supplier","Service ID"]
[null,9,"Managed Cloud Infrastructure","Vysiion",913495630981500]